{"text_format":"1","workbook":"xlsx","n_sheets":3,"sheets":["Кэшфло","Параметры","График"],"not_rendered":{"charts":0,"images":0,"macros":1,"external_links":0,"defined_names":2,"comments":0,"pivot_tables":0},"unopened":[],"bounds":{"document_bytes":16777216,"sheet_cells":100000,"rows_first":2000,"rows_last":500,"rows_between":2000,"halvings":0,"cell_chars":16384,"cell_head_chars":4096},"cells_cut":0,"cells_raw":0,"read":"whole","date_system":"1900"}

{"sheet":"Кэшфло","index":0,"n_rows":594,"n_cols":3,"rows_kept":594,"cut":false,"hidden":true,"merged":[]}
["Сумма кредита",{"$f":"Параметры!C3-Параметры!C3*Параметры!C4","v":616853.28},{"$f":"COUNT(Кэшфло!A4:A112)/12","v":1}]
["Период","Кэшфло (аннуитет)"]
["Нуль",{"$f":"-(Кэшфло!$B$1+Параметры!C3*2.13%+5000+$B$1*0.8%-Параметры!C3*Параметры!C7)","v":-643211.82481999998}]
[1,{"$f":"IF(Кэшфло!$B$1*(Параметры!$C$6/800*(1+Параметры!$C$6/800)^Параметры!$C$5)/((1+Параметры!$C$6/800)^Параметры!$C$5-1)<(Параметры!$C$3-Параметры!$C$3*Параметры!$C$4)/Параметры!$C$5,(Параметры!$C$3-Параметры!$C$3*Параметры!$C$4)/Параметры!$C$5, Кэшфло!$B$1*(Параметры!$C$6/800*(1+Параметры!$C$6/800)^Параметры!$C$5)/((1+Параметры!$C$6/800)^Параметры!$C$5-1))","v":61970.366939637628}]
[{"$f":"IF(A4>=Параметры!$C$5,\"\",A4+1)","v":2},{"$f":"IF(A5<>\"\",IF(Кэшфло!$B$1*(Параметры!$C$6/800*(1+Параметры!$C$6/800)^Параметры!$C$5)/((1+Параметры!$C$6/800)^Параметры!$C$5-1)<(Параметры!$C$3-Параметры!$C$3*Параметры!$C$4)/Параметры!$C$5,(Параметры!$C$3-Параметры!$C$3*Параметры!$C$4)/Параметры!$C$5, Кэшфло!$B$1*(Параметры!$C$6/800*(1+Параметры!$C$6/800)^Параметры!$C$5)/((1+Параметры!$C$6/800)^Параметры!$C$5-1)),\"\")","v":61970.366939637628}]
[{"$f":"IF(A5>=Параметры!$C$5,\"\",A5+1)","v":3},{"$f":"IF(A6<>\"\",IF(Кэшфло!$B$1*(Параметры!$C$6/800*(1+Параметры!$C$6/800)^Параметры!$C$5)/((1+Параметры!$C$6/800)^Параметры!$C$5-1)<(Параметры!$C$3-Параметры!$C$3*Параметры!$C$4)/Параметры!$C$5,(Параметры!$C$3-Параметры!$C$3*Параметры!$C$4)/Параметры!$C$5, Кэшфло!$B$1*(Параметры!$C$6/800*(1+Параметры!$C$6/800)^Параметры!$C$5)/((1+Параметры!$C$6/800)^Параметры!$C$5-1)),\"\")","v":61970.366939637628}]
[{"$f":"IF(A6>=Параметры!$C$5,\"\",A6+1)","v":4},{"$f":"IF(A7<>\"\",IF(Кэшфло!$B$1*(Параметры!$C$6/800*(1+Параметры!$C$6/800)^Параметры!$C$5)/((1+Параметры!$C$6/800)^Параметры!$C$5-1)<(Параметры!$C$3-Параметры!$C$3*Параметры!$C$4)/Параметры!$C$5,(Параметры!$C$3-Параметры!$C$3*Параметры!$C$4)/Параметры!$C$5, Кэшфло!$B$1*(Параметры!$C$6/800*(1+Параметры!$C$6/800)^Параметры!$C$5)/((1+Параметры!$C$6/800)^Параметры!$C$5-1)),\"\")","v":61970.366939637628}]
[{"$f":"IF(A7>=Параметры!$C$5,\"\",A7+1)","v":5},{"$f":"IF(A8<>\"\",IF(Кэшфло!$B$1*(Параметры!$C$6/800*(1+Параметры!$C$6/800)^Параметры!$C$5)/((1+Параметры!$C$6/800)^Параметры!$C$5-1)<(Параметры!$C$3-Параметры!$C$3*Параметры!$C$4)/Параметры!$C$5,(Параметры!$C$3-Параметры!$C$3*Параметры!$C$4)/Параметры!$C$5, Кэшфло!$B$1*(Параметры!$C$6/800*(1+Параметры!$C$6/800)^Параметры!$C$5)/((1+Параметры!$C$6/800)^Параметры!$C$5-1)),\"\")","v":61970.366939637628}]
[{"$f":"IF(A8>=Параметры!$C$5,\"\",A8+1)","v":6},{"$f":"IF(A9<>\"\",IF(Кэшфло!$B$1*(Параметры!$C$6/800*(1+Параметры!$C$6/800)^Параметры!$C$5)/((1+Параметры!$C$6/800)^Параметры!$C$5-1)<(Параметры!$C$3-Параметры!$C$3*Параметры!$C$4)/Параметры!$C$5,(Параметры!$C$3-Параметры!$C$3*Параметры!$C$4)/Параметры!$C$5, Кэшфло!$B$1*(Параметры!$C$6/800*(1+Параметры!$C$6/800)^Параметры!$C$5)/((1+Параметры!$C$6/800)^Параметры!$C$5-1)),\"\")","v":61970.366939637628}]
[{"$f":"IF(A9>=Параметры!$C$5,\"\",A9+1)","v":7},{"$f":"IF(A10<>\"\",IF(Кэшфло!$B$1*(Параметры!$C$6/800*(1+Параметры!$C$6/800)^Параметры!$C$5)/((1+Параметры!$C$6/800)^Параметры!$C$5-1)<(Параметры!$C$3-Параметры!$C$3*Параметры!$C$4)/Параметры!$C$5,(Параметры!$C$3-Параметры!$C$3*Параметры!$C$4)/Параметры!$C$5, Кэшфло!$B$1*(Параметры!$C$6/800*(1+Параметры!$C$6/800)^Параметры!$C$5)/((1+Параметры!$C$6/800)^Параметры!$C$5-1)),\"\")","v":61970.366939637628}]
[{"$f":"IF(A10>=Параметры!$C$5,\"\",A10+1)","v":8},{"$f":"IF(A11<>\"\",IF(Кэшфло!$B$1*(Параметры!$C$6/800*(1+Параметры!$C$6/800)^Параметры!$C$5)/((1+Параметры!$C$6/800)^Параметры!$C$5-1)<(Параметры!$C$3-Параметры!$C$3*Параметры!$C$4)/Параметры!$C$5,(Параметры!$C$3-Параметры!$C$3*Параметры!$C$4)/Параметры!$C$5, Кэшфло!$B$1*(Параметры!$C$6/800*(1+Параметры!$C$6/800)^Параметры!$C$5)/((1+Параметры!$C$6/800)^Параметры!$C$5-1)),\"\")","v":61970.366939637628}]
[{"$f":"IF(A11>=Параметры!$C$5,\"\",A11+1)","v":9},{"$f":"IF(A12<>\"\",IF(Кэшфло!$B$1*(Параметры!$C$6/800*(1+Параметры!$C$6/800)^Параметры!$C$5)/((1+Параметры!$C$6/800)^Параметры!$C$5-1)<(Параметры!$C$3-Параметры!$C$3*Параметры!$C$4)/Параметры!$C$5,(Параметры!$C$3-Параметры!$C$3*Параметры!$C$4)/Параметры!$C$5, Кэшфло!$B$1*(Параметры!$C$6/800*(1+Параметры!$C$6/800)^Параметры!$C$5)/((1+Параметры!$C$6/800)^Параметры!$C$5-1)),\"\")","v":61970.366939637628}]
[{"$f":"IF(A12>=Параметры!$C$5,\"\",A12+1)","v":10},{"$f":"IF(A13<>\"\",IF(Кэшфло!$B$1*(Параметры!$C$6/800*(1+Параметры!$C$6/800)^Параметры!$C$5)/((1+Параметры!$C$6/800)^Параметры!$C$5-1)<(Параметры!$C$3-Параметры!$C$3*Параметры!$C$4)/Параметры!$C$5,(Параметры!$C$3-Параметры!$C$3*Параметры!$C$4)/Параметры!$C$5, Кэшфло!$B$1*(Параметры!$C$6/800*(1+Параметры!$C$6/800)^Параметры!$C$5)/((1+Параметры!$C$6/800)^Параметры!$C$5-1)),\"\")","v":61970.366939637628}]
[{"$f":"IF(A13>=Параметры!$C$5,\"\",A13+1)","v":11},{"$f":"IF(A14<>\"\",IF(Кэшфло!$B$1*(Параметры!$C$6/800*(1+Параметры!$C$6/800)^Параметры!$C$5)/((1+Параметры!$C$6/800)^Параметры!$C$5-1)<(Параметры!$C$3-Параметры!$C$3*Параметры!$C$4)/Параметры!$C$5,(Параметры!$C$3-Параметры!$C$3*Параметры!$C$4)/Параметры!$C$5, Кэшфло!$B$1*(Параметры!$C$6/800*(1+Параметры!$C$6/800)^Параметры!$C$5)/((1+Параметры!$C$6/800)^Параметры!$C$5-1)),\"\")","v":61970.366939637628}]
[{"$f":"IF(A14>=Параметры!$C$5,\"\",A14+1)","v":12},{"$f":"IF(A15<>\"\",IF(Кэшфло!$B$1*(Параметры!$C$6/800*(1+Параметры!$C$6/800)^Параметры!$C$5)/((1+Параметры!$C$6/800)^Параметры!$C$5-1)<(Параметры!$C$3-Параметры!$C$3*Параметры!$C$4)/Параметры!$C$5,(Параметры!$C$3-Параметры!$C$3*Параметры!$C$4)/Параметры!$C$5, Кэшфло!$B$1*(Параметры!$C$6/800*(1+Параметры!$C$6/800)^Параметры!$C$5)/((1+Параметры!$C$6/800)^Параметры!$C$5-1)),\"\")","v":61970.366939637628}]
[{"$f":"IF(A15>=Параметры!$C$5,\"\",A15+1)","v":""},{"$f":"IF(A16<>\"\",IF(Кэшфло!$B$1*(Параметры!$C$6/800*(1+Параметры!$C$6/800)^Параметры!$C$5)/((1+Параметры!$C$6/800)^Параметры!$C$5-1)<(Параметры!$C$3-Параметры!$C$3*Параметры!$C$4)/Параметры!$C$5,(Параметры!$C$3-Параметры!$C$3*Параметры!$C$4)/Параметры!$C$5, Кэшфло!$B$1*(Параметры!$C$6/800*(1+Параметры!$C$6/800)^Параметры!$C$5)/((1+Параметры!$C$6/800)^Параметры!$C$5-1)),\"\")","v":""}]
[{"$f":"IF(A16>=Параметры!$C$5,\"\",A16+1)","v":""},{"$f":"IF(A17<>\"\",IF(Кэшфло!$B$1*(Параметры!$C$6/800*(1+Параметры!$C$6/800)^Параметры!$C$5)/((1+Параметры!$C$6/800)^Параметры!$C$5-1)<(Параметры!$C$3-Параметры!$C$3*Параметры!$C$4)/Параметры!$C$5,(Параметры!$C$3-Параметры!$C$3*Параметры!$C$4)/Параметры!$C$5, Кэшфло!$B$1*(Параметры!$C$6/800*(1+Параметры!$C$6/800)^Параметры!$C$5)/((1+Параметры!$C$6/800)^Параметры!$C$5-1)),\"\")","v":""}]
[{"$f":"IF(A17>=Параметры!$C$5,\"\",A17+1)","v":""},{"$f":"IF(A18<>\"\",IF(Кэшфло!$B$1*(Параметры!$C$6/800*(1+Параметры!$C$6/800)^Параметры!$C$5)/((1+Параметры!$C$6/800)^Параметры!$C$5-1)<(Параметры!$C$3-Параметры!$C$3*Параметры!$C$4)/Параметры!$C$5,(Параметры!$C$3-Параметры!$C$3*Параметры!$C$4)/Параметры!$C$5, Кэшфло!$B$1*(Параметры!$C$6/800*(1+Параметры!$C$6/800)^Параметры!$C$5)/((1+Параметры!$C$6/800)^Параметры!$C$5-1)),\"\")","v":""}]
[{"$f":"IF(A18>=Параметры!$C$5,\"\",A18+1)","v":""},{"$f":"IF(A19<>\"\",IF(Кэшфло!$B$1*(Параметры!$C$6/800*(1+Параметры!$C$6/800)^Параметры!$C$5)/((1+Параметры!$C$6/800)^Параметры!$C$5-1)<(Параметры!$C$3-Параметры!$C$3*Параметры!$C$4)/Параметры!$C$5,(Параметры!$C$3-Параметры!$C$3*Параметры!$C$4)/Параметры!$C$5, Кэшфло!$B$1*(Параметры!$C$6/800*(1+Параметры!$C$6/800)^Параметры!$C$5)/((1+Параметры!$C$6/800)^Параметры!$C$5-1)),\"\")","v":""}]
[{"$f":"IF(A19>=Параметры!$C$5,\"\",A19+1)","v":""},{"$f":"IF(A20<>\"\",IF(Кэшфло!$B$1*(Параметры!$C$6/800*(1+Параметры!$C$6/800)^Параметры!$C$5)/((1+Параметры!$C$6/800)^Параметры!$C$5-1)<(Параметры!$C$3-Параметры!$C$3*Параметры!$C$4)/Параметры!$C$5,(Параметры!$C$3-Параметры!$C$3*Параметры!$C$4)/Параметры!$C$5, Кэшфло!$B$1*(Параметры!$C$6/800*(1+Параметры!$C$6/800)^Параметры!$C$5)/((1+Параметры!$C$6/800)^Параметры!$C$5-1)),\"\")","v":""}]
[{"$f":"IF(A20>=Параметры!$C$5,\"\",A20+1)","v":""},{"$f":"IF(A21<>\"\",IF(Кэшфло!$B$1*(Параметры!$C$6/800*(1+Параметры!$C$6/800)^Параметры!$C$5)/((1+Параметры!$C$6/800)^Параметры!$C$5-1)<(Параметры!$C$3-Параметры!$C$3*Параметры!$C$4)/Параметры!$C$5,(Параметры!$C$3-Параметры!$C$3*Параметры!$C$4)/Параметры!$C$5, Кэшфло!$B$1*(Параметры!$C$6/800*(1+Параметры!$C$6/800)^Параметры!$C$5)/((1+Параметры!$C$6/800)^Параметры!$C$5-1)),\"\")","v":""}]
[{"$f":"IF(A21>=Параметры!$C$5,\"\",A21+1)","v":""},{"$f":"IF(A22<>\"\",IF(Кэшфло!$B$1*(Параметры!$C$6/800*(1+Параметры!$C$6/800)^Параметры!$C$5)/((1+Параметры!$C$6/800)^Параметры!$C$5-1)<(Параметры!$C$3-Параметры!$C$3*Параметры!$C$4)/Параметры!$C$5,(Параметры!$C$3-Параметры!$C$3*Параметры!$C$4)/Параметры!$C$5, Кэшфло!$B$1*(Параметры!$C$6/800*(1+Параметры!$C$6/800)^Параметры!$C$5)/((1+Параметры!$C$6/800)^Параметры!$C$5-1)),\"\")","v":""}]
[{"$f":"IF(A22>=Параметры!$C$5,\"\",A22+1)","v":""},{"$f":"IF(A23<>\"\",IF(Кэшфло!$B$1*(Параметры!$C$6/800*(1+Параметры!$C$6/800)^Параметры!$C$5)/((1+Параметры!$C$6/800)^Параметры!$C$5-1)<(Параметры!$C$3-Параметры!$C$3*Параметры!$C$4)/Параметры!$C$5,(Параметры!$C$3-Параметры!$C$3*Параметры!$C$4)/Параметры!$C$5, Кэшфло!$B$1*(Параметры!$C$6/800*(1+Параметры!$C$6/800)^Параметры!$C$5)/((1+Параметры!$C$6/800)^Параметры!$C$5-1)),\"\")","v":""}]
[{"$f":"IF(A23>=Параметры!$C$5,\"\",A23+1)","v":""},{"$f":"IF(A24<>\"\",IF(Кэшфло!$B$1*(Параметры!$C$6/800*(1+Параметры!$C$6/800)^Параметры!$C$5)/((1+Параметры!$C$6/800)^Параметры!$C$5-1)<(Параметры!$C$3-Параметры!$C$3*Параметры!$C$4)/Параметры!$C$5,(Параметры!$C$3-Параметры!$C$3*Параметры!$C$4)/Параметры!$C$5, Кэшфло!$B$1*(Параметры!$C$6/800*(1+Параметры!$C$6/800)^Параметры!$C$5)/((1+Параметры!$C$6/800)^Параметры!$C$5-1)),\"\")","v":""}]
[{"$f":"IF(A24>=Параметры!$C$5,\"\",A24+1)","v":""},{"$f":"IF(A25<>\"\",IF(Кэшфло!$B$1*(Параметры!$C$6/800*(1+Параметры!$C$6/800)^Параметры!$C$5)/((1+Параметры!$C$6/800)^Параметры!$C$5-1)<(Параметры!$C$3-Параметры!$C$3*Параметры!$C$4)/Параметры!$C$5,(Параметры!$C$3-Параметры!$C$3*Параметры!$C$4)/Параметры!$C$5, Кэшфло!$B$1*(Параметры!$C$6/800*(1+Параметры!$C$6/800)^Параметры!$C$5)/((1+Параметры!$C$6/800)^Параметры!$C$5-1)),\"\")","v":""}]
[{"$f":"IF(A25>=Параметры!$C$5,\"\",A25+1)","v":""},{"$f":"IF(A26<>\"\",IF(Кэшфло!$B$1*(Параметры!$C$6/800*(1+Параметры!$C$6/800)^Параметры!$C$5)/((1+Параметры!$C$6/800)^Параметры!$C$5-1)<(Параметры!$C$3-Параметры!$C$3*Параметры!$C$4)/Параметры!$C$5,(Параметры!$C$3-Параметры!$C$3*Параметры!$C$4)/Параметры!$C$5, Кэшфло!$B$1*(Параметры!$C$6/800*(1+Параметры!$C$6/800)^Параметры!$C$5)/((1+Параметры!$C$6/800)^Параметры!$C$5-1)),\"\")","v":""}]
[{"$f":"IF(A26>=Параметры!$C$5,\"\",A26+1)","v":""},{"$f":"IF(A27<>\"\",IF(Кэшфло!$B$1*(Параметры!$C$6/800*(1+Параметры!$C$6/800)^Параметры!$C$5)/((1+Параметры!$C$6/800)^Параметры!$C$5-1)<(Параметры!$C$3-Параметры!$C$3*Параметры!$C$4)/Параметры!$C$5,(Параметры!$C$3-Параметры!$C$3*Параметры!$C$4)/Параметры!$C$5, Кэшфло!$B$1*(Параметры!$C$6/800*(1+Параметры!$C$6/800)^Параметры!$C$5)/((1+Параметры!$C$6/800)^Параметры!$C$5-1)),\"\")","v":""}]
[{"$f":"IF(A27>=Параметры!$C$5,\"\",A27+1)","v":""},{"$f":"IF(A28<>\"\",IF(Кэшфло!$B$1*(Параметры!$C$6/800*(1+Параметры!$C$6/800)^Параметры!$C$5)/((1+Параметры!$C$6/800)^Параметры!$C$5-1)<(Параметры!$C$3-Параметры!$C$3*Параметры!$C$4)/Параметры!$C$5,(Параметры!$C$3-Параметры!$C$3*Параметры!$C$4)/Параметры!$C$5, Кэшфло!$B$1*(Параметры!$C$6/800*(1+Параметры!$C$6/800)^Параметры!$C$5)/((1+Параметры!$C$6/800)^Параметры!$C$5-1)),\"\")","v":""}]
[{"$f":"IF(A28>=Параметры!$C$5,\"\",A28+1)","v":""},{"$f":"IF(A29<>\"\",IF(Кэшфло!$B$1*(Параметры!$C$6/800*(1+Параметры!$C$6/800)^Параметры!$C$5)/((1+Параметры!$C$6/800)^Параметры!$C$5-1)<(Параметры!$C$3-Параметры!$C$3*Параметры!$C$4)/Параметры!$C$5,(Параметры!$C$3-Параметры!$C$3*Параметры!$C$4)/Параметры!$C$5, Кэшфло!$B$1*(Параметры!$C$6/800*(1+Параметры!$C$6/800)^Параметры!$C$5)/((1+Параметры!$C$6/800)^Параметры!$C$5-1)),\"\")","v":""}]
[{"$f":"IF(A29>=Параметры!$C$5,\"\",A29+1)","v":""},{"$f":"IF(A30<>\"\",IF(Кэшфло!$B$1*(Параметры!$C$6/800*(1+Параметры!$C$6/800)^Параметры!$C$5)/((1+Параметры!$C$6/800)^Параметры!$C$5-1)<(Параметры!$C$3-Параметры!$C$3*Параметры!$C$4)/Параметры!$C$5,(Параметры!$C$3-Параметры!$C$3*Параметры!$C$4)/Параметры!$C$5, Кэшфло!$B$1*(Параметры!$C$6/800*(1+Параметры!$C$6/800)^Параметры!$C$5)/((1+Параметры!$C$6/800)^Параметры!$C$5-1)),\"\")","v":""}]
[{"$f":"IF(A30>=Параметры!$C$5,\"\",A30+1)","v":""},{"$f":"IF(A31<>\"\",IF(Кэшфло!$B$1*(Параметры!$C$6/800*(1+Параметры!$C$6/800)^Параметры!$C$5)/((1+Параметры!$C$6/800)^Параметры!$C$5-1)<(Параметры!$C$3-Параметры!$C$3*Параметры!$C$4)/Параметры!$C$5,(Параметры!$C$3-Параметры!$C$3*Параметры!$C$4)/Параметры!$C$5, Кэшфло!$B$1*(Параметры!$C$6/800*(1+Параметры!$C$6/800)^Параметры!$C$5)/((1+Параметры!$C$6/800)^Параметры!$C$5-1)),\"\")","v":""}]
[{"$f":"IF(A31>=Параметры!$C$5,\"\",A31+1)","v":""},{"$f":"IF(A32<>\"\",IF(Кэшфло!$B$1*(Параметры!$C$6/800*(1+Параметры!$C$6/800)^Параметры!$C$5)/((1+Параметры!$C$6/800)^Параметры!$C$5-1)<(Параметры!$C$3-Параметры!$C$3*Параметры!$C$4)/Параметры!$C$5,(Параметры!$C$3-Параметры!$C$3*Параметры!$C$4)/Параметры!$C$5, Кэшфло!$B$1*(Параметры!$C$6/800*(1+Параметры!$C$6/800)^Параметры!$C$5)/((1+Параметры!$C$6/800)^Параметры!$C$5-1)),\"\")","v":""}]
[{"$f":"IF(A32>=Параметры!$C$5,\"\",A32+1)","v":""},{"$f":"IF(A33<>\"\",IF(Кэшфло!$B$1*(Параметры!$C$6/800*(1+Параметры!$C$6/800)^Параметры!$C$5)/((1+Параметры!$C$6/800)^Параметры!$C$5-1)<(Параметры!$C$3-Параметры!$C$3*Параметры!$C$4)/Параметры!$C$5,(Параметры!$C$3-Параметры!$C$3*Параметры!$C$4)/Параметры!$C$5, Кэшфло!$B$1*(Параметры!$C$6/800*(1+Параметры!$C$6/800)^Параметры!$C$5)/((1+Параметры!$C$6/800)^Параметры!$C$5-1)),\"\")","v":""}]
[{"$f":"IF(A33>=Параметры!$C$5,\"\",A33+1)","v":""},{"$f":"IF(A34<>\"\",IF(Кэшфло!$B$1*(Параметры!$C$6/800*(1+Параметры!$C$6/800)^Параметры!$C$5)/((1+Параметры!$C$6/800)^Параметры!$C$5-1)<(Параметры!$C$3-Параметры!$C$3*Параметры!$C$4)/Параметры!$C$5,(Параметры!$C$3-Параметры!$C$3*Параметры!$C$4)/Параметры!$C$5, Кэшфло!$B$1*(Параметры!$C$6/800*(1+Параметры!$C$6/800)^Параметры!$C$5)/((1+Параметры!$C$6/800)^Параметры!$C$5-1)),\"\")","v":""}]
[{"$f":"IF(A34>=Параметры!$C$5,\"\",A34+1)","v":""},{"$f":"IF(A35<>\"\",IF(Кэшфло!$B$1*(Параметры!$C$6/800*(1+Параметры!$C$6/800)^Параметры!$C$5)/((1+Параметры!$C$6/800)^Параметры!$C$5-1)<(Параметры!$C$3-Параметры!$C$3*Параметры!$C$4)/Параметры!$C$5,(Параметры!$C$3-Параметры!$C$3*Параметры!$C$4)/Параметры!$C$5, Кэшфло!$B$1*(Параметры!$C$6/800*(1+Параметры!$C$6/800)^Параметры!$C$5)/((1+Параметры!$C$6/800)^Параметры!$C$5-1)),\"\")","v":""}]
[{"$f":"IF(A35>=Параметры!$C$5,\"\",A35+1)","v":""},{"$f":"IF(A36<>\"\",IF(Кэшфло!$B$1*(Параметры!$C$6/800*(1+Параметры!$C$6/800)^Параметры!$C$5)/((1+Параметры!$C$6/800)^Параметры!$C$5-1)<(Параметры!$C$3-Параметры!$C$3*Параметры!$C$4)/Параметры!$C$5,(Параметры!$C$3-Параметры!$C$3*Параметры!$C$4)/Параметры!$C$5, Кэшфло!$B$1*(Параметры!$C$6/800*(1+Параметры!$C$6/800)^Параметры!$C$5)/((1+Параметры!$C$6/800)^Параметры!$C$5-1)),\"\")","v":""}]
[{"$f":"IF(A36>=Параметры!$C$5,\"\",A36+1)","v":""},{"$f":"IF(A37<>\"\",IF(Кэшфло!$B$1*(Параметры!$C$6/800*(1+Параметры!$C$6/800)^Параметры!$C$5)/((1+Параметры!$C$6/800)^Параметры!$C$5-1)<(Параметры!$C$3-Параметры!$C$3*Параметры!$C$4)/Параметры!$C$5,(Параметры!$C$3-Параметры!$C$3*Параметры!$C$4)/Параметры!$C$5, Кэшфло!$B$1*(Параметры!$C$6/800*(1+Параметры!$C$6/800)^Параметры!$C$5)/((1+Параметры!$C$6/800)^Параметры!$C$5-1)),\"\")","v":""}]
[{"$f":"IF(A37>=Параметры!$C$5,\"\",A37+1)","v":""},{"$f":"IF(A38<>\"\",IF(Кэшфло!$B$1*(Параметры!$C$6/800*(1+Параметры!$C$6/800)^Параметры!$C$5)/((1+Параметры!$C$6/800)^Параметры!$C$5-1)<(Параметры!$C$3-Параметры!$C$3*Параметры!$C$4)/Параметры!$C$5,(Параметры!$C$3-Параметры!$C$3*Параметры!$C$4)/Параметры!$C$5, Кэшфло!$B$1*(Параметры!$C$6/800*(1+Параметры!$C$6/800)^Параметры!$C$5)/((1+Параметры!$C$6/800)^Параметры!$C$5-1)),\"\")","v":""}]
[{"$f":"IF(A38>=Параметры!$C$5,\"\",A38+1)","v":""},{"$f":"IF(A39<>\"\",IF(Кэшфло!$B$1*(Параметры!$C$6/800*(1+Параметры!$C$6/800)^Параметры!$C$5)/((1+Параметры!$C$6/800)^Параметры!$C$5-1)<(Параметры!$C$3-Параметры!$C$3*Параметры!$C$4)/Параметры!$C$5,(Параметры!$C$3-Параметры!$C$3*Параметры!$C$4)/Параметры!$C$5, Кэшфло!$B$1*(Параметры!$C$6/800*(1+Параметры!$C$6/800)^Параметры!$C$5)/((1+Параметры!$C$6/800)^Параметры!$C$5-1)),\"\")","v":""}]
[{"$f":"IF(A39>=Параметры!$C$5,\"\",A39+1)","v":""},{"$f":"IF(A40<>\"\",IF(Кэшфло!$B$1*(Параметры!$C$6/800*(1+Параметры!$C$6/800)^Параметры!$C$5)/((1+Параметры!$C$6/800)^Параметры!$C$5-1)<(Параметры!$C$3-Параметры!$C$3*Параметры!$C$4)/Параметры!$C$5,(Параметры!$C$3-Параметры!$C$3*Параметры!$C$4)/Параметры!$C$5, Кэшфло!$B$1*(Параметры!$C$6/800*(1+Параметры!$C$6/800)^Параметры!$C$5)/((1+Параметры!$C$6/800)^Параметры!$C$5-1)),\"\")","v":""}]
[{"$f":"IF(A40>=Параметры!$C$5,\"\",A40+1)","v":""},{"$f":"IF(A41<>\"\",IF(Кэшфло!$B$1*(Параметры!$C$6/800*(1+Параметры!$C$6/800)^Параметры!$C$5)/((1+Параметры!$C$6/800)^Параметры!$C$5-1)<(Параметры!$C$3-Параметры!$C$3*Параметры!$C$4)/Параметры!$C$5,(Параметры!$C$3-Параметры!$C$3*Параметры!$C$4)/Параметры!$C$5, Кэшфло!$B$1*(Параметры!$C$6/800*(1+Параметры!$C$6/800)^Параметры!$C$5)/((1+Параметры!$C$6/800)^Параметры!$C$5-1)),\"\")","v":""}]
[{"$f":"IF(A41>=Параметры!$C$5,\"\",A41+1)","v":""},{"$f":"IF(A42<>\"\",IF(Кэшфло!$B$1*(Параметры!$C$6/800*(1+Параметры!$C$6/800)^Параметры!$C$5)/((1+Параметры!$C$6/800)^Параметры!$C$5-1)<(Параметры!$C$3-Параметры!$C$3*Параметры!$C$4)/Параметры!$C$5,(Параметры!$C$3-Параметры!$C$3*Параметры!$C$4)/Параметры!$C$5, Кэшфло!$B$1*(Параметры!$C$6/800*(1+Параметры!$C$6/800)^Параметры!$C$5)/((1+Параметры!$C$6/800)^Параметры!$C$5-1)),\"\")","v":""}]
[{"$f":"IF(A42>=Параметры!$C$5,\"\",A42+1)","v":""},{"$f":"IF(A43<>\"\",IF(Кэшфло!$B$1*(Параметры!$C$6/800*(1+Параметры!$C$6/800)^Параметры!$C$5)/((1+Параметры!$C$6/800)^Параметры!$C$5-1)<(Параметры!$C$3-Параметры!$C$3*Параметры!$C$4)/Параметры!$C$5,(Параметры!$C$3-Параметры!$C$3*Параметры!$C$4)/Параметры!$C$5, Кэшфло!$B$1*(Параметры!$C$6/800*(1+Параметры!$C$6/800)^Параметры!$C$5)/((1+Параметры!$C$6/800)^Параметры!$C$5-1)),\"\")","v":""}]
[{"$f":"IF(A43>=Параметры!$C$5,\"\",A43+1)","v":""},{"$f":"IF(A44<>\"\",IF(Кэшфло!$B$1*(Параметры!$C$6/800*(1+Параметры!$C$6/800)^Параметры!$C$5)/((1+Параметры!$C$6/800)^Параметры!$C$5-1)<(Параметры!$C$3-Параметры!$C$3*Параметры!$C$4)/Параметры!$C$5,(Параметры!$C$3-Параметры!$C$3*Параметры!$C$4)/Параметры!$C$5, Кэшфло!$B$1*(Параметры!$C$6/800*(1+Параметры!$C$6/800)^Параметры!$C$5)/((1+Параметры!$C$6/800)^Параметры!$C$5-1)),\"\")","v":""}]
[{"$f":"IF(A44>=Параметры!$C$5,\"\",A44+1)","v":""},{"$f":"IF(A45<>\"\",IF(Кэшфло!$B$1*(Параметры!$C$6/800*(1+Параметры!$C$6/800)^Параметры!$C$5)/((1+Параметры!$C$6/800)^Параметры!$C$5-1)<(Параметры!$C$3-Параметры!$C$3*Параметры!$C$4)/Параметры!$C$5,(Параметры!$C$3-Параметры!$C$3*Параметры!$C$4)/Параметры!$C$5, Кэшфло!$B$1*(Параметры!$C$6/800*(1+Параметры!$C$6/800)^Параметры!$C$5)/((1+Параметры!$C$6/800)^Параметры!$C$5-1)),\"\")","v":""}]
[{"$f":"IF(A45>=Параметры!$C$5,\"\",A45+1)","v":""},{"$f":"IF(A46<>\"\",IF(Кэшфло!$B$1*(Параметры!$C$6/800*(1+Параметры!$C$6/800)^Параметры!$C$5)/((1+Параметры!$C$6/800)^Параметры!$C$5-1)<(Параметры!$C$3-Параметры!$C$3*Параметры!$C$4)/Параметры!$C$5,(Параметры!$C$3-Параметры!$C$3*Параметры!$C$4)/Параметры!$C$5, Кэшфло!$B$1*(Параметры!$C$6/800*(1+Параметры!$C$6/800)^Параметры!$C$5)/((1+Параметры!$C$6/800)^Параметры!$C$5-1)),\"\")","v":""}]
[{"$f":"IF(A46>=Параметры!$C$5,\"\",A46+1)","v":""},{"$f":"IF(A47<>\"\",IF(Кэшфло!$B$1*(Параметры!$C$6/800*(1+Параметры!$C$6/800)^Параметры!$C$5)/((1+Параметры!$C$6/800)^Параметры!$C$5-1)<(Параметры!$C$3-Параметры!$C$3*Параметры!$C$4)/Параметры!$C$5,(Параметры!$C$3-Параметры!$C$3*Параметры!$C$4)/Параметры!$C$5, Кэшфло!$B$1*(Параметры!$C$6/800*(1+Параметры!$C$6/800)^Параметры!$C$5)/((1+Параметры!$C$6/800)^Параметры!$C$5-1)),\"\")","v":""}]
[{"$f":"IF(A47>=Параметры!$C$5,\"\",A47+1)","v":""},{"$f":"IF(A48<>\"\",IF(Кэшфло!$B$1*(Параметры!$C$6/800*(1+Параметры!$C$6/800)^Параметры!$C$5)/((1+Параметры!$C$6/800)^Параметры!$C$5-1)<(Параметры!$C$3-Параметры!$C$3*Параметры!$C$4)/Параметры!$C$5,(Параметры!$C$3-Параметры!$C$3*Параметры!$C$4)/Параметры!$C$5, Кэшфло!$B$1*(Параметры!$C$6/800*(1+Параметры!$C$6/800)^Параметры!$C$5)/((1+Параметры!$C$6/800)^Параметры!$C$5-1)),\"\")","v":""}]
[{"$f":"IF(A48>=Параметры!$C$5,\"\",A48+1)","v":""},{"$f":"IF(A49<>\"\",IF(Кэшфло!$B$1*(Параметры!$C$6/800*(1+Параметры!$C$6/800)^Параметры!$C$5)/((1+Параметры!$C$6/800)^Параметры!$C$5-1)<(Параметры!$C$3-Параметры!$C$3*Параметры!$C$4)/Параметры!$C$5,(Параметры!$C$3-Параметры!$C$3*Параметры!$C$4)/Параметры!$C$5, Кэшфло!$B$1*(Параметры!$C$6/800*(1+Параметры!$C$6/800)^Параметры!$C$5)/((1+Параметры!$C$6/800)^Параметры!$C$5-1)),\"\")","v":""}]
[{"$f":"IF(A49>=Параметры!$C$5,\"\",A49+1)","v":""},{"$f":"IF(A50<>\"\",IF(Кэшфло!$B$1*(Параметры!$C$6/800*(1+Параметры!$C$6/800)^Параметры!$C$5)/((1+Параметры!$C$6/800)^Параметры!$C$5-1)<(Параметры!$C$3-Параметры!$C$3*Параметры!$C$4)/Параметры!$C$5,(Параметры!$C$3-Параметры!$C$3*Параметры!$C$4)/Параметры!$C$5, Кэшфло!$B$1*(Параметры!$C$6/800*(1+Параметры!$C$6/800)^Параметры!$C$5)/((1+Параметры!$C$6/800)^Параметры!$C$5-1)),\"\")","v":""}]
[{"$f":"IF(A50>=Параметры!$C$5,\"\",A50+1)","v":""},{"$f":"IF(A51<>\"\",IF(Кэшфло!$B$1*(Параметры!$C$6/800*(1+Параметры!$C$6/800)^Параметры!$C$5)/((1+Параметры!$C$6/800)^Параметры!$C$5-1)<(Параметры!$C$3-Параметры!$C$3*Параметры!$C$4)/Параметры!$C$5,(Параметры!$C$3-Параметры!$C$3*Параметры!$C$4)/Параметры!$C$5, Кэшфло!$B$1*(Параметры!$C$6/800*(1+Параметры!$C$6/800)^Параметры!$C$5)/((1+Параметры!$C$6/800)^Параметры!$C$5-1)),\"\")","v":""}]
[{"$f":"IF(A51>=Параметры!$C$5,\"\",A51+1)","v":""},{"$f":"IF(A52<>\"\",IF(Кэшфло!$B$1*(Параметры!$C$6/800*(1+Параметры!$C$6/800)^Параметры!$C$5)/((1+Параметры!$C$6/800)^Параметры!$C$5-1)<(Параметры!$C$3-Параметры!$C$3*Параметры!$C$4)/Параметры!$C$5,(Параметры!$C$3-Параметры!$C$3*Параметры!$C$4)/Параметры!$C$5, Кэшфло!$B$1*(Параметры!$C$6/800*(1+Параметры!$C$6/800)^Параметры!$C$5)/((1+Параметры!$C$6/800)^Параметры!$C$5-1)),\"\")","v":""}]
[{"$f":"IF(A52>=Параметры!$C$5,\"\",A52+1)","v":""},{"$f":"IF(A53<>\"\",IF(Кэшфло!$B$1*(Параметры!$C$6/800*(1+Параметры!$C$6/800)^Параметры!$C$5)/((1+Параметры!$C$6/800)^Параметры!$C$5-1)<(Параметры!$C$3-Параметры!$C$3*Параметры!$C$4)/Параметры!$C$5,(Параметры!$C$3-Параметры!$C$3*Параметры!$C$4)/Параметры!$C$5, Кэшфло!$B$1*(Параметры!$C$6/800*(1+Параметры!$C$6/800)^Параметры!$C$5)/((1+Параметры!$C$6/800)^Параметры!$C$5-1)),\"\")","v":""}]
[{"$f":"IF(A53>=Параметры!$C$5,\"\",A53+1)","v":""},{"$f":"IF(A54<>\"\",IF(Кэшфло!$B$1*(Параметры!$C$6/800*(1+Параметры!$C$6/800)^Параметры!$C$5)/((1+Параметры!$C$6/800)^Параметры!$C$5-1)<(Параметры!$C$3-Параметры!$C$3*Параметры!$C$4)/Параметры!$C$5,(Параметры!$C$3-Параметры!$C$3*Параметры!$C$4)/Параметры!$C$5, Кэшфло!$B$1*(Параметры!$C$6/800*(1+Параметры!$C$6/800)^Параметры!$C$5)/((1+Параметры!$C$6/800)^Параметры!$C$5-1)),\"\")","v":""}]
[{"$f":"IF(A54>=Параметры!$C$5,\"\",A54+1)","v":""},{"$f":"IF(A55<>\"\",IF(Кэшфло!$B$1*(Параметры!$C$6/800*(1+Параметры!$C$6/800)^Параметры!$C$5)/((1+Параметры!$C$6/800)^Параметры!$C$5-1)<(Параметры!$C$3-Параметры!$C$3*Параметры!$C$4)/Параметры!$C$5,(Параметры!$C$3-Параметры!$C$3*Параметры!$C$4)/Параметры!$C$5, Кэшфло!$B$1*(Параметры!$C$6/800*(1+Параметры!$C$6/800)^Параметры!$C$5)/((1+Параметры!$C$6/800)^Параметры!$C$5-1)),\"\")","v":""}]
[{"$f":"IF(A55>=Параметры!$C$5,\"\",A55+1)","v":""},{"$f":"IF(A56<>\"\",IF(Кэшфло!$B$1*(Параметры!$C$6/800*(1+Параметры!$C$6/800)^Параметры!$C$5)/((1+Параметры!$C$6/800)^Параметры!$C$5-1)<(Параметры!$C$3-Параметры!$C$3*Параметры!$C$4)/Параметры!$C$5,(Параметры!$C$3-Параметры!$C$3*Параметры!$C$4)/Параметры!$C$5, Кэшфло!$B$1*(Параметры!$C$6/800*(1+Параметры!$C$6/800)^Параметры!$C$5)/((1+Параметры!$C$6/800)^Параметры!$C$5-1)),\"\")","v":""}]
[{"$f":"IF(A56>=Параметры!$C$5,\"\",A56+1)","v":""},{"$f":"IF(A57<>\"\",IF(Кэшфло!$B$1*(Параметры!$C$6/800*(1+Параметры!$C$6/800)^Параметры!$C$5)/((1+Параметры!$C$6/800)^Параметры!$C$5-1)<(Параметры!$C$3-Параметры!$C$3*Параметры!$C$4)/Параметры!$C$5,(Параметры!$C$3-Параметры!$C$3*Параметры!$C$4)/Параметры!$C$5, Кэшфло!$B$1*(Параметры!$C$6/800*(1+Параметры!$C$6/800)^Параметры!$C$5)/((1+Параметры!$C$6/800)^Параметры!$C$5-1)),\"\")","v":""}]
[{"$f":"IF(A57>=Параметры!$C$5,\"\",A57+1)","v":""},{"$f":"IF(A58<>\"\",IF(Кэшфло!$B$1*(Параметры!$C$6/800*(1+Параметры!$C$6/800)^Параметры!$C$5)/((1+Параметры!$C$6/800)^Параметры!$C$5-1)<(Параметры!$C$3-Параметры!$C$3*Параметры!$C$4)/Параметры!$C$5,(Параметры!$C$3-Параметры!$C$3*Параметры!$C$4)/Параметры!$C$5, Кэшфло!$B$1*(Параметры!$C$6/800*(1+Параметры!$C$6/800)^Параметры!$C$5)/((1+Параметры!$C$6/800)^Параметры!$C$5-1)),\"\")","v":""}]
[{"$f":"IF(A58>=Параметры!$C$5,\"\",A58+1)","v":""},{"$f":"IF(A59<>\"\",IF(Кэшфло!$B$1*(Параметры!$C$6/800*(1+Параметры!$C$6/800)^Параметры!$C$5)/((1+Параметры!$C$6/800)^Параметры!$C$5-1)<(Параметры!$C$3-Параметры!$C$3*Параметры!$C$4)/Параметры!$C$5,(Параметры!$C$3-Параметры!$C$3*Параметры!$C$4)/Параметры!$C$5, Кэшфло!$B$1*(Параметры!$C$6/800*(1+Параметры!$C$6/800)^Параметры!$C$5)/((1+Параметры!$C$6/800)^Параметры!$C$5-1)),\"\")","v":""}]
[{"$f":"IF(A59>=Параметры!$C$5,\"\",A59+1)","v":""},{"$f":"IF(A60<>\"\",IF(Кэшфло!$B$1*(Параметры!$C$6/800*(1+Параметры!$C$6/800)^Параметры!$C$5)/((1+Параметры!$C$6/800)^Параметры!$C$5-1)<(Параметры!$C$3-Параметры!$C$3*Параметры!$C$4)/Параметры!$C$5,(Параметры!$C$3-Параметры!$C$3*Параметры!$C$4)/Параметры!$C$5, Кэшфло!$B$1*(Параметры!$C$6/800*(1+Параметры!$C$6/800)^Параметры!$C$5)/((1+Параметры!$C$6/800)^Параметры!$C$5-1)),\"\")","v":""}]
[{"$f":"IF(A60>=Параметры!$C$5,\"\",A60+1)","v":""},{"$f":"IF(A61<>\"\",IF(Кэшфло!$B$1*(Параметры!$C$6/800*(1+Параметры!$C$6/800)^Параметры!$C$5)/((1+Параметры!$C$6/800)^Параметры!$C$5-1)<(Параметры!$C$3-Параметры!$C$3*Параметры!$C$4)/Параметры!$C$5,(Параметры!$C$3-Параметры!$C$3*Параметры!$C$4)/Параметры!$C$5, Кэшфло!$B$1*(Параметры!$C$6/800*(1+Параметры!$C$6/800)^Параметры!$C$5)/((1+Параметры!$C$6/800)^Параметры!$C$5-1)),\"\")","v":""}]
[{"$f":"IF(A61>=Параметры!$C$5,\"\",A61+1)","v":""},{"$f":"IF(A62<>\"\",IF(Кэшфло!$B$1*(Параметры!$C$6/800*(1+Параметры!$C$6/800)^Параметры!$C$5)/((1+Параметры!$C$6/800)^Параметры!$C$5-1)<(Параметры!$C$3-Параметры!$C$3*Параметры!$C$4)/Параметры!$C$5,(Параметры!$C$3-Параметры!$C$3*Параметры!$C$4)/Параметры!$C$5, Кэшфло!$B$1*(Параметры!$C$6/800*(1+Параметры!$C$6/800)^Параметры!$C$5)/((1+Параметры!$C$6/800)^Параметры!$C$5-1)),\"\")","v":""}]
[{"$f":"IF(A62>=Параметры!$C$5,\"\",A62+1)","v":""},{"$f":"IF(A63<>\"\",IF(Кэшфло!$B$1*(Параметры!$C$6/800*(1+Параметры!$C$6/800)^Параметры!$C$5)/((1+Параметры!$C$6/800)^Параметры!$C$5-1)<(Параметры!$C$3-Параметры!$C$3*Параметры!$C$4)/Параметры!$C$5,(Параметры!$C$3-Параметры!$C$3*Параметры!$C$4)/Параметры!$C$5, Кэшфло!$B$1*(Параметры!$C$6/800*(1+Параметры!$C$6/800)^Параметры!$C$5)/((1+Параметры!$C$6/800)^Параметры!$C$5-1)),\"\")","v":""}]
[{"$f":"IF(A63>=Параметры!$C$5,\"\",A63+1)","v":""},{"$f":"IF(A64<>\"\",IF(Кэшфло!$B$1*(Параметры!$C$6/800*(1+Параметры!$C$6/800)^Параметры!$C$5)/((1+Параметры!$C$6/800)^Параметры!$C$5-1)<(Параметры!$C$3-Параметры!$C$3*Параметры!$C$4)/Параметры!$C$5,(Параметры!$C$3-Параметры!$C$3*Параметры!$C$4)/Параметры!$C$5, Кэшфло!$B$1*(Параметры!$C$6/800*(1+Параметры!$C$6/800)^Параметры!$C$5)/((1+Параметры!$C$6/800)^Параметры!$C$5-1)),\"\")","v":""}]
[{"$f":"IF(A64>=Параметры!$C$5,\"\",A64+1)","v":""},{"$f":"IF(A65<>\"\",IF(Кэшфло!$B$1*(Параметры!$C$6/800*(1+Параметры!$C$6/800)^Параметры!$C$5)/((1+Параметры!$C$6/800)^Параметры!$C$5-1)<(Параметры!$C$3-Параметры!$C$3*Параметры!$C$4)/Параметры!$C$5,(Параметры!$C$3-Параметры!$C$3*Параметры!$C$4)/Параметры!$C$5, Кэшфло!$B$1*(Параметры!$C$6/800*(1+Параметры!$C$6/800)^Параметры!$C$5)/((1+Параметры!$C$6/800)^Параметры!$C$5-1)),\"\")","v":""}]
[{"$f":"IF(A65>=Параметры!$C$5,\"\",A65+1)","v":""},{"$f":"IF(A66<>\"\",IF(Кэшфло!$B$1*(Параметры!$C$6/800*(1+Параметры!$C$6/800)^Параметры!$C$5)/((1+Параметры!$C$6/800)^Параметры!$C$5-1)<(Параметры!$C$3-Параметры!$C$3*Параметры!$C$4)/Параметры!$C$5,(Параметры!$C$3-Параметры!$C$3*Параметры!$C$4)/Параметры!$C$5, Кэшфло!$B$1*(Параметры!$C$6/800*(1+Параметры!$C$6/800)^Параметры!$C$5)/((1+Параметры!$C$6/800)^Параметры!$C$5-1)),\"\")","v":""}]
[{"$f":"IF(A66>=Параметры!$C$5,\"\",A66+1)","v":""},{"$f":"IF(A67<>\"\",IF(Кэшфло!$B$1*(Параметры!$C$6/800*(1+Параметры!$C$6/800)^Параметры!$C$5)/((1+Параметры!$C$6/800)^Параметры!$C$5-1)<(Параметры!$C$3-Параметры!$C$3*Параметры!$C$4)/Параметры!$C$5,(Параметры!$C$3-Параметры!$C$3*Параметры!$C$4)/Параметры!$C$5, Кэшфло!$B$1*(Параметры!$C$6/800*(1+Параметры!$C$6/800)^Параметры!$C$5)/((1+Параметры!$C$6/800)^Параметры!$C$5-1)),\"\")","v":""}]
[{"$f":"IF(A67>=Параметры!$C$5,\"\",A67+1)","v":""},{"$f":"IF(A68<>\"\",IF(Кэшфло!$B$1*(Параметры!$C$6/800*(1+Параметры!$C$6/800)^Параметры!$C$5)/((1+Параметры!$C$6/800)^Параметры!$C$5-1)<(Параметры!$C$3-Параметры!$C$3*Параметры!$C$4)/Параметры!$C$5,(Параметры!$C$3-Параметры!$C$3*Параметры!$C$4)/Параметры!$C$5, Кэшфло!$B$1*(Параметры!$C$6/800*(1+Параметры!$C$6/800)^Параметры!$C$5)/((1+Параметры!$C$6/800)^Параметры!$C$5-1)),\"\")","v":""}]
[{"$f":"IF(A68>=Параметры!$C$5,\"\",A68+1)","v":""},{"$f":"IF(A69<>\"\",IF(Кэшфло!$B$1*(Параметры!$C$6/800*(1+Параметры!$C$6/800)^Параметры!$C$5)/((1+Параметры!$C$6/800)^Параметры!$C$5-1)<(Параметры!$C$3-Параметры!$C$3*Параметры!$C$4)/Параметры!$C$5,(Параметры!$C$3-Параметры!$C$3*Параметры!$C$4)/Параметры!$C$5, Кэшфло!$B$1*(Параметры!$C$6/800*(1+Параметры!$C$6/800)^Параметры!$C$5)/((1+Параметры!$C$6/800)^Параметры!$C$5-1)),\"\")","v":""}]
[{"$f":"IF(A69>=Параметры!$C$5,\"\",A69+1)","v":""},{"$f":"IF(A70<>\"\",IF(Кэшфло!$B$1*(Параметры!$C$6/800*(1+Параметры!$C$6/800)^Параметры!$C$5)/((1+Параметры!$C$6/800)^Параметры!$C$5-1)<(Параметры!$C$3-Параметры!$C$3*Параметры!$C$4)/Параметры!$C$5,(Параметры!$C$3-Параметры!$C$3*Параметры!$C$4)/Параметры!$C$5, Кэшфло!$B$1*(Параметры!$C$6/800*(1+Параметры!$C$6/800)^Параметры!$C$5)/((1+Параметры!$C$6/800)^Параметры!$C$5-1)),\"\")","v":""}]
[{"$f":"IF(A70>=Параметры!$C$5,\"\",A70+1)","v":""},{"$f":"IF(A71<>\"\",IF(Кэшфло!$B$1*(Параметры!$C$6/800*(1+Параметры!$C$6/800)^Параметры!$C$5)/((1+Параметры!$C$6/800)^Параметры!$C$5-1)<(Параметры!$C$3-Параметры!$C$3*Параметры!$C$4)/Параметры!$C$5,(Параметры!$C$3-Параметры!$C$3*Параметры!$C$4)/Параметры!$C$5, Кэшфло!$B$1*(Параметры!$C$6/800*(1+Параметры!$C$6/800)^Параметры!$C$5)/((1+Параметры!$C$6/800)^Параметры!$C$5-1)),\"\")","v":""}]
[{"$f":"IF(A71>=Параметры!$C$5,\"\",A71+1)","v":""},{"$f":"IF(A72<>\"\",IF(Кэшфло!$B$1*(Параметры!$C$6/800*(1+Параметры!$C$6/800)^Параметры!$C$5)/((1+Параметры!$C$6/800)^Параметры!$C$5-1)<(Параметры!$C$3-Параметры!$C$3*Параметры!$C$4)/Параметры!$C$5,(Параметры!$C$3-Параметры!$C$3*Параметры!$C$4)/Параметры!$C$5, Кэшфло!$B$1*(Параметры!$C$6/800*(1+Параметры!$C$6/800)^Параметры!$C$5)/((1+Параметры!$C$6/800)^Параметры!$C$5-1)),\"\")","v":""}]
[{"$f":"IF(A72>=Параметры!$C$5,\"\",A72+1)","v":""},{"$f":"IF(A73<>\"\",IF(Кэшфло!$B$1*(Параметры!$C$6/800*(1+Параметры!$C$6/800)^Параметры!$C$5)/((1+Параметры!$C$6/800)^Параметры!$C$5-1)<(Параметры!$C$3-Параметры!$C$3*Параметры!$C$4)/Параметры!$C$5,(Параметры!$C$3-Параметры!$C$3*Параметры!$C$4)/Параметры!$C$5, Кэшфло!$B$1*(Параметры!$C$6/800*(1+Параметры!$C$6/800)^Параметры!$C$5)/((1+Параметры!$C$6/800)^Параметры!$C$5-1)),\"\")","v":""}]
[{"$f":"IF(A73>=Параметры!$C$5,\"\",A73+1)","v":""},{"$f":"IF(A74<>\"\",IF(Кэшфло!$B$1*(Параметры!$C$6/800*(1+Параметры!$C$6/800)^Параметры!$C$5)/((1+Параметры!$C$6/800)^Параметры!$C$5-1)<(Параметры!$C$3-Параметры!$C$3*Параметры!$C$4)/Параметры!$C$5,(Параметры!$C$3-Параметры!$C$3*Параметры!$C$4)/Параметры!$C$5, Кэшфло!$B$1*(Параметры!$C$6/800*(1+Параметры!$C$6/800)^Параметры!$C$5)/((1+Параметры!$C$6/800)^Параметры!$C$5-1)),\"\")","v":""}]
[{"$f":"IF(A74>=Параметры!$C$5,\"\",A74+1)","v":""},{"$f":"IF(A75<>\"\",IF(Кэшфло!$B$1*(Параметры!$C$6/800*(1+Параметры!$C$6/800)^Параметры!$C$5)/((1+Параметры!$C$6/800)^Параметры!$C$5-1)<(Параметры!$C$3-Параметры!$C$3*Параметры!$C$4)/Параметры!$C$5,(Параметры!$C$3-Параметры!$C$3*Параметры!$C$4)/Параметры!$C$5, Кэшфло!$B$1*(Параметры!$C$6/800*(1+Параметры!$C$6/800)^Параметры!$C$5)/((1+Параметры!$C$6/800)^Параметры!$C$5-1)),\"\")","v":""}]
[{"$f":"IF(A75>=Параметры!$C$5,\"\",A75+1)","v":""},{"$f":"IF(A76<>\"\",IF(Кэшфло!$B$1*(Параметры!$C$6/800*(1+Параметры!$C$6/800)^Параметры!$C$5)/((1+Параметры!$C$6/800)^Параметры!$C$5-1)<(Параметры!$C$3-Параметры!$C$3*Параметры!$C$4)/Параметры!$C$5,(Параметры!$C$3-Параметры!$C$3*Параметры!$C$4)/Параметры!$C$5, Кэшфло!$B$1*(Параметры!$C$6/800*(1+Параметры!$C$6/800)^Параметры!$C$5)/((1+Параметры!$C$6/800)^Параметры!$C$5-1)),\"\")","v":""}]
[{"$f":"IF(A76>=Параметры!$C$5,\"\",A76+1)","v":""},{"$f":"IF(A77<>\"\",IF(Кэшфло!$B$1*(Параметры!$C$6/800*(1+Параметры!$C$6/800)^Параметры!$C$5)/((1+Параметры!$C$6/800)^Параметры!$C$5-1)<(Параметры!$C$3-Параметры!$C$3*Параметры!$C$4)/Параметры!$C$5,(Параметры!$C$3-Параметры!$C$3*Параметры!$C$4)/Параметры!$C$5, Кэшфло!$B$1*(Параметры!$C$6/800*(1+Параметры!$C$6/800)^Параметры!$C$5)/((1+Параметры!$C$6/800)^Параметры!$C$5-1)),\"\")","v":""}]
[{"$f":"IF(A77>=Параметры!$C$5,\"\",A77+1)","v":""},{"$f":"IF(A78<>\"\",IF(Кэшфло!$B$1*(Параметры!$C$6/800*(1+Параметры!$C$6/800)^Параметры!$C$5)/((1+Параметры!$C$6/800)^Параметры!$C$5-1)<(Параметры!$C$3-Параметры!$C$3*Параметры!$C$4)/Параметры!$C$5,(Параметры!$C$3-Параметры!$C$3*Параметры!$C$4)/Параметры!$C$5, Кэшфло!$B$1*(Параметры!$C$6/800*(1+Параметры!$C$6/800)^Параметры!$C$5)/((1+Параметры!$C$6/800)^Параметры!$C$5-1)),\"\")","v":""}]
[{"$f":"IF(A78>=Параметры!$C$5,\"\",A78+1)","v":""},{"$f":"IF(A79<>\"\",IF(Кэшфло!$B$1*(Параметры!$C$6/800*(1+Параметры!$C$6/800)^Параметры!$C$5)/((1+Параметры!$C$6/800)^Параметры!$C$5-1)<(Параметры!$C$3-Параметры!$C$3*Параметры!$C$4)/Параметры!$C$5,(Параметры!$C$3-Параметры!$C$3*Параметры!$C$4)/Параметры!$C$5, Кэшфло!$B$1*(Параметры!$C$6/800*(1+Параметры!$C$6/800)^Параметры!$C$5)/((1+Параметры!$C$6/800)^Параметры!$C$5-1)),\"\")","v":""}]
[{"$f":"IF(A79>=Параметры!$C$5,\"\",A79+1)","v":""},{"$f":"IF(A80<>\"\",IF(Кэшфло!$B$1*(Параметры!$C$6/800*(1+Параметры!$C$6/800)^Параметры!$C$5)/((1+Параметры!$C$6/800)^Параметры!$C$5-1)<(Параметры!$C$3-Параметры!$C$3*Параметры!$C$4)/Параметры!$C$5,(Параметры!$C$3-Параметры!$C$3*Параметры!$C$4)/Параметры!$C$5, Кэшфло!$B$1*(Параметры!$C$6/800*(1+Параметры!$C$6/800)^Параметры!$C$5)/((1+Параметры!$C$6/800)^Параметры!$C$5-1)),\"\")","v":""}]
[{"$f":"IF(A80>=Параметры!$C$5,\"\",A80+1)","v":""},{"$f":"IF(A81<>\"\",IF(Кэшфло!$B$1*(Параметры!$C$6/800*(1+Параметры!$C$6/800)^Параметры!$C$5)/((1+Параметры!$C$6/800)^Параметры!$C$5-1)<(Параметры!$C$3-Параметры!$C$3*Параметры!$C$4)/Параметры!$C$5,(Параметры!$C$3-Параметры!$C$3*Параметры!$C$4)/Параметры!$C$5, Кэшфло!$B$1*(Параметры!$C$6/800*(1+Параметры!$C$6/800)^Параметры!$C$5)/((1+Параметры!$C$6/800)^Параметры!$C$5-1)),\"\")","v":""}]
[{"$f":"IF(A81>=Параметры!$C$5,\"\",A81+1)","v":""},{"$f":"IF(A82<>\"\",IF(Кэшфло!$B$1*(Параметры!$C$6/800*(1+Параметры!$C$6/800)^Параметры!$C$5)/((1+Параметры!$C$6/800)^Параметры!$C$5-1)<(Параметры!$C$3-Параметры!$C$3*Параметры!$C$4)/Параметры!$C$5,(Параметры!$C$3-Параметры!$C$3*Параметры!$C$4)/Параметры!$C$5, Кэшфло!$B$1*(Параметры!$C$6/800*(1+Параметры!$C$6/800)^Параметры!$C$5)/((1+Параметры!$C$6/800)^Параметры!$C$5-1)),\"\")","v":""}]
[{"$f":"IF(A82>=Параметры!$C$5,\"\",A82+1)","v":""},{"$f":"IF(A83<>\"\",IF(Кэшфло!$B$1*(Параметры!$C$6/800*(1+Параметры!$C$6/800)^Параметры!$C$5)/((1+Параметры!$C$6/800)^Параметры!$C$5-1)<(Параметры!$C$3-Параметры!$C$3*Параметры!$C$4)/Параметры!$C$5,(Параметры!$C$3-Параметры!$C$3*Параметры!$C$4)/Параметры!$C$5, Кэшфло!$B$1*(Параметры!$C$6/800*(1+Параметры!$C$6/800)^Параметры!$C$5)/((1+Параметры!$C$6/800)^Параметры!$C$5-1)),\"\")","v":""}]
[{"$f":"IF(A83>=Параметры!$C$5,\"\",A83+1)","v":""},{"$f":"IF(A84<>\"\",IF(Кэшфло!$B$1*(Параметры!$C$6/800*(1+Параметры!$C$6/800)^Параметры!$C$5)/((1+Параметры!$C$6/800)^Параметры!$C$5-1)<(Параметры!$C$3-Параметры!$C$3*Параметры!$C$4)/Параметры!$C$5,(Параметры!$C$3-Параметры!$C$3*Параметры!$C$4)/Параметры!$C$5, Кэшфло!$B$1*(Параметры!$C$6/800*(1+Параметры!$C$6/800)^Параметры!$C$5)/((1+Параметры!$C$6/800)^Параметры!$C$5-1)),\"\")","v":""}]
[{"$f":"IF(A84>=Параметры!$C$5,\"\",A84+1)","v":""},{"$f":"IF(A85<>\"\",IF(Кэшфло!$B$1*(Параметры!$C$6/800*(1+Параметры!$C$6/800)^Параметры!$C$5)/((1+Параметры!$C$6/800)^Параметры!$C$5-1)<(Параметры!$C$3-Параметры!$C$3*Параметры!$C$4)/Параметры!$C$5,(Параметры!$C$3-Параметры!$C$3*Параметры!$C$4)/Параметры!$C$5, Кэшфло!$B$1*(Параметры!$C$6/800*(1+Параметры!$C$6/800)^Параметры!$C$5)/((1+Параметры!$C$6/800)^Параметры!$C$5-1)),\"\")","v":""}]
[{"$f":"IF(A85>=Параметры!$C$5,\"\",A85+1)","v":""},{"$f":"IF(A86<>\"\",IF(Кэшфло!$B$1*(Параметры!$C$6/800*(1+Параметры!$C$6/800)^Параметры!$C$5)/((1+Параметры!$C$6/800)^Параметры!$C$5-1)<(Параметры!$C$3-Параметры!$C$3*Параметры!$C$4)/Параметры!$C$5,(Параметры!$C$3-Параметры!$C$3*Параметры!$C$4)/Параметры!$C$5, Кэшфло!$B$1*(Параметры!$C$6/800*(1+Параметры!$C$6/800)^Параметры!$C$5)/((1+Параметры!$C$6/800)^Параметры!$C$5-1)),\"\")","v":""}]
[{"$f":"IF(A86>=Параметры!$C$5,\"\",A86+1)","v":""},{"$f":"IF(A87<>\"\",IF(Кэшфло!$B$1*(Параметры!$C$6/800*(1+Параметры!$C$6/800)^Параметры!$C$5)/((1+Параметры!$C$6/800)^Параметры!$C$5-1)<(Параметры!$C$3-Параметры!$C$3*Параметры!$C$4)/Параметры!$C$5,(Параметры!$C$3-Параметры!$C$3*Параметры!$C$4)/Параметры!$C$5, Кэшфло!$B$1*(Параметры!$C$6/800*(1+Параметры!$C$6/800)^Параметры!$C$5)/((1+Параметры!$C$6/800)^Параметры!$C$5-1)),\"\")","v":""}]
[{"$f":"IF(A87>=Параметры!$C$5,\"\",A87+1)","v":""},{"$f":"IF(A88<>\"\",IF(Кэшфло!$B$1*(Параметры!$C$6/800*(1+Параметры!$C$6/800)^Параметры!$C$5)/((1+Параметры!$C$6/800)^Параметры!$C$5-1)<(Параметры!$C$3-Параметры!$C$3*Параметры!$C$4)/Параметры!$C$5,(Параметры!$C$3-Параметры!$C$3*Параметры!$C$4)/Параметры!$C$5, Кэшфло!$B$1*(Параметры!$C$6/800*(1+Параметры!$C$6/800)^Параметры!$C$5)/((1+Параметры!$C$6/800)^Параметры!$C$5-1)),\"\")","v":""}]
[{"$f":"IF(A88>=Параметры!$C$5,\"\",A88+1)","v":""},{"$f":"IF(A89<>\"\",IF(Кэшфло!$B$1*(Параметры!$C$6/800*(1+Параметры!$C$6/800)^Параметры!$C$5)/((1+Параметры!$C$6/800)^Параметры!$C$5-1)<(Параметры!$C$3-Параметры!$C$3*Параметры!$C$4)/Параметры!$C$5,(Параметры!$C$3-Параметры!$C$3*Параметры!$C$4)/Параметры!$C$5, Кэшфло!$B$1*(Параметры!$C$6/800*(1+Параметры!$C$6/800)^Параметры!$C$5)/((1+Параметры!$C$6/800)^Параметры!$C$5-1)),\"\")","v":""}]
[{"$f":"IF(A89>=Параметры!$C$5,\"\",A89+1)","v":""},{"$f":"IF(A90<>\"\",IF(Кэшфло!$B$1*(Параметры!$C$6/800*(1+Параметры!$C$6/800)^Параметры!$C$5)/((1+Параметры!$C$6/800)^Параметры!$C$5-1)<(Параметры!$C$3-Параметры!$C$3*Параметры!$C$4)/Параметры!$C$5,(Параметры!$C$3-Параметры!$C$3*Параметры!$C$4)/Параметры!$C$5, Кэшфло!$B$1*(Параметры!$C$6/800*(1+Параметры!$C$6/800)^Параметры!$C$5)/((1+Параметры!$C$6/800)^Параметры!$C$5-1)),\"\")","v":""}]
[{"$f":"IF(A90>=Параметры!$C$5,\"\",A90+1)","v":""},{"$f":"IF(A91<>\"\",IF(Кэшфло!$B$1*(Параметры!$C$6/800*(1+Параметры!$C$6/800)^Параметры!$C$5)/((1+Параметры!$C$6/800)^Параметры!$C$5-1)<(Параметры!$C$3-Параметры!$C$3*Параметры!$C$4)/Параметры!$C$5,(Параметры!$C$3-Параметры!$C$3*Параметры!$C$4)/Параметры!$C$5, Кэшфло!$B$1*(Параметры!$C$6/800*(1+Параметры!$C$6/800)^Параметры!$C$5)/((1+Параметры!$C$6/800)^Параметры!$C$5-1)),\"\")","v":""}]
[{"$f":"IF(A91>=Параметры!$C$5,\"\",A91+1)","v":""},{"$f":"IF(A92<>\"\",IF(Кэшфло!$B$1*(Параметры!$C$6/800*(1+Параметры!$C$6/800)^Параметры!$C$5)/((1+Параметры!$C$6/800)^Параметры!$C$5-1)<(Параметры!$C$3-Параметры!$C$3*Параметры!$C$4)/Параметры!$C$5,(Параметры!$C$3-Параметры!$C$3*Параметры!$C$4)/Параметры!$C$5, Кэшфло!$B$1*(Параметры!$C$6/800*(1+Параметры!$C$6/800)^Параметры!$C$5)/((1+Параметры!$C$6/800)^Параметры!$C$5-1)),\"\")","v":""}]
[{"$f":"IF(A92>=Параметры!$C$5,\"\",A92+1)","v":""},{"$f":"IF(A93<>\"\",IF(Кэшфло!$B$1*(Параметры!$C$6/800*(1+Параметры!$C$6/800)^Параметры!$C$5)/((1+Параметры!$C$6/800)^Параметры!$C$5-1)<(Параметры!$C$3-Параметры!$C$3*Параметры!$C$4)/Параметры!$C$5,(Параметры!$C$3-Параметры!$C$3*Параметры!$C$4)/Параметры!$C$5, Кэшфло!$B$1*(Параметры!$C$6/800*(1+Параметры!$C$6/800)^Параметры!$C$5)/((1+Параметры!$C$6/800)^Параметры!$C$5-1)),\"\")","v":""}]
[{"$f":"IF(A93>=Параметры!$C$5,\"\",A93+1)","v":""},{"$f":"IF(A94<>\"\",IF(Кэшфло!$B$1*(Параметры!$C$6/800*(1+Параметры!$C$6/800)^Параметры!$C$5)/((1+Параметры!$C$6/800)^Параметры!$C$5-1)<(Параметры!$C$3-Параметры!$C$3*Параметры!$C$4)/Параметры!$C$5,(Параметры!$C$3-Параметры!$C$3*Параметры!$C$4)/Параметры!$C$5, Кэшфло!$B$1*(Параметры!$C$6/800*(1+Параметры!$C$6/800)^Параметры!$C$5)/((1+Параметры!$C$6/800)^Параметры!$C$5-1)),\"\")","v":""}]
[{"$f":"IF(A94>=Параметры!$C$5,\"\",A94+1)","v":""},{"$f":"IF(A95<>\"\",IF(Кэшфло!$B$1*(Параметры!$C$6/800*(1+Параметры!$C$6/800)^Параметры!$C$5)/((1+Параметры!$C$6/800)^Параметры!$C$5-1)<(Параметры!$C$3-Параметры!$C$3*Параметры!$C$4)/Параметры!$C$5,(Параметры!$C$3-Параметры!$C$3*Параметры!$C$4)/Параметры!$C$5, Кэшфло!$B$1*(Параметры!$C$6/800*(1+Параметры!$C$6/800)^Параметры!$C$5)/((1+Параметры!$C$6/800)^Параметры!$C$5-1)),\"\")","v":""}]
[{"$f":"IF(A95>=Параметры!$C$5,\"\",A95+1)","v":""},{"$f":"IF(A96<>\"\",IF(Кэшфло!$B$1*(Параметры!$C$6/800*(1+Параметры!$C$6/800)^Параметры!$C$5)/((1+Параметры!$C$6/800)^Параметры!$C$5-1)<(Параметры!$C$3-Параметры!$C$3*Параметры!$C$4)/Параметры!$C$5,(Параметры!$C$3-Параметры!$C$3*Параметры!$C$4)/Параметры!$C$5, Кэшфло!$B$1*(Параметры!$C$6/800*(1+Параметры!$C$6/800)^Параметры!$C$5)/((1+Параметры!$C$6/800)^Параметры!$C$5-1)),\"\")","v":""}]
[{"$f":"IF(A96>=Параметры!$C$5,\"\",A96+1)","v":""},{"$f":"IF(A97<>\"\",IF(Кэшфло!$B$1*(Параметры!$C$6/800*(1+Параметры!$C$6/800)^Параметры!$C$5)/((1+Параметры!$C$6/800)^Параметры!$C$5-1)<(Параметры!$C$3-Параметры!$C$3*Параметры!$C$4)/Параметры!$C$5,(Параметры!$C$3-Параметры!$C$3*Параметры!$C$4)/Параметры!$C$5, Кэшфло!$B$1*(Параметры!$C$6/800*(1+Параметры!$C$6/800)^Параметры!$C$5)/((1+Параметры!$C$6/800)^Параметры!$C$5-1)),\"\")","v":""}]
[{"$f":"IF(A97>=Параметры!$C$5,\"\",A97+1)","v":""},{"$f":"IF(A98<>\"\",IF(Кэшфло!$B$1*(Параметры!$C$6/800*(1+Параметры!$C$6/800)^Параметры!$C$5)/((1+Параметры!$C$6/800)^Параметры!$C$5-1)<(Параметры!$C$3-Параметры!$C$3*Параметры!$C$4)/Параметры!$C$5,(Параметры!$C$3-Параметры!$C$3*Параметры!$C$4)/Параметры!$C$5, Кэшфло!$B$1*(Параметры!$C$6/800*(1+Параметры!$C$6/800)^Параметры!$C$5)/((1+Параметры!$C$6/800)^Параметры!$C$5-1)),\"\")","v":""}]
[{"$f":"IF(A98>=Параметры!$C$5,\"\",A98+1)","v":""},{"$f":"IF(A99<>\"\",IF(Кэшфло!$B$1*(Параметры!$C$6/800*(1+Параметры!$C$6/800)^Параметры!$C$5)/((1+Параметры!$C$6/800)^Параметры!$C$5-1)<(Параметры!$C$3-Параметры!$C$3*Параметры!$C$4)/Параметры!$C$5,(Параметры!$C$3-Параметры!$C$3*Параметры!$C$4)/Параметры!$C$5, Кэшфло!$B$1*(Параметры!$C$6/800*(1+Параметры!$C$6/800)^Параметры!$C$5)/((1+Параметры!$C$6/800)^Параметры!$C$5-1)),\"\")","v":""}]
[{"$f":"IF(A99>=Параметры!$C$5,\"\",A99+1)","v":""},{"$f":"IF(A100<>\"\",IF(Кэшфло!$B$1*(Параметры!$C$6/800*(1+Параметры!$C$6/800)^Параметры!$C$5)/((1+Параметры!$C$6/800)^Параметры!$C$5-1)<(Параметры!$C$3-Параметры!$C$3*Параметры!$C$4)/Параметры!$C$5,(Параметры!$C$3-Параметры!$C$3*Параметры!$C$4)/Параметры!$C$5, Кэшфло!$B$1*(Параметры!$C$6/800*(1+Параметры!$C$6/800)^Параметры!$C$5)/((1+Параметры!$C$6/800)^Параметры!$C$5-1)),\"\")","v":""}]
[{"$f":"IF(A100>=Параметры!$C$5,\"\",A100+1)","v":""},{"$f":"IF(A101<>\"\",IF(Кэшфло!$B$1*(Параметры!$C$6/800*(1+Параметры!$C$6/800)^Параметры!$C$5)/((1+Параметры!$C$6/800)^Параметры!$C$5-1)<(Параметры!$C$3-Параметры!$C$3*Параметры!$C$4)/Параметры!$C$5,(Параметры!$C$3-Параметры!$C$3*Параметры!$C$4)/Параметры!$C$5, Кэшфло!$B$1*(Параметры!$C$6/800*(1+Параметры!$C$6/800)^Параметры!$C$5)/((1+Параметры!$C$6/800)^Параметры!$C$5-1)),\"\")","v":""}]
[{"$f":"IF(A101>=Параметры!$C$5,\"\",A101+1)","v":""},{"$f":"IF(A102<>\"\",IF(Кэшфло!$B$1*(Параметры!$C$6/800*(1+Параметры!$C$6/800)^Параметры!$C$5)/((1+Параметры!$C$6/800)^Параметры!$C$5-1)<(Параметры!$C$3-Параметры!$C$3*Параметры!$C$4)/Параметры!$C$5,(Параметры!$C$3-Параметры!$C$3*Параметры!$C$4)/Параметры!$C$5, Кэшфло!$B$1*(Параметры!$C$6/800*(1+Параметры!$C$6/800)^Параметры!$C$5)/((1+Параметры!$C$6/800)^Параметры!$C$5-1)),\"\")","v":""}]
[{"$f":"IF(A102>=Параметры!$C$5,\"\",A102+1)","v":""},{"$f":"IF(A103<>\"\",IF(Кэшфло!$B$1*(Параметры!$C$6/800*(1+Параметры!$C$6/800)^Параметры!$C$5)/((1+Параметры!$C$6/800)^Параметры!$C$5-1)<(Параметры!$C$3-Параметры!$C$3*Параметры!$C$4)/Параметры!$C$5,(Параметры!$C$3-Параметры!$C$3*Параметры!$C$4)/Параметры!$C$5, Кэшфло!$B$1*(Параметры!$C$6/800*(1+Параметры!$C$6/800)^Параметры!$C$5)/((1+Параметры!$C$6/800)^Параметры!$C$5-1)),\"\")","v":""}]
[{"$f":"IF(A103>=Параметры!$C$5,\"\",A103+1)","v":""},{"$f":"IF(A104<>\"\",IF(Кэшфло!$B$1*(Параметры!$C$6/800*(1+Параметры!$C$6/800)^Параметры!$C$5)/((1+Параметры!$C$6/800)^Параметры!$C$5-1)<(Параметры!$C$3-Параметры!$C$3*Параметры!$C$4)/Параметры!$C$5,(Параметры!$C$3-Параметры!$C$3*Параметры!$C$4)/Параметры!$C$5, Кэшфло!$B$1*(Параметры!$C$6/800*(1+Параметры!$C$6/800)^Параметры!$C$5)/((1+Параметры!$C$6/800)^Параметры!$C$5-1)),\"\")","v":""}]
[{"$f":"IF(A104>=Параметры!$C$5,\"\",A104+1)","v":""},{"$f":"IF(A105<>\"\",IF(Кэшфло!$B$1*(Параметры!$C$6/800*(1+Параметры!$C$6/800)^Параметры!$C$5)/((1+Параметры!$C$6/800)^Параметры!$C$5-1)<(Параметры!$C$3-Параметры!$C$3*Параметры!$C$4)/Параметры!$C$5,(Параметры!$C$3-Параметры!$C$3*Параметры!$C$4)/Параметры!$C$5, Кэшфло!$B$1*(Параметры!$C$6/800*(1+Параметры!$C$6/800)^Параметры!$C$5)/((1+Параметры!$C$6/800)^Параметры!$C$5-1)),\"\")","v":""}]
[{"$f":"IF(A105>=Параметры!$C$5,\"\",A105+1)","v":""},{"$f":"IF(A106<>\"\",IF(Кэшфло!$B$1*(Параметры!$C$6/800*(1+Параметры!$C$6/800)^Параметры!$C$5)/((1+Параметры!$C$6/800)^Параметры!$C$5-1)<(Параметры!$C$3-Параметры!$C$3*Параметры!$C$4)/Параметры!$C$5,(Параметры!$C$3-Параметры!$C$3*Параметры!$C$4)/Параметры!$C$5, Кэшфло!$B$1*(Параметры!$C$6/800*(1+Параметры!$C$6/800)^Параметры!$C$5)/((1+Параметры!$C$6/800)^Параметры!$C$5-1)),\"\")","v":""}]
[{"$f":"IF(A106>=Параметры!$C$5,\"\",A106+1)","v":""},{"$f":"IF(A107<>\"\",IF(Кэшфло!$B$1*(Параметры!$C$6/800*(1+Параметры!$C$6/800)^Параметры!$C$5)/((1+Параметры!$C$6/800)^Параметры!$C$5-1)<(Параметры!$C$3-Параметры!$C$3*Параметры!$C$4)/Параметры!$C$5,(Параметры!$C$3-Параметры!$C$3*Параметры!$C$4)/Параметры!$C$5, Кэшфло!$B$1*(Параметры!$C$6/800*(1+Параметры!$C$6/800)^Параметры!$C$5)/((1+Параметры!$C$6/800)^Параметры!$C$5-1)),\"\")","v":""}]
[{"$f":"IF(A107>=Параметры!$C$5,\"\",A107+1)","v":""},{"$f":"IF(A108<>\"\",IF(Кэшфло!$B$1*(Параметры!$C$6/800*(1+Параметры!$C$6/800)^Параметры!$C$5)/((1+Параметры!$C$6/800)^Параметры!$C$5-1)<(Параметры!$C$3-Параметры!$C$3*Параметры!$C$4)/Параметры!$C$5,(Параметры!$C$3-Параметры!$C$3*Параметры!$C$4)/Параметры!$C$5, Кэшфло!$B$1*(Параметры!$C$6/800*(1+Параметры!$C$6/800)^Параметры!$C$5)/((1+Параметры!$C$6/800)^Параметры!$C$5-1)),\"\")","v":""}]
[{"$f":"IF(A108>=Параметры!$C$5,\"\",A108+1)","v":""},{"$f":"IF(A109<>\"\",IF(Кэшфло!$B$1*(Параметры!$C$6/800*(1+Параметры!$C$6/800)^Параметры!$C$5)/((1+Параметры!$C$6/800)^Параметры!$C$5-1)<(Параметры!$C$3-Параметры!$C$3*Параметры!$C$4)/Параметры!$C$5,(Параметры!$C$3-Параметры!$C$3*Параметры!$C$4)/Параметры!$C$5, Кэшфло!$B$1*(Параметры!$C$6/800*(1+Параметры!$C$6/800)^Параметры!$C$5)/((1+Параметры!$C$6/800)^Параметры!$C$5-1)),\"\")","v":""}]
[{"$f":"IF(A109>=Параметры!$C$5,\"\",A109+1)","v":""},{"$f":"IF(A110<>\"\",IF(Кэшфло!$B$1*(Параметры!$C$6/800*(1+Параметры!$C$6/800)^Параметры!$C$5)/((1+Параметры!$C$6/800)^Параметры!$C$5-1)<(Параметры!$C$3-Параметры!$C$3*Параметры!$C$4)/Параметры!$C$5,(Параметры!$C$3-Параметры!$C$3*Параметры!$C$4)/Параметры!$C$5, Кэшфло!$B$1*(Параметры!$C$6/800*(1+Параметры!$C$6/800)^Параметры!$C$5)/((1+Параметры!$C$6/800)^Параметры!$C$5-1)),\"\")","v":""}]
[{"$f":"IF(A110>=Параметры!$C$5,\"\",A110+1)","v":""},{"$f":"IF(A111<>\"\",IF(Кэшфло!$B$1*(Параметры!$C$6/800*(1+Параметры!$C$6/800)^Параметры!$C$5)/((1+Параметры!$C$6/800)^Параметры!$C$5-1)<(Параметры!$C$3-Параметры!$C$3*Параметры!$C$4)/Параметры!$C$5,(Параметры!$C$3-Параметры!$C$3*Параметры!$C$4)/Параметры!$C$5, Кэшфло!$B$1*(Параметры!$C$6/800*(1+Параметры!$C$6/800)^Параметры!$C$5)/((1+Параметры!$C$6/800)^Параметры!$C$5-1)),\"\")","v":""}]
[{"$f":"IF(A111>=Параметры!$C$5,\"\",A111+1)","v":""},{"$f":"IF(A112<>\"\",IF(Кэшфло!$B$1*(Параметры!$C$6/800*(1+Параметры!$C$6/800)^Параметры!$C$5)/((1+Параметры!$C$6/800)^Параметры!$C$5-1)<(Параметры!$C$3-Параметры!$C$3*Параметры!$C$4)/Параметры!$C$5,(Параметры!$C$3-Параметры!$C$3*Параметры!$C$4)/Параметры!$C$5, Кэшфло!$B$1*(Параметры!$C$6/800*(1+Параметры!$C$6/800)^Параметры!$C$5)/((1+Параметры!$C$6/800)^Параметры!$C$5-1)),\"\")","v":""}]
[{"$f":"IF(A112>=Параметры!$C$5,\"\",A112+1)","v":""},{"$f":"IF(A113<>\"\",IF(Кэшфло!$B$1*(Параметры!$C$6/800*(1+Параметры!$C$6/800)^Параметры!$C$5)/((1+Параметры!$C$6/800)^Параметры!$C$5-1)<(Параметры!$C$3-Параметры!$C$3*Параметры!$C$4)/Параметры!$C$5,(Параметры!$C$3-Параметры!$C$3*Параметры!$C$4)/Параметры!$C$5, Кэшфло!$B$1*(Параметры!$C$6/800*(1+Параметры!$C$6/800)^Параметры!$C$5)/((1+Параметры!$C$6/800)^Параметры!$C$5-1)),\"\")","v":""}]
[{"$f":"IF(A113>=Параметры!$C$5,\"\",A113+1)","v":""},{"$f":"IF(A114<>\"\",IF(Кэшфло!$B$1*(Параметры!$C$6/800*(1+Параметры!$C$6/800)^Параметры!$C$5)/((1+Параметры!$C$6/800)^Параметры!$C$5-1)<(Параметры!$C$3-Параметры!$C$3*Параметры!$C$4)/Параметры!$C$5,(Параметры!$C$3-Параметры!$C$3*Параметры!$C$4)/Параметры!$C$5, Кэшфло!$B$1*(Параметры!$C$6/800*(1+Параметры!$C$6/800)^Параметры!$C$5)/((1+Параметры!$C$6/800)^Параметры!$C$5-1)),\"\")","v":""}]
[{"$f":"IF(A114>=Параметры!$C$5,\"\",A114+1)","v":""},{"$f":"IF(A115<>\"\",IF(Кэшфло!$B$1*(Параметры!$C$6/800*(1+Параметры!$C$6/800)^Параметры!$C$5)/((1+Параметры!$C$6/800)^Параметры!$C$5-1)<(Параметры!$C$3-Параметры!$C$3*Параметры!$C$4)/Параметры!$C$5,(Параметры!$C$3-Параметры!$C$3*Параметры!$C$4)/Параметры!$C$5, Кэшфло!$B$1*(Параметры!$C$6/800*(1+Параметры!$C$6/800)^Параметры!$C$5)/((1+Параметры!$C$6/800)^Параметры!$C$5-1)),\"\")","v":""}]
[{"$f":"IF(A115>=Параметры!$C$5,\"\",A115+1)","v":""},{"$f":"IF(A116<>\"\",IF(Кэшфло!$B$1*(Параметры!$C$6/800*(1+Параметры!$C$6/800)^Параметры!$C$5)/((1+Параметры!$C$6/800)^Параметры!$C$5-1)<(Параметры!$C$3-Параметры!$C$3*Параметры!$C$4)/Параметры!$C$5,(Параметры!$C$3-Параметры!$C$3*Параметры!$C$4)/Параметры!$C$5, Кэшфло!$B$1*(Параметры!$C$6/800*(1+Параметры!$C$6/800)^Параметры!$C$5)/((1+Параметры!$C$6/800)^Параметры!$C$5-1)),\"\")","v":""}]
[{"$f":"IF(A116>=Параметры!$C$5,\"\",A116+1)","v":""},{"$f":"IF(A117<>\"\",IF(Кэшфло!$B$1*(Параметры!$C$6/800*(1+Параметры!$C$6/800)^Параметры!$C$5)/((1+Параметры!$C$6/800)^Параметры!$C$5-1)<(Параметры!$C$3-Параметры!$C$3*Параметры!$C$4)/Параметры!$C$5,(Параметры!$C$3-Параметры!$C$3*Параметры!$C$4)/Параметры!$C$5, Кэшфло!$B$1*(Параметры!$C$6/800*(1+Параметры!$C$6/800)^Параметры!$C$5)/((1+Параметры!$C$6/800)^Параметры!$C$5-1)),\"\")","v":""}]
[{"$f":"IF(A117>=Параметры!$C$5,\"\",A117+1)","v":""},{"$f":"IF(A118<>\"\",IF(Кэшфло!$B$1*(Параметры!$C$6/800*(1+Параметры!$C$6/800)^Параметры!$C$5)/((1+Параметры!$C$6/800)^Параметры!$C$5-1)<(Параметры!$C$3-Параметры!$C$3*Параметры!$C$4)/Параметры!$C$5,(Параметры!$C$3-Параметры!$C$3*Параметры!$C$4)/Параметры!$C$5, Кэшфло!$B$1*(Параметры!$C$6/800*(1+Параметры!$C$6/800)^Параметры!$C$5)/((1+Параметры!$C$6/800)^Параметры!$C$5-1)),\"\")","v":""}]
[{"$f":"IF(A118>=Параметры!$C$5,\"\",A118+1)","v":""},{"$f":"IF(A119<>\"\",IF(Кэшфло!$B$1*(Параметры!$C$6/800*(1+Параметры!$C$6/800)^Параметры!$C$5)/((1+Параметры!$C$6/800)^Параметры!$C$5-1)<(Параметры!$C$3-Параметры!$C$3*Параметры!$C$4)/Параметры!$C$5,(Параметры!$C$3-Параметры!$C$3*Параметры!$C$4)/Параметры!$C$5, Кэшфло!$B$1*(Параметры!$C$6/800*(1+Параметры!$C$6/800)^Параметры!$C$5)/((1+Параметры!$C$6/800)^Параметры!$C$5-1)),\"\")","v":""}]
[{"$f":"IF(A119>=Параметры!$C$5,\"\",A119+1)","v":""},{"$f":"IF(A120<>\"\",IF(Кэшфло!$B$1*(Параметры!$C$6/800*(1+Параметры!$C$6/800)^Параметры!$C$5)/((1+Параметры!$C$6/800)^Параметры!$C$5-1)<(Параметры!$C$3-Параметры!$C$3*Параметры!$C$4)/Параметры!$C$5,(Параметры!$C$3-Параметры!$C$3*Параметры!$C$4)/Параметры!$C$5, Кэшфло!$B$1*(Параметры!$C$6/800*(1+Параметры!$C$6/800)^Параметры!$C$5)/((1+Параметры!$C$6/800)^Параметры!$C$5-1)),\"\")","v":""}]
[{"$f":"IF(A120>=Параметры!$C$5,\"\",A120+1)","v":""},{"$f":"IF(A121<>\"\",IF(Кэшфло!$B$1*(Параметры!$C$6/800*(1+Параметры!$C$6/800)^Параметры!$C$5)/((1+Параметры!$C$6/800)^Параметры!$C$5-1)<(Параметры!$C$3-Параметры!$C$3*Параметры!$C$4)/Параметры!$C$5,(Параметры!$C$3-Параметры!$C$3*Параметры!$C$4)/Параметры!$C$5, Кэшфло!$B$1*(Параметры!$C$6/800*(1+Параметры!$C$6/800)^Параметры!$C$5)/((1+Параметры!$C$6/800)^Параметры!$C$5-1)),\"\")","v":""}]
[{"$f":"IF(A121>=Параметры!$C$5,\"\",A121+1)","v":""},{"$f":"IF(A122<>\"\",IF(Кэшфло!$B$1*(Параметры!$C$6/800*(1+Параметры!$C$6/800)^Параметры!$C$5)/((1+Параметры!$C$6/800)^Параметры!$C$5-1)<(Параметры!$C$3-Параметры!$C$3*Параметры!$C$4)/Параметры!$C$5,(Параметры!$C$3-Параметры!$C$3*Параметры!$C$4)/Параметры!$C$5, Кэшфло!$B$1*(Параметры!$C$6/800*(1+Параметры!$C$6/800)^Параметры!$C$5)/((1+Параметры!$C$6/800)^Параметры!$C$5-1)),\"\")","v":""}]
[{"$f":"IF(A122>=Параметры!$C$5,\"\",A122+1)","v":""},{"$f":"IF(A123<>\"\",IF(Кэшфло!$B$1*(Параметры!$C$6/800*(1+Параметры!$C$6/800)^Параметры!$C$5)/((1+Параметры!$C$6/800)^Параметры!$C$5-1)<(Параметры!$C$3-Параметры!$C$3*Параметры!$C$4)/Параметры!$C$5,(Параметры!$C$3-Параметры!$C$3*Параметры!$C$4)/Параметры!$C$5, Кэшфло!$B$1*(Параметры!$C$6/800*(1+Параметры!$C$6/800)^Параметры!$C$5)/((1+Параметры!$C$6/800)^Параметры!$C$5-1)),\"\")","v":""}]
[{"$f":"IF(A123>=Параметры!$C$5,\"\",A123+1)","v":""},{"$f":"IF(A124<>\"\",IF(Кэшфло!$B$1*(Параметры!$C$6/800*(1+Параметры!$C$6/800)^Параметры!$C$5)/((1+Параметры!$C$6/800)^Параметры!$C$5-1)<(Параметры!$C$3-Параметры!$C$3*Параметры!$C$4)/Параметры!$C$5,(Параметры!$C$3-Параметры!$C$3*Параметры!$C$4)/Параметры!$C$5, Кэшфло!$B$1*(Параметры!$C$6/800*(1+Параметры!$C$6/800)^Параметры!$C$5)/((1+Параметры!$C$6/800)^Параметры!$C$5-1)),\"\")","v":""}]
[{"$f":"IF(A124>=Параметры!$C$5,\"\",A124+1)","v":""},{"$f":"IF(A125<>\"\",IF(Кэшфло!$B$1*(Параметры!$C$6/800*(1+Параметры!$C$6/800)^Параметры!$C$5)/((1+Параметры!$C$6/800)^Параметры!$C$5-1)<(Параметры!$C$3-Параметры!$C$3*Параметры!$C$4)/Параметры!$C$5,(Параметры!$C$3-Параметры!$C$3*Параметры!$C$4)/Параметры!$C$5, Кэшфло!$B$1*(Параметры!$C$6/800*(1+Параметры!$C$6/800)^Параметры!$C$5)/((1+Параметры!$C$6/800)^Параметры!$C$5-1)),\"\")","v":""}]
[{"$f":"IF(A125>=Параметры!$C$5,\"\",A125+1)","v":""},{"$f":"IF(A126<>\"\",IF(Кэшфло!$B$1*(Параметры!$C$6/800*(1+Параметры!$C$6/800)^Параметры!$C$5)/((1+Параметры!$C$6/800)^Параметры!$C$5-1)<(Параметры!$C$3-Параметры!$C$3*Параметры!$C$4)/Параметры!$C$5,(Параметры!$C$3-Параметры!$C$3*Параметры!$C$4)/Параметры!$C$5, Кэшфло!$B$1*(Параметры!$C$6/800*(1+Параметры!$C$6/800)^Параметры!$C$5)/((1+Параметры!$C$6/800)^Параметры!$C$5-1)),\"\")","v":""}]
[{"$f":"IF(A126>=Параметры!$C$5,\"\",A126+1)","v":""},{"$f":"IF(A127<>\"\",IF(Кэшфло!$B$1*(Параметры!$C$6/800*(1+Параметры!$C$6/800)^Параметры!$C$5)/((1+Параметры!$C$6/800)^Параметры!$C$5-1)<(Параметры!$C$3-Параметры!$C$3*Параметры!$C$4)/Параметры!$C$5,(Параметры!$C$3-Параметры!$C$3*Параметры!$C$4)/Параметры!$C$5, Кэшфло!$B$1*(Параметры!$C$6/800*(1+Параметры!$C$6/800)^Параметры!$C$5)/((1+Параметры!$C$6/800)^Параметры!$C$5-1)),\"\")","v":""}]
[{"$f":"IF(A127>=Параметры!$C$5,\"\",A127+1)","v":""},{"$f":"IF(A128<>\"\",IF(Кэшфло!$B$1*(Параметры!$C$6/800*(1+Параметры!$C$6/800)^Параметры!$C$5)/((1+Параметры!$C$6/800)^Параметры!$C$5-1)<(Параметры!$C$3-Параметры!$C$3*Параметры!$C$4)/Параметры!$C$5,(Параметры!$C$3-Параметры!$C$3*Параметры!$C$4)/Параметры!$C$5, Кэшфло!$B$1*(Параметры!$C$6/800*(1+Параметры!$C$6/800)^Параметры!$C$5)/((1+Параметры!$C$6/800)^Параметры!$C$5-1)),\"\")","v":""}]
[{"$f":"IF(A128>=Параметры!$C$5,\"\",A128+1)","v":""},{"$f":"IF(A129<>\"\",IF(Кэшфло!$B$1*(Параметры!$C$6/800*(1+Параметры!$C$6/800)^Параметры!$C$5)/((1+Параметры!$C$6/800)^Параметры!$C$5-1)<(Параметры!$C$3-Параметры!$C$3*Параметры!$C$4)/Параметры!$C$5,(Параметры!$C$3-Параметры!$C$3*Параметры!$C$4)/Параметры!$C$5, Кэшфло!$B$1*(Параметры!$C$6/800*(1+Параметры!$C$6/800)^Параметры!$C$5)/((1+Параметры!$C$6/800)^Параметры!$C$5-1)),\"\")","v":""}]
[{"$f":"IF(A129>=Параметры!$C$5,\"\",A129+1)","v":""},{"$f":"IF(A130<>\"\",IF(Кэшфло!$B$1*(Параметры!$C$6/800*(1+Параметры!$C$6/800)^Параметры!$C$5)/((1+Параметры!$C$6/800)^Параметры!$C$5-1)<(Параметры!$C$3-Параметры!$C$3*Параметры!$C$4)/Параметры!$C$5,(Параметры!$C$3-Параметры!$C$3*Параметры!$C$4)/Параметры!$C$5, Кэшфло!$B$1*(Параметры!$C$6/800*(1+Параметры!$C$6/800)^Параметры!$C$5)/((1+Параметры!$C$6/800)^Параметры!$C$5-1)),\"\")","v":""}]
[{"$f":"IF(A130>=Параметры!$C$5,\"\",A130+1)","v":""},{"$f":"IF(A131<>\"\",IF(Кэшфло!$B$1*(Параметры!$C$6/800*(1+Параметры!$C$6/800)^Параметры!$C$5)/((1+Параметры!$C$6/800)^Параметры!$C$5-1)<(Параметры!$C$3-Параметры!$C$3*Параметры!$C$4)/Параметры!$C$5,(Параметры!$C$3-Параметры!$C$3*Параметры!$C$4)/Параметры!$C$5, Кэшфло!$B$1*(Параметры!$C$6/800*(1+Параметры!$C$6/800)^Параметры!$C$5)/((1+Параметры!$C$6/800)^Параметры!$C$5-1)),\"\")","v":""}]
[{"$f":"IF(A131>=Параметры!$C$5,\"\",A131+1)","v":""},{"$f":"IF(A132<>\"\",IF(Кэшфло!$B$1*(Параметры!$C$6/800*(1+Параметры!$C$6/800)^Параметры!$C$5)/((1+Параметры!$C$6/800)^Параметры!$C$5-1)<(Параметры!$C$3-Параметры!$C$3*Параметры!$C$4)/Параметры!$C$5,(Параметры!$C$3-Параметры!$C$3*Параметры!$C$4)/Параметры!$C$5, Кэшфло!$B$1*(Параметры!$C$6/800*(1+Параметры!$C$6/800)^Параметры!$C$5)/((1+Параметры!$C$6/800)^Параметры!$C$5-1)),\"\")","v":""}]
[{"$f":"IF(A132>=Параметры!$C$5,\"\",A132+1)","v":""},{"$f":"IF(A133<>\"\",IF(Кэшфло!$B$1*(Параметры!$C$6/800*(1+Параметры!$C$6/800)^Параметры!$C$5)/((1+Параметры!$C$6/800)^Параметры!$C$5-1)<(Параметры!$C$3-Параметры!$C$3*Параметры!$C$4)/Параметры!$C$5,(Параметры!$C$3-Параметры!$C$3*Параметры!$C$4)/Параметры!$C$5, Кэшфло!$B$1*(Параметры!$C$6/800*(1+Параметры!$C$6/800)^Параметры!$C$5)/((1+Параметры!$C$6/800)^Параметры!$C$5-1)),\"\")","v":""}]
[{"$f":"IF(A133>=Параметры!$C$5,\"\",A133+1)","v":""},{"$f":"IF(A134<>\"\",IF(Кэшфло!$B$1*(Параметры!$C$6/800*(1+Параметры!$C$6/800)^Параметры!$C$5)/((1+Параметры!$C$6/800)^Параметры!$C$5-1)<(Параметры!$C$3-Параметры!$C$3*Параметры!$C$4)/Параметры!$C$5,(Параметры!$C$3-Параметры!$C$3*Параметры!$C$4)/Параметры!$C$5, Кэшфло!$B$1*(Параметры!$C$6/800*(1+Параметры!$C$6/800)^Параметры!$C$5)/((1+Параметры!$C$6/800)^Параметры!$C$5-1)),\"\")","v":""}]
[{"$f":"IF(A134>=Параметры!$C$5,\"\",A134+1)","v":""},{"$f":"IF(A135<>\"\",IF(Кэшфло!$B$1*(Параметры!$C$6/800*(1+Параметры!$C$6/800)^Параметры!$C$5)/((1+Параметры!$C$6/800)^Параметры!$C$5-1)<(Параметры!$C$3-Параметры!$C$3*Параметры!$C$4)/Параметры!$C$5,(Параметры!$C$3-Параметры!$C$3*Параметры!$C$4)/Параметры!$C$5, Кэшфло!$B$1*(Параметры!$C$6/800*(1+Параметры!$C$6/800)^Параметры!$C$5)/((1+Параметры!$C$6/800)^Параметры!$C$5-1)),\"\")","v":""}]
[{"$f":"IF(A135>=Параметры!$C$5,\"\",A135+1)","v":""},{"$f":"IF(A136<>\"\",IF(Кэшфло!$B$1*(Параметры!$C$6/800*(1+Параметры!$C$6/800)^Параметры!$C$5)/((1+Параметры!$C$6/800)^Параметры!$C$5-1)<(Параметры!$C$3-Параметры!$C$3*Параметры!$C$4)/Параметры!$C$5,(Параметры!$C$3-Параметры!$C$3*Параметры!$C$4)/Параметры!$C$5, Кэшфло!$B$1*(Параметры!$C$6/800*(1+Параметры!$C$6/800)^Параметры!$C$5)/((1+Параметры!$C$6/800)^Параметры!$C$5-1)),\"\")","v":""}]
[{"$f":"IF(A136>=Параметры!$C$5,\"\",A136+1)","v":""},{"$f":"IF(A137<>\"\",IF(Кэшфло!$B$1*(Параметры!$C$6/800*(1+Параметры!$C$6/800)^Параметры!$C$5)/((1+Параметры!$C$6/800)^Параметры!$C$5-1)<(Параметры!$C$3-Параметры!$C$3*Параметры!$C$4)/Параметры!$C$5,(Параметры!$C$3-Параметры!$C$3*Параметры!$C$4)/Параметры!$C$5, Кэшфло!$B$1*(Параметры!$C$6/800*(1+Параметры!$C$6/800)^Параметры!$C$5)/((1+Параметры!$C$6/800)^Параметры!$C$5-1)),\"\")","v":""}]
[{"$f":"IF(A137>=Параметры!$C$5,\"\",A137+1)","v":""},{"$f":"IF(A138<>\"\",IF(Кэшфло!$B$1*(Параметры!$C$6/800*(1+Параметры!$C$6/800)^Параметры!$C$5)/((1+Параметры!$C$6/800)^Параметры!$C$5-1)<(Параметры!$C$3-Параметры!$C$3*Параметры!$C$4)/Параметры!$C$5,(Параметры!$C$3-Параметры!$C$3*Параметры!$C$4)/Параметры!$C$5, Кэшфло!$B$1*(Параметры!$C$6/800*(1+Параметры!$C$6/800)^Параметры!$C$5)/((1+Параметры!$C$6/800)^Параметры!$C$5-1)),\"\")","v":""}]
[{"$f":"IF(A138>=Параметры!$C$5,\"\",A138+1)","v":""},{"$f":"IF(A139<>\"\",IF(Кэшфло!$B$1*(Параметры!$C$6/800*(1+Параметры!$C$6/800)^Параметры!$C$5)/((1+Параметры!$C$6/800)^Параметры!$C$5-1)<(Параметры!$C$3-Параметры!$C$3*Параметры!$C$4)/Параметры!$C$5,(Параметры!$C$3-Параметры!$C$3*Параметры!$C$4)/Параметры!$C$5, Кэшфло!$B$1*(Параметры!$C$6/800*(1+Параметры!$C$6/800)^Параметры!$C$5)/((1+Параметры!$C$6/800)^Параметры!$C$5-1)),\"\")","v":""}]
[{"$f":"IF(A139>=Параметры!$C$5,\"\",A139+1)","v":""},{"$f":"IF(A140<>\"\",IF(Кэшфло!$B$1*(Параметры!$C$6/800*(1+Параметры!$C$6/800)^Параметры!$C$5)/((1+Параметры!$C$6/800)^Параметры!$C$5-1)<(Параметры!$C$3-Параметры!$C$3*Параметры!$C$4)/Параметры!$C$5,(Параметры!$C$3-Параметры!$C$3*Параметры!$C$4)/Параметры!$C$5, Кэшфло!$B$1*(Параметры!$C$6/800*(1+Параметры!$C$6/800)^Параметры!$C$5)/((1+Параметры!$C$6/800)^Параметры!$C$5-1)),\"\")","v":""}]
[{"$f":"IF(A140>=Параметры!$C$5,\"\",A140+1)","v":""},{"$f":"IF(A141<>\"\",IF(Кэшфло!$B$1*(Параметры!$C$6/800*(1+Параметры!$C$6/800)^Параметры!$C$5)/((1+Параметры!$C$6/800)^Параметры!$C$5-1)<(Параметры!$C$3-Параметры!$C$3*Параметры!$C$4)/Параметры!$C$5,(Параметры!$C$3-Параметры!$C$3*Параметры!$C$4)/Параметры!$C$5, Кэшфло!$B$1*(Параметры!$C$6/800*(1+Параметры!$C$6/800)^Параметры!$C$5)/((1+Параметры!$C$6/800)^Параметры!$C$5-1)),\"\")","v":""}]
[{"$f":"IF(A141>=Параметры!$C$5,\"\",A141+1)","v":""},{"$f":"IF(A142<>\"\",IF(Кэшфло!$B$1*(Параметры!$C$6/800*(1+Параметры!$C$6/800)^Параметры!$C$5)/((1+Параметры!$C$6/800)^Параметры!$C$5-1)<(Параметры!$C$3-Параметры!$C$3*Параметры!$C$4)/Параметры!$C$5,(Параметры!$C$3-Параметры!$C$3*Параметры!$C$4)/Параметры!$C$5, Кэшфло!$B$1*(Параметры!$C$6/800*(1+Параметры!$C$6/800)^Параметры!$C$5)/((1+Параметры!$C$6/800)^Параметры!$C$5-1)),\"\")","v":""}]
[{"$f":"IF(A142>=Параметры!$C$5,\"\",A142+1)","v":""},{"$f":"IF(A143<>\"\",IF(Кэшфло!$B$1*(Параметры!$C$6/800*(1+Параметры!$C$6/800)^Параметры!$C$5)/((1+Параметры!$C$6/800)^Параметры!$C$5-1)<(Параметры!$C$3-Параметры!$C$3*Параметры!$C$4)/Параметры!$C$5,(Параметры!$C$3-Параметры!$C$3*Параметры!$C$4)/Параметры!$C$5, Кэшфло!$B$1*(Параметры!$C$6/800*(1+Параметры!$C$6/800)^Параметры!$C$5)/((1+Параметры!$C$6/800)^Параметры!$C$5-1)),\"\")","v":""}]
[{"$f":"IF(A143>=Параметры!$C$5,\"\",A143+1)","v":""},{"$f":"IF(A144<>\"\",IF(Кэшфло!$B$1*(Параметры!$C$6/800*(1+Параметры!$C$6/800)^Параметры!$C$5)/((1+Параметры!$C$6/800)^Параметры!$C$5-1)<(Параметры!$C$3-Параметры!$C$3*Параметры!$C$4)/Параметры!$C$5,(Параметры!$C$3-Параметры!$C$3*Параметры!$C$4)/Параметры!$C$5, Кэшфло!$B$1*(Параметры!$C$6/800*(1+Параметры!$C$6/800)^Параметры!$C$5)/((1+Параметры!$C$6/800)^Параметры!$C$5-1)),\"\")","v":""}]
[{"$f":"IF(A144>=Параметры!$C$5,\"\",A144+1)","v":""},{"$f":"IF(A145<>\"\",IF(Кэшфло!$B$1*(Параметры!$C$6/800*(1+Параметры!$C$6/800)^Параметры!$C$5)/((1+Параметры!$C$6/800)^Параметры!$C$5-1)<(Параметры!$C$3-Параметры!$C$3*Параметры!$C$4)/Параметры!$C$5,(Параметры!$C$3-Параметры!$C$3*Параметры!$C$4)/Параметры!$C$5, Кэшфло!$B$1*(Параметры!$C$6/800*(1+Параметры!$C$6/800)^Параметры!$C$5)/((1+Параметры!$C$6/800)^Параметры!$C$5-1)),\"\")","v":""}]
[{"$f":"IF(A145>=Параметры!$C$5,\"\",A145+1)","v":""},{"$f":"IF(A146<>\"\",IF(Кэшфло!$B$1*(Параметры!$C$6/800*(1+Параметры!$C$6/800)^Параметры!$C$5)/((1+Параметры!$C$6/800)^Параметры!$C$5-1)<(Параметры!$C$3-Параметры!$C$3*Параметры!$C$4)/Параметры!$C$5,(Параметры!$C$3-Параметры!$C$3*Параметры!$C$4)/Параметры!$C$5, Кэшфло!$B$1*(Параметры!$C$6/800*(1+Параметры!$C$6/800)^Параметры!$C$5)/((1+Параметры!$C$6/800)^Параметры!$C$5-1)),\"\")","v":""}]
[{"$f":"IF(A146>=Параметры!$C$5,\"\",A146+1)","v":""},{"$f":"IF(A147<>\"\",IF(Кэшфло!$B$1*(Параметры!$C$6/800*(1+Параметры!$C$6/800)^Параметры!$C$5)/((1+Параметры!$C$6/800)^Параметры!$C$5-1)<(Параметры!$C$3-Параметры!$C$3*Параметры!$C$4)/Параметры!$C$5,(Параметры!$C$3-Параметры!$C$3*Параметры!$C$4)/Параметры!$C$5, Кэшфло!$B$1*(Параметры!$C$6/800*(1+Параметры!$C$6/800)^Параметры!$C$5)/((1+Параметры!$C$6/800)^Параметры!$C$5-1)),\"\")","v":""}]
[{"$f":"IF(A147>=Параметры!$C$5,\"\",A147+1)","v":""},{"$f":"IF(A148<>\"\",IF(Кэшфло!$B$1*(Параметры!$C$6/800*(1+Параметры!$C$6/800)^Параметры!$C$5)/((1+Параметры!$C$6/800)^Параметры!$C$5-1)<(Параметры!$C$3-Параметры!$C$3*Параметры!$C$4)/Параметры!$C$5,(Параметры!$C$3-Параметры!$C$3*Параметры!$C$4)/Параметры!$C$5, Кэшфло!$B$1*(Параметры!$C$6/800*(1+Параметры!$C$6/800)^Параметры!$C$5)/((1+Параметры!$C$6/800)^Параметры!$C$5-1)),\"\")","v":""}]
[{"$f":"IF(A148>=Параметры!$C$5,\"\",A148+1)","v":""},{"$f":"IF(A149<>\"\",IF(Кэшфло!$B$1*(Параметры!$C$6/800*(1+Параметры!$C$6/800)^Параметры!$C$5)/((1+Параметры!$C$6/800)^Параметры!$C$5-1)<(Параметры!$C$3-Параметры!$C$3*Параметры!$C$4)/Параметры!$C$5,(Параметры!$C$3-Параметры!$C$3*Параметры!$C$4)/Параметры!$C$5, Кэшфло!$B$1*(Параметры!$C$6/800*(1+Параметры!$C$6/800)^Параметры!$C$5)/((1+Параметры!$C$6/800)^Параметры!$C$5-1)),\"\")","v":""}]
[{"$f":"IF(A149>=Параметры!$C$5,\"\",A149+1)","v":""},{"$f":"IF(A150<>\"\",IF(Кэшфло!$B$1*(Параметры!$C$6/800*(1+Параметры!$C$6/800)^Параметры!$C$5)/((1+Параметры!$C$6/800)^Параметры!$C$5-1)<(Параметры!$C$3-Параметры!$C$3*Параметры!$C$4)/Параметры!$C$5,(Параметры!$C$3-Параметры!$C$3*Параметры!$C$4)/Параметры!$C$5, Кэшфло!$B$1*(Параметры!$C$6/800*(1+Параметры!$C$6/800)^Параметры!$C$5)/((1+Параметры!$C$6/800)^Параметры!$C$5-1)),\"\")","v":""}]
[{"$f":"IF(A150>=Параметры!$C$5,\"\",A150+1)","v":""},{"$f":"IF(A151<>\"\",IF(Кэшфло!$B$1*(Параметры!$C$6/800*(1+Параметры!$C$6/800)^Параметры!$C$5)/((1+Параметры!$C$6/800)^Параметры!$C$5-1)<(Параметры!$C$3-Параметры!$C$3*Параметры!$C$4)/Параметры!$C$5,(Параметры!$C$3-Параметры!$C$3*Параметры!$C$4)/Параметры!$C$5, Кэшфло!$B$1*(Параметры!$C$6/800*(1+Параметры!$C$6/800)^Параметры!$C$5)/((1+Параметры!$C$6/800)^Параметры!$C$5-1)),\"\")","v":""}]
[{"$f":"IF(A151>=Параметры!$C$5,\"\",A151+1)","v":""},{"$f":"IF(A152<>\"\",IF(Кэшфло!$B$1*(Параметры!$C$6/800*(1+Параметры!$C$6/800)^Параметры!$C$5)/((1+Параметры!$C$6/800)^Параметры!$C$5-1)<(Параметры!$C$3-Параметры!$C$3*Параметры!$C$4)/Параметры!$C$5,(Параметры!$C$3-Параметры!$C$3*Параметры!$C$4)/Параметры!$C$5, Кэшфло!$B$1*(Параметры!$C$6/800*(1+Параметры!$C$6/800)^Параметры!$C$5)/((1+Параметры!$C$6/800)^Параметры!$C$5-1)),\"\")","v":""}]
[{"$f":"IF(A152>=Параметры!$C$5,\"\",A152+1)","v":""},{"$f":"IF(A153<>\"\",IF(Кэшфло!$B$1*(Параметры!$C$6/800*(1+Параметры!$C$6/800)^Параметры!$C$5)/((1+Параметры!$C$6/800)^Параметры!$C$5-1)<(Параметры!$C$3-Параметры!$C$3*Параметры!$C$4)/Параметры!$C$5,(Параметры!$C$3-Параметры!$C$3*Параметры!$C$4)/Параметры!$C$5, Кэшфло!$B$1*(Параметры!$C$6/800*(1+Параметры!$C$6/800)^Параметры!$C$5)/((1+Параметры!$C$6/800)^Параметры!$C$5-1)),\"\")","v":""}]
[{"$f":"IF(A153>=Параметры!$C$5,\"\",A153+1)","v":""},{"$f":"IF(A154<>\"\",IF(Кэшфло!$B$1*(Параметры!$C$6/800*(1+Параметры!$C$6/800)^Параметры!$C$5)/((1+Параметры!$C$6/800)^Параметры!$C$5-1)<(Параметры!$C$3-Параметры!$C$3*Параметры!$C$4)/Параметры!$C$5,(Параметры!$C$3-Параметры!$C$3*Параметры!$C$4)/Параметры!$C$5, Кэшфло!$B$1*(Параметры!$C$6/800*(1+Параметры!$C$6/800)^Параметры!$C$5)/((1+Параметры!$C$6/800)^Параметры!$C$5-1)),\"\")","v":""}]
[{"$f":"IF(A154>=Параметры!$C$5,\"\",A154+1)","v":""},{"$f":"IF(A155<>\"\",IF(Кэшфло!$B$1*(Параметры!$C$6/800*(1+Параметры!$C$6/800)^Параметры!$C$5)/((1+Параметры!$C$6/800)^Параметры!$C$5-1)<(Параметры!$C$3-Параметры!$C$3*Параметры!$C$4)/Параметры!$C$5,(Параметры!$C$3-Параметры!$C$3*Параметры!$C$4)/Параметры!$C$5, Кэшфло!$B$1*(Параметры!$C$6/800*(1+Параметры!$C$6/800)^Параметры!$C$5)/((1+Параметры!$C$6/800)^Параметры!$C$5-1)),\"\")","v":""}]
[{"$f":"IF(A155>=Параметры!$C$5,\"\",A155+1)","v":""},{"$f":"IF(A156<>\"\",IF(Кэшфло!$B$1*(Параметры!$C$6/800*(1+Параметры!$C$6/800)^Параметры!$C$5)/((1+Параметры!$C$6/800)^Параметры!$C$5-1)<(Параметры!$C$3-Параметры!$C$3*Параметры!$C$4)/Параметры!$C$5,(Параметры!$C$3-Параметры!$C$3*Параметры!$C$4)/Параметры!$C$5, Кэшфло!$B$1*(Параметры!$C$6/800*(1+Параметры!$C$6/800)^Параметры!$C$5)/((1+Параметры!$C$6/800)^Параметры!$C$5-1)),\"\")","v":""}]
[{"$f":"IF(A156>=Параметры!$C$5,\"\",A156+1)","v":""},{"$f":"IF(A157<>\"\",IF(Кэшфло!$B$1*(Параметры!$C$6/800*(1+Параметры!$C$6/800)^Параметры!$C$5)/((1+Параметры!$C$6/800)^Параметры!$C$5-1)<(Параметры!$C$3-Параметры!$C$3*Параметры!$C$4)/Параметры!$C$5,(Параметры!$C$3-Параметры!$C$3*Параметры!$C$4)/Параметры!$C$5, Кэшфло!$B$1*(Параметры!$C$6/800*(1+Параметры!$C$6/800)^Параметры!$C$5)/((1+Параметры!$C$6/800)^Параметры!$C$5-1)),\"\")","v":""}]
[{"$f":"IF(A157>=Параметры!$C$5,\"\",A157+1)","v":""},{"$f":"IF(A158<>\"\",IF(Кэшфло!$B$1*(Параметры!$C$6/800*(1+Параметры!$C$6/800)^Параметры!$C$5)/((1+Параметры!$C$6/800)^Параметры!$C$5-1)<(Параметры!$C$3-Параметры!$C$3*Параметры!$C$4)/Параметры!$C$5,(Параметры!$C$3-Параметры!$C$3*Параметры!$C$4)/Параметры!$C$5, Кэшфло!$B$1*(Параметры!$C$6/800*(1+Параметры!$C$6/800)^Параметры!$C$5)/((1+Параметры!$C$6/800)^Параметры!$C$5-1)),\"\")","v":""}]
[{"$f":"IF(A158>=Параметры!$C$5,\"\",A158+1)","v":""},{"$f":"IF(A159<>\"\",IF(Кэшфло!$B$1*(Параметры!$C$6/800*(1+Параметры!$C$6/800)^Параметры!$C$5)/((1+Параметры!$C$6/800)^Параметры!$C$5-1)<(Параметры!$C$3-Параметры!$C$3*Параметры!$C$4)/Параметры!$C$5,(Параметры!$C$3-Параметры!$C$3*Параметры!$C$4)/Параметры!$C$5, Кэшфло!$B$1*(Параметры!$C$6/800*(1+Параметры!$C$6/800)^Параметры!$C$5)/((1+Параметры!$C$6/800)^Параметры!$C$5-1)),\"\")","v":""}]
[{"$f":"IF(A159>=Параметры!$C$5,\"\",A159+1)","v":""},{"$f":"IF(A160<>\"\",IF(Кэшфло!$B$1*(Параметры!$C$6/800*(1+Параметры!$C$6/800)^Параметры!$C$5)/((1+Параметры!$C$6/800)^Параметры!$C$5-1)<(Параметры!$C$3-Параметры!$C$3*Параметры!$C$4)/Параметры!$C$5,(Параметры!$C$3-Параметры!$C$3*Параметры!$C$4)/Параметры!$C$5, Кэшфло!$B$1*(Параметры!$C$6/800*(1+Параметры!$C$6/800)^Параметры!$C$5)/((1+Параметры!$C$6/800)^Параметры!$C$5-1)),\"\")","v":""}]
[{"$f":"IF(A160>=Параметры!$C$5,\"\",A160+1)","v":""},{"$f":"IF(A161<>\"\",IF(Кэшфло!$B$1*(Параметры!$C$6/800*(1+Параметры!$C$6/800)^Параметры!$C$5)/((1+Параметры!$C$6/800)^Параметры!$C$5-1)<(Параметры!$C$3-Параметры!$C$3*Параметры!$C$4)/Параметры!$C$5,(Параметры!$C$3-Параметры!$C$3*Параметры!$C$4)/Параметры!$C$5, Кэшфло!$B$1*(Параметры!$C$6/800*(1+Параметры!$C$6/800)^Параметры!$C$5)/((1+Параметры!$C$6/800)^Параметры!$C$5-1)),\"\")","v":""}]
[{"$f":"IF(A161>=Параметры!$C$5,\"\",A161+1)","v":""},{"$f":"IF(A162<>\"\",IF(Кэшфло!$B$1*(Параметры!$C$6/800*(1+Параметры!$C$6/800)^Параметры!$C$5)/((1+Параметры!$C$6/800)^Параметры!$C$5-1)<(Параметры!$C$3-Параметры!$C$3*Параметры!$C$4)/Параметры!$C$5,(Параметры!$C$3-Параметры!$C$3*Параметры!$C$4)/Параметры!$C$5, Кэшфло!$B$1*(Параметры!$C$6/800*(1+Параметры!$C$6/800)^Параметры!$C$5)/((1+Параметры!$C$6/800)^Параметры!$C$5-1)),\"\")","v":""}]
[{"$f":"IF(A162>=Параметры!$C$5,\"\",A162+1)","v":""},{"$f":"IF(A163<>\"\",IF(Кэшфло!$B$1*(Параметры!$C$6/800*(1+Параметры!$C$6/800)^Параметры!$C$5)/((1+Параметры!$C$6/800)^Параметры!$C$5-1)<(Параметры!$C$3-Параметры!$C$3*Параметры!$C$4)/Параметры!$C$5,(Параметры!$C$3-Параметры!$C$3*Параметры!$C$4)/Параметры!$C$5, Кэшфло!$B$1*(Параметры!$C$6/800*(1+Параметры!$C$6/800)^Параметры!$C$5)/((1+Параметры!$C$6/800)^Параметры!$C$5-1)),\"\")","v":""}]
[{"$f":"IF(A163>=Параметры!$C$5,\"\",A163+1)","v":""},{"$f":"IF(A164<>\"\",IF(Кэшфло!$B$1*(Параметры!$C$6/800*(1+Параметры!$C$6/800)^Параметры!$C$5)/((1+Параметры!$C$6/800)^Параметры!$C$5-1)<(Параметры!$C$3-Параметры!$C$3*Параметры!$C$4)/Параметры!$C$5,(Параметры!$C$3-Параметры!$C$3*Параметры!$C$4)/Параметры!$C$5, Кэшфло!$B$1*(Параметры!$C$6/800*(1+Параметры!$C$6/800)^Параметры!$C$5)/((1+Параметры!$C$6/800)^Параметры!$C$5-1)),\"\")","v":""}]
[{"$f":"IF(A164>=Параметры!$C$5,\"\",A164+1)","v":""},{"$f":"IF(A165<>\"\",IF(Кэшфло!$B$1*(Параметры!$C$6/800*(1+Параметры!$C$6/800)^Параметры!$C$5)/((1+Параметры!$C$6/800)^Параметры!$C$5-1)<(Параметры!$C$3-Параметры!$C$3*Параметры!$C$4)/Параметры!$C$5,(Параметры!$C$3-Параметры!$C$3*Параметры!$C$4)/Параметры!$C$5, Кэшфло!$B$1*(Параметры!$C$6/800*(1+Параметры!$C$6/800)^Параметры!$C$5)/((1+Параметры!$C$6/800)^Параметры!$C$5-1)),\"\")","v":""}]
[{"$f":"IF(A165>=Параметры!$C$5,\"\",A165+1)","v":""},{"$f":"IF(A166<>\"\",IF(Кэшфло!$B$1*(Параметры!$C$6/800*(1+Параметры!$C$6/800)^Параметры!$C$5)/((1+Параметры!$C$6/800)^Параметры!$C$5-1)<(Параметры!$C$3-Параметры!$C$3*Параметры!$C$4)/Параметры!$C$5,(Параметры!$C$3-Параметры!$C$3*Параметры!$C$4)/Параметры!$C$5, Кэшфло!$B$1*(Параметры!$C$6/800*(1+Параметры!$C$6/800)^Параметры!$C$5)/((1+Параметры!$C$6/800)^Параметры!$C$5-1)),\"\")","v":""}]
[{"$f":"IF(A166>=Параметры!$C$5,\"\",A166+1)","v":""},{"$f":"IF(A167<>\"\",IF(Кэшфло!$B$1*(Параметры!$C$6/800*(1+Параметры!$C$6/800)^Параметры!$C$5)/((1+Параметры!$C$6/800)^Параметры!$C$5-1)<(Параметры!$C$3-Параметры!$C$3*Параметры!$C$4)/Параметры!$C$5,(Параметры!$C$3-Параметры!$C$3*Параметры!$C$4)/Параметры!$C$5, Кэшфло!$B$1*(Параметры!$C$6/800*(1+Параметры!$C$6/800)^Параметры!$C$5)/((1+Параметры!$C$6/800)^Параметры!$C$5-1)),\"\")","v":""}]
[{"$f":"IF(A167>=Параметры!$C$5,\"\",A167+1)","v":""},{"$f":"IF(A168<>\"\",IF(Кэшфло!$B$1*(Параметры!$C$6/800*(1+Параметры!$C$6/800)^Параметры!$C$5)/((1+Параметры!$C$6/800)^Параметры!$C$5-1)<(Параметры!$C$3-Параметры!$C$3*Параметры!$C$4)/Параметры!$C$5,(Параметры!$C$3-Параметры!$C$3*Параметры!$C$4)/Параметры!$C$5, Кэшфло!$B$1*(Параметры!$C$6/800*(1+Параметры!$C$6/800)^Параметры!$C$5)/((1+Параметры!$C$6/800)^Параметры!$C$5-1)),\"\")","v":""}]
[{"$f":"IF(A168>=Параметры!$C$5,\"\",A168+1)","v":""},{"$f":"IF(A169<>\"\",IF(Кэшфло!$B$1*(Параметры!$C$6/800*(1+Параметры!$C$6/800)^Параметры!$C$5)/((1+Параметры!$C$6/800)^Параметры!$C$5-1)<(Параметры!$C$3-Параметры!$C$3*Параметры!$C$4)/Параметры!$C$5,(Параметры!$C$3-Параметры!$C$3*Параметры!$C$4)/Параметры!$C$5, Кэшфло!$B$1*(Параметры!$C$6/800*(1+Параметры!$C$6/800)^Параметры!$C$5)/((1+Параметры!$C$6/800)^Параметры!$C$5-1)),\"\")","v":""}]
[{"$f":"IF(A169>=Параметры!$C$5,\"\",A169+1)","v":""},{"$f":"IF(A170<>\"\",IF(Кэшфло!$B$1*(Параметры!$C$6/800*(1+Параметры!$C$6/800)^Параметры!$C$5)/((1+Параметры!$C$6/800)^Параметры!$C$5-1)<(Параметры!$C$3-Параметры!$C$3*Параметры!$C$4)/Параметры!$C$5,(Параметры!$C$3-Параметры!$C$3*Параметры!$C$4)/Параметры!$C$5, Кэшфло!$B$1*(Параметры!$C$6/800*(1+Параметры!$C$6/800)^Параметры!$C$5)/((1+Параметры!$C$6/800)^Параметры!$C$5-1)),\"\")","v":""}]
[{"$f":"IF(A170>=Параметры!$C$5,\"\",A170+1)","v":""},{"$f":"IF(A171<>\"\",IF(Кэшфло!$B$1*(Параметры!$C$6/800*(1+Параметры!$C$6/800)^Параметры!$C$5)/((1+Параметры!$C$6/800)^Параметры!$C$5-1)<(Параметры!$C$3-Параметры!$C$3*Параметры!$C$4)/Параметры!$C$5,(Параметры!$C$3-Параметры!$C$3*Параметры!$C$4)/Параметры!$C$5, Кэшфло!$B$1*(Параметры!$C$6/800*(1+Параметры!$C$6/800)^Параметры!$C$5)/((1+Параметры!$C$6/800)^Параметры!$C$5-1)),\"\")","v":""}]
[{"$f":"IF(A171>=Параметры!$C$5,\"\",A171+1)","v":""},{"$f":"IF(A172<>\"\",IF(Кэшфло!$B$1*(Параметры!$C$6/800*(1+Параметры!$C$6/800)^Параметры!$C$5)/((1+Параметры!$C$6/800)^Параметры!$C$5-1)<(Параметры!$C$3-Параметры!$C$3*Параметры!$C$4)/Параметры!$C$5,(Параметры!$C$3-Параметры!$C$3*Параметры!$C$4)/Параметры!$C$5, Кэшфло!$B$1*(Параметры!$C$6/800*(1+Параметры!$C$6/800)^Параметры!$C$5)/((1+Параметры!$C$6/800)^Параметры!$C$5-1)),\"\")","v":""}]
[{"$f":"IF(A172>=Параметры!$C$5,\"\",A172+1)","v":""},{"$f":"IF(A173<>\"\",IF(Кэшфло!$B$1*(Параметры!$C$6/800*(1+Параметры!$C$6/800)^Параметры!$C$5)/((1+Параметры!$C$6/800)^Параметры!$C$5-1)<(Параметры!$C$3-Параметры!$C$3*Параметры!$C$4)/Параметры!$C$5,(Параметры!$C$3-Параметры!$C$3*Параметры!$C$4)/Параметры!$C$5, Кэшфло!$B$1*(Параметры!$C$6/800*(1+Параметры!$C$6/800)^Параметры!$C$5)/((1+Параметры!$C$6/800)^Параметры!$C$5-1)),\"\")","v":""}]
[{"$f":"IF(A173>=Параметры!$C$5,\"\",A173+1)","v":""},{"$f":"IF(A174<>\"\",IF(Кэшфло!$B$1*(Параметры!$C$6/800*(1+Параметры!$C$6/800)^Параметры!$C$5)/((1+Параметры!$C$6/800)^Параметры!$C$5-1)<(Параметры!$C$3-Параметры!$C$3*Параметры!$C$4)/Параметры!$C$5,(Параметры!$C$3-Параметры!$C$3*Параметры!$C$4)/Параметры!$C$5, Кэшфло!$B$1*(Параметры!$C$6/800*(1+Параметры!$C$6/800)^Параметры!$C$5)/((1+Параметры!$C$6/800)^Параметры!$C$5-1)),\"\")","v":""}]
[{"$f":"IF(A174>=Параметры!$C$5,\"\",A174+1)","v":""},{"$f":"IF(A175<>\"\",IF(Кэшфло!$B$1*(Параметры!$C$6/800*(1+Параметры!$C$6/800)^Параметры!$C$5)/((1+Параметры!$C$6/800)^Параметры!$C$5-1)<(Параметры!$C$3-Параметры!$C$3*Параметры!$C$4)/Параметры!$C$5,(Параметры!$C$3-Параметры!$C$3*Параметры!$C$4)/Параметры!$C$5, Кэшфло!$B$1*(Параметры!$C$6/800*(1+Параметры!$C$6/800)^Параметры!$C$5)/((1+Параметры!$C$6/800)^Параметры!$C$5-1)),\"\")","v":""}]
[{"$f":"IF(A175>=Параметры!$C$5,\"\",A175+1)","v":""},{"$f":"IF(A176<>\"\",IF(Кэшфло!$B$1*(Параметры!$C$6/800*(1+Параметры!$C$6/800)^Параметры!$C$5)/((1+Параметры!$C$6/800)^Параметры!$C$5-1)<(Параметры!$C$3-Параметры!$C$3*Параметры!$C$4)/Параметры!$C$5,(Параметры!$C$3-Параметры!$C$3*Параметры!$C$4)/Параметры!$C$5, Кэшфло!$B$1*(Параметры!$C$6/800*(1+Параметры!$C$6/800)^Параметры!$C$5)/((1+Параметры!$C$6/800)^Параметры!$C$5-1)),\"\")","v":""}]
[{"$f":"IF(A176>=Параметры!$C$5,\"\",A176+1)","v":""},{"$f":"IF(A177<>\"\",IF(Кэшфло!$B$1*(Параметры!$C$6/800*(1+Параметры!$C$6/800)^Параметры!$C$5)/((1+Параметры!$C$6/800)^Параметры!$C$5-1)<(Параметры!$C$3-Параметры!$C$3*Параметры!$C$4)/Параметры!$C$5,(Параметры!$C$3-Параметры!$C$3*Параметры!$C$4)/Параметры!$C$5, Кэшфло!$B$1*(Параметры!$C$6/800*(1+Параметры!$C$6/800)^Параметры!$C$5)/((1+Параметры!$C$6/800)^Параметры!$C$5-1)),\"\")","v":""}]
[{"$f":"IF(A177>=Параметры!$C$5,\"\",A177+1)","v":""},{"$f":"IF(A178<>\"\",IF(Кэшфло!$B$1*(Параметры!$C$6/800*(1+Параметры!$C$6/800)^Параметры!$C$5)/((1+Параметры!$C$6/800)^Параметры!$C$5-1)<(Параметры!$C$3-Параметры!$C$3*Параметры!$C$4)/Параметры!$C$5,(Параметры!$C$3-Параметры!$C$3*Параметры!$C$4)/Параметры!$C$5, Кэшфло!$B$1*(Параметры!$C$6/800*(1+Параметры!$C$6/800)^Параметры!$C$5)/((1+Параметры!$C$6/800)^Параметры!$C$5-1)),\"\")","v":""}]
[{"$f":"IF(A178>=Параметры!$C$5,\"\",A178+1)","v":""},{"$f":"IF(A179<>\"\",IF(Кэшфло!$B$1*(Параметры!$C$6/800*(1+Параметры!$C$6/800)^Параметры!$C$5)/((1+Параметры!$C$6/800)^Параметры!$C$5-1)<(Параметры!$C$3-Параметры!$C$3*Параметры!$C$4)/Параметры!$C$5,(Параметры!$C$3-Параметры!$C$3*Параметры!$C$4)/Параметры!$C$5, Кэшфло!$B$1*(Параметры!$C$6/800*(1+Параметры!$C$6/800)^Параметры!$C$5)/((1+Параметры!$C$6/800)^Параметры!$C$5-1)),\"\")","v":""}]
[{"$f":"IF(A179>=Параметры!$C$5,\"\",A179+1)","v":""},{"$f":"IF(A180<>\"\",IF(Кэшфло!$B$1*(Параметры!$C$6/800*(1+Параметры!$C$6/800)^Параметры!$C$5)/((1+Параметры!$C$6/800)^Параметры!$C$5-1)<(Параметры!$C$3-Параметры!$C$3*Параметры!$C$4)/Параметры!$C$5,(Параметры!$C$3-Параметры!$C$3*Параметры!$C$4)/Параметры!$C$5, Кэшфло!$B$1*(Параметры!$C$6/800*(1+Параметры!$C$6/800)^Параметры!$C$5)/((1+Параметры!$C$6/800)^Параметры!$C$5-1)),\"\")","v":""}]
[{"$f":"IF(A180>=Параметры!$C$5,\"\",A180+1)","v":""},{"$f":"IF(A181<>\"\",IF(Кэшфло!$B$1*(Параметры!$C$6/800*(1+Параметры!$C$6/800)^Параметры!$C$5)/((1+Параметры!$C$6/800)^Параметры!$C$5-1)<(Параметры!$C$3-Параметры!$C$3*Параметры!$C$4)/Параметры!$C$5,(Параметры!$C$3-Параметры!$C$3*Параметры!$C$4)/Параметры!$C$5, Кэшфло!$B$1*(Параметры!$C$6/800*(1+Параметры!$C$6/800)^Параметры!$C$5)/((1+Параметры!$C$6/800)^Параметры!$C$5-1)),\"\")","v":""}]
[{"$f":"IF(A181>=Параметры!$C$5,\"\",A181+1)","v":""},{"$f":"IF(A182<>\"\",IF(Кэшфло!$B$1*(Параметры!$C$6/800*(1+Параметры!$C$6/800)^Параметры!$C$5)/((1+Параметры!$C$6/800)^Параметры!$C$5-1)<(Параметры!$C$3-Параметры!$C$3*Параметры!$C$4)/Параметры!$C$5,(Параметры!$C$3-Параметры!$C$3*Параметры!$C$4)/Параметры!$C$5, Кэшфло!$B$1*(Параметры!$C$6/800*(1+Параметры!$C$6/800)^Параметры!$C$5)/((1+Параметры!$C$6/800)^Параметры!$C$5-1)),\"\")","v":""}]
[{"$f":"IF(A182>=Параметры!$C$5,\"\",A182+1)","v":""},{"$f":"IF(A183<>\"\",IF(Кэшфло!$B$1*(Параметры!$C$6/800*(1+Параметры!$C$6/800)^Параметры!$C$5)/((1+Параметры!$C$6/800)^Параметры!$C$5-1)<(Параметры!$C$3-Параметры!$C$3*Параметры!$C$4)/Параметры!$C$5,(Параметры!$C$3-Параметры!$C$3*Параметры!$C$4)/Параметры!$C$5, Кэшфло!$B$1*(Параметры!$C$6/800*(1+Параметры!$C$6/800)^Параметры!$C$5)/((1+Параметры!$C$6/800)^Параметры!$C$5-1)),\"\")","v":""}]
[{"$f":"IF(A183>=Параметры!$C$5,\"\",A183+1)","v":""},{"$f":"IF(A184<>\"\",IF(Кэшфло!$B$1*(Параметры!$C$6/800*(1+Параметры!$C$6/800)^Параметры!$C$5)/((1+Параметры!$C$6/800)^Параметры!$C$5-1)<(Параметры!$C$3-Параметры!$C$3*Параметры!$C$4)/Параметры!$C$5,(Параметры!$C$3-Параметры!$C$3*Параметры!$C$4)/Параметры!$C$5, Кэшфло!$B$1*(Параметры!$C$6/800*(1+Параметры!$C$6/800)^Параметры!$C$5)/((1+Параметры!$C$6/800)^Параметры!$C$5-1)),\"\")","v":""}]
[{"$f":"IF(A184>=Параметры!$C$5,\"\",A184+1)","v":""},{"$f":"IF(A185<>\"\",IF(Кэшфло!$B$1*(Параметры!$C$6/800*(1+Параметры!$C$6/800)^Параметры!$C$5)/((1+Параметры!$C$6/800)^Параметры!$C$5-1)<(Параметры!$C$3-Параметры!$C$3*Параметры!$C$4)/Параметры!$C$5,(Параметры!$C$3-Параметры!$C$3*Параметры!$C$4)/Параметры!$C$5, Кэшфло!$B$1*(Параметры!$C$6/800*(1+Параметры!$C$6/800)^Параметры!$C$5)/((1+Параметры!$C$6/800)^Параметры!$C$5-1)),\"\")","v":""}]
[{"$f":"IF(A185>=Параметры!$C$5,\"\",A185+1)","v":""},{"$f":"IF(A186<>\"\",IF(Кэшфло!$B$1*(Параметры!$C$6/800*(1+Параметры!$C$6/800)^Параметры!$C$5)/((1+Параметры!$C$6/800)^Параметры!$C$5-1)<(Параметры!$C$3-Параметры!$C$3*Параметры!$C$4)/Параметры!$C$5,(Параметры!$C$3-Параметры!$C$3*Параметры!$C$4)/Параметры!$C$5, Кэшфло!$B$1*(Параметры!$C$6/800*(1+Параметры!$C$6/800)^Параметры!$C$5)/((1+Параметры!$C$6/800)^Параметры!$C$5-1)),\"\")","v":""}]
[{"$f":"IF(A186>=Параметры!$C$5,\"\",A186+1)","v":""},{"$f":"IF(A187<>\"\",IF(Кэшфло!$B$1*(Параметры!$C$6/800*(1+Параметры!$C$6/800)^Параметры!$C$5)/((1+Параметры!$C$6/800)^Параметры!$C$5-1)<(Параметры!$C$3-Параметры!$C$3*Параметры!$C$4)/Параметры!$C$5,(Параметры!$C$3-Параметры!$C$3*Параметры!$C$4)/Параметры!$C$5, Кэшфло!$B$1*(Параметры!$C$6/800*(1+Параметры!$C$6/800)^Параметры!$C$5)/((1+Параметры!$C$6/800)^Параметры!$C$5-1)),\"\")","v":""}]
[{"$f":"IF(A187>=Параметры!$C$5,\"\",A187+1)","v":""},{"$f":"IF(A188<>\"\",IF(Кэшфло!$B$1*(Параметры!$C$6/800*(1+Параметры!$C$6/800)^Параметры!$C$5)/((1+Параметры!$C$6/800)^Параметры!$C$5-1)<(Параметры!$C$3-Параметры!$C$3*Параметры!$C$4)/Параметры!$C$5,(Параметры!$C$3-Параметры!$C$3*Параметры!$C$4)/Параметры!$C$5, Кэшфло!$B$1*(Параметры!$C$6/800*(1+Параметры!$C$6/800)^Параметры!$C$5)/((1+Параметры!$C$6/800)^Параметры!$C$5-1)),\"\")","v":""}]
[{"$f":"IF(A188>=Параметры!$C$5,\"\",A188+1)","v":""},{"$f":"IF(A189<>\"\",IF(Кэшфло!$B$1*(Параметры!$C$6/800*(1+Параметры!$C$6/800)^Параметры!$C$5)/((1+Параметры!$C$6/800)^Параметры!$C$5-1)<(Параметры!$C$3-Параметры!$C$3*Параметры!$C$4)/Параметры!$C$5,(Параметры!$C$3-Параметры!$C$3*Параметры!$C$4)/Параметры!$C$5, Кэшфло!$B$1*(Параметры!$C$6/800*(1+Параметры!$C$6/800)^Параметры!$C$5)/((1+Параметры!$C$6/800)^Параметры!$C$5-1)),\"\")","v":""}]
[{"$f":"IF(A189>=Параметры!$C$5,\"\",A189+1)","v":""},{"$f":"IF(A190<>\"\",IF(Кэшфло!$B$1*(Параметры!$C$6/800*(1+Параметры!$C$6/800)^Параметры!$C$5)/((1+Параметры!$C$6/800)^Параметры!$C$5-1)<(Параметры!$C$3-Параметры!$C$3*Параметры!$C$4)/Параметры!$C$5,(Параметры!$C$3-Параметры!$C$3*Параметры!$C$4)/Параметры!$C$5, Кэшфло!$B$1*(Параметры!$C$6/800*(1+Параметры!$C$6/800)^Параметры!$C$5)/((1+Параметры!$C$6/800)^Параметры!$C$5-1)),\"\")","v":""}]
[{"$f":"IF(A190>=Параметры!$C$5,\"\",A190+1)","v":""},{"$f":"IF(A191<>\"\",IF(Кэшфло!$B$1*(Параметры!$C$6/800*(1+Параметры!$C$6/800)^Параметры!$C$5)/((1+Параметры!$C$6/800)^Параметры!$C$5-1)<(Параметры!$C$3-Параметры!$C$3*Параметры!$C$4)/Параметры!$C$5,(Параметры!$C$3-Параметры!$C$3*Параметры!$C$4)/Параметры!$C$5, Кэшфло!$B$1*(Параметры!$C$6/800*(1+Параметры!$C$6/800)^Параметры!$C$5)/((1+Параметры!$C$6/800)^Параметры!$C$5-1)),\"\")","v":""}]
[{"$f":"IF(A191>=Параметры!$C$5,\"\",A191+1)","v":""},{"$f":"IF(A192<>\"\",IF(Кэшфло!$B$1*(Параметры!$C$6/800*(1+Параметры!$C$6/800)^Параметры!$C$5)/((1+Параметры!$C$6/800)^Параметры!$C$5-1)<(Параметры!$C$3-Параметры!$C$3*Параметры!$C$4)/Параметры!$C$5,(Параметры!$C$3-Параметры!$C$3*Параметры!$C$4)/Параметры!$C$5, Кэшфло!$B$1*(Параметры!$C$6/800*(1+Параметры!$C$6/800)^Параметры!$C$5)/((1+Параметры!$C$6/800)^Параметры!$C$5-1)),\"\")","v":""}]
[{"$f":"IF(A192>=Параметры!$C$5,\"\",A192+1)","v":""},{"$f":"IF(A193<>\"\",IF(Кэшфло!$B$1*(Параметры!$C$6/800*(1+Параметры!$C$6/800)^Параметры!$C$5)/((1+Параметры!$C$6/800)^Параметры!$C$5-1)<(Параметры!$C$3-Параметры!$C$3*Параметры!$C$4)/Параметры!$C$5,(Параметры!$C$3-Параметры!$C$3*Параметры!$C$4)/Параметры!$C$5, Кэшфло!$B$1*(Параметры!$C$6/800*(1+Параметры!$C$6/800)^Параметры!$C$5)/((1+Параметры!$C$6/800)^Параметры!$C$5-1)),\"\")","v":""}]
[{"$f":"IF(A193>=Параметры!$C$5,\"\",A193+1)","v":""},{"$f":"IF(A194<>\"\",IF(Кэшфло!$B$1*(Параметры!$C$6/800*(1+Параметры!$C$6/800)^Параметры!$C$5)/((1+Параметры!$C$6/800)^Параметры!$C$5-1)<(Параметры!$C$3-Параметры!$C$3*Параметры!$C$4)/Параметры!$C$5,(Параметры!$C$3-Параметры!$C$3*Параметры!$C$4)/Параметры!$C$5, Кэшфло!$B$1*(Параметры!$C$6/800*(1+Параметры!$C$6/800)^Параметры!$C$5)/((1+Параметры!$C$6/800)^Параметры!$C$5-1)),\"\")","v":""}]
[{"$f":"IF(A194>=Параметры!$C$5,\"\",A194+1)","v":""},{"$f":"IF(A195<>\"\",IF(Кэшфло!$B$1*(Параметры!$C$6/800*(1+Параметры!$C$6/800)^Параметры!$C$5)/((1+Параметры!$C$6/800)^Параметры!$C$5-1)<(Параметры!$C$3-Параметры!$C$3*Параметры!$C$4)/Параметры!$C$5,(Параметры!$C$3-Параметры!$C$3*Параметры!$C$4)/Параметры!$C$5, Кэшфло!$B$1*(Параметры!$C$6/800*(1+Параметры!$C$6/800)^Параметры!$C$5)/((1+Параметры!$C$6/800)^Параметры!$C$5-1)),\"\")","v":""}]
[{"$f":"IF(A195>=Параметры!$C$5,\"\",A195+1)","v":""},{"$f":"IF(A196<>\"\",IF(Кэшфло!$B$1*(Параметры!$C$6/800*(1+Параметры!$C$6/800)^Параметры!$C$5)/((1+Параметры!$C$6/800)^Параметры!$C$5-1)<(Параметры!$C$3-Параметры!$C$3*Параметры!$C$4)/Параметры!$C$5,(Параметры!$C$3-Параметры!$C$3*Параметры!$C$4)/Параметры!$C$5, Кэшфло!$B$1*(Параметры!$C$6/800*(1+Параметры!$C$6/800)^Параметры!$C$5)/((1+Параметры!$C$6/800)^Параметры!$C$5-1)),\"\")","v":""}]
[{"$f":"IF(A196>=Параметры!$C$5,\"\",A196+1)","v":""},{"$f":"IF(A197<>\"\",IF(Кэшфло!$B$1*(Параметры!$C$6/800*(1+Параметры!$C$6/800)^Параметры!$C$5)/((1+Параметры!$C$6/800)^Параметры!$C$5-1)<(Параметры!$C$3-Параметры!$C$3*Параметры!$C$4)/Параметры!$C$5,(Параметры!$C$3-Параметры!$C$3*Параметры!$C$4)/Параметры!$C$5, Кэшфло!$B$1*(Параметры!$C$6/800*(1+Параметры!$C$6/800)^Параметры!$C$5)/((1+Параметры!$C$6/800)^Параметры!$C$5-1)),\"\")","v":""}]
[{"$f":"IF(A197>=Параметры!$C$5,\"\",A197+1)","v":""},{"$f":"IF(A198<>\"\",IF(Кэшфло!$B$1*(Параметры!$C$6/800*(1+Параметры!$C$6/800)^Параметры!$C$5)/((1+Параметры!$C$6/800)^Параметры!$C$5-1)<(Параметры!$C$3-Параметры!$C$3*Параметры!$C$4)/Параметры!$C$5,(Параметры!$C$3-Параметры!$C$3*Параметры!$C$4)/Параметры!$C$5, Кэшфло!$B$1*(Параметры!$C$6/800*(1+Параметры!$C$6/800)^Параметры!$C$5)/((1+Параметры!$C$6/800)^Параметры!$C$5-1)),\"\")","v":""}]
[{"$f":"IF(A198>=Параметры!$C$5,\"\",A198+1)","v":""},{"$f":"IF(A199<>\"\",IF(Кэшфло!$B$1*(Параметры!$C$6/800*(1+Параметры!$C$6/800)^Параметры!$C$5)/((1+Параметры!$C$6/800)^Параметры!$C$5-1)<(Параметры!$C$3-Параметры!$C$3*Параметры!$C$4)/Параметры!$C$5,(Параметры!$C$3-Параметры!$C$3*Параметры!$C$4)/Параметры!$C$5, Кэшфло!$B$1*(Параметры!$C$6/800*(1+Параметры!$C$6/800)^Параметры!$C$5)/((1+Параметры!$C$6/800)^Параметры!$C$5-1)),\"\")","v":""}]
[{"$f":"IF(A199>=Параметры!$C$5,\"\",A199+1)","v":""},{"$f":"IF(A200<>\"\",IF(Кэшфло!$B$1*(Параметры!$C$6/800*(1+Параметры!$C$6/800)^Параметры!$C$5)/((1+Параметры!$C$6/800)^Параметры!$C$5-1)<(Параметры!$C$3-Параметры!$C$3*Параметры!$C$4)/Параметры!$C$5,(Параметры!$C$3-Параметры!$C$3*Параметры!$C$4)/Параметры!$C$5, Кэшфло!$B$1*(Параметры!$C$6/800*(1+Параметры!$C$6/800)^Параметры!$C$5)/((1+Параметры!$C$6/800)^Параметры!$C$5-1)),\"\")","v":""}]
[{"$f":"IF(A200>=Параметры!$C$5,\"\",A200+1)","v":""},{"$f":"IF(A201<>\"\",IF(Кэшфло!$B$1*(Параметры!$C$6/800*(1+Параметры!$C$6/800)^Параметры!$C$5)/((1+Параметры!$C$6/800)^Параметры!$C$5-1)<(Параметры!$C$3-Параметры!$C$3*Параметры!$C$4)/Параметры!$C$5,(Параметры!$C$3-Параметры!$C$3*Параметры!$C$4)/Параметры!$C$5, Кэшфло!$B$1*(Параметры!$C$6/800*(1+Параметры!$C$6/800)^Параметры!$C$5)/((1+Параметры!$C$6/800)^Параметры!$C$5-1)),\"\")","v":""}]
[{"$f":"IF(A201>=Параметры!$C$5,\"\",A201+1)","v":""},{"$f":"IF(A202<>\"\",IF(Кэшфло!$B$1*(Параметры!$C$6/800*(1+Параметры!$C$6/800)^Параметры!$C$5)/((1+Параметры!$C$6/800)^Параметры!$C$5-1)<(Параметры!$C$3-Параметры!$C$3*Параметры!$C$4)/Параметры!$C$5,(Параметры!$C$3-Параметры!$C$3*Параметры!$C$4)/Параметры!$C$5, Кэшфло!$B$1*(Параметры!$C$6/800*(1+Параметры!$C$6/800)^Параметры!$C$5)/((1+Параметры!$C$6/800)^Параметры!$C$5-1)),\"\")","v":""}]
[{"$f":"IF(A202>=Параметры!$C$5,\"\",A202+1)","v":""},{"$f":"IF(A203<>\"\",IF(Кэшфло!$B$1*(Параметры!$C$6/800*(1+Параметры!$C$6/800)^Параметры!$C$5)/((1+Параметры!$C$6/800)^Параметры!$C$5-1)<(Параметры!$C$3-Параметры!$C$3*Параметры!$C$4)/Параметры!$C$5,(Параметры!$C$3-Параметры!$C$3*Параметры!$C$4)/Параметры!$C$5, Кэшфло!$B$1*(Параметры!$C$6/800*(1+Параметры!$C$6/800)^Параметры!$C$5)/((1+Параметры!$C$6/800)^Параметры!$C$5-1)),\"\")","v":""}]
[{"$f":"IF(A203>=Параметры!$C$5,\"\",A203+1)","v":""},{"$f":"IF(A204<>\"\",IF(Кэшфло!$B$1*(Параметры!$C$6/800*(1+Параметры!$C$6/800)^Параметры!$C$5)/((1+Параметры!$C$6/800)^Параметры!$C$5-1)<(Параметры!$C$3-Параметры!$C$3*Параметры!$C$4)/Параметры!$C$5,(Параметры!$C$3-Параметры!$C$3*Параметры!$C$4)/Параметры!$C$5, Кэшфло!$B$1*(Параметры!$C$6/800*(1+Параметры!$C$6/800)^Параметры!$C$5)/((1+Параметры!$C$6/800)^Параметры!$C$5-1)),\"\")","v":""}]
[{"$f":"IF(A204>=Параметры!$C$5,\"\",A204+1)","v":""},{"$f":"IF(A205<>\"\",IF(Кэшфло!$B$1*(Параметры!$C$6/800*(1+Параметры!$C$6/800)^Параметры!$C$5)/((1+Параметры!$C$6/800)^Параметры!$C$5-1)<(Параметры!$C$3-Параметры!$C$3*Параметры!$C$4)/Параметры!$C$5,(Параметры!$C$3-Параметры!$C$3*Параметры!$C$4)/Параметры!$C$5, Кэшфло!$B$1*(Параметры!$C$6/800*(1+Параметры!$C$6/800)^Параметры!$C$5)/((1+Параметры!$C$6/800)^Параметры!$C$5-1)),\"\")","v":""}]
[{"$f":"IF(A205>=Параметры!$C$5,\"\",A205+1)","v":""},{"$f":"IF(A206<>\"\",IF(Кэшфло!$B$1*(Параметры!$C$6/800*(1+Параметры!$C$6/800)^Параметры!$C$5)/((1+Параметры!$C$6/800)^Параметры!$C$5-1)<(Параметры!$C$3-Параметры!$C$3*Параметры!$C$4)/Параметры!$C$5,(Параметры!$C$3-Параметры!$C$3*Параметры!$C$4)/Параметры!$C$5, Кэшфло!$B$1*(Параметры!$C$6/800*(1+Параметры!$C$6/800)^Параметры!$C$5)/((1+Параметры!$C$6/800)^Параметры!$C$5-1)),\"\")","v":""}]
[{"$f":"IF(A206>=Параметры!$C$5,\"\",A206+1)","v":""},{"$f":"IF(A207<>\"\",IF(Кэшфло!$B$1*(Параметры!$C$6/800*(1+Параметры!$C$6/800)^Параметры!$C$5)/((1+Параметры!$C$6/800)^Параметры!$C$5-1)<(Параметры!$C$3-Параметры!$C$3*Параметры!$C$4)/Параметры!$C$5,(Параметры!$C$3-Параметры!$C$3*Параметры!$C$4)/Параметры!$C$5, Кэшфло!$B$1*(Параметры!$C$6/800*(1+Параметры!$C$6/800)^Параметры!$C$5)/((1+Параметры!$C$6/800)^Параметры!$C$5-1)),\"\")","v":""}]
[{"$f":"IF(A207>=Параметры!$C$5,\"\",A207+1)","v":""},{"$f":"IF(A208<>\"\",IF(Кэшфло!$B$1*(Параметры!$C$6/800*(1+Параметры!$C$6/800)^Параметры!$C$5)/((1+Параметры!$C$6/800)^Параметры!$C$5-1)<(Параметры!$C$3-Параметры!$C$3*Параметры!$C$4)/Параметры!$C$5,(Параметры!$C$3-Параметры!$C$3*Параметры!$C$4)/Параметры!$C$5, Кэшфло!$B$1*(Параметры!$C$6/800*(1+Параметры!$C$6/800)^Параметры!$C$5)/((1+Параметры!$C$6/800)^Параметры!$C$5-1)),\"\")","v":""}]
[{"$f":"IF(A208>=Параметры!$C$5,\"\",A208+1)","v":""},{"$f":"IF(A209<>\"\",IF(Кэшфло!$B$1*(Параметры!$C$6/800*(1+Параметры!$C$6/800)^Параметры!$C$5)/((1+Параметры!$C$6/800)^Параметры!$C$5-1)<(Параметры!$C$3-Параметры!$C$3*Параметры!$C$4)/Параметры!$C$5,(Параметры!$C$3-Параметры!$C$3*Параметры!$C$4)/Параметры!$C$5, Кэшфло!$B$1*(Параметры!$C$6/800*(1+Параметры!$C$6/800)^Параметры!$C$5)/((1+Параметры!$C$6/800)^Параметры!$C$5-1)),\"\")","v":""}]
[{"$f":"IF(A209>=Параметры!$C$5,\"\",A209+1)","v":""},{"$f":"IF(A210<>\"\",IF(Кэшфло!$B$1*(Параметры!$C$6/800*(1+Параметры!$C$6/800)^Параметры!$C$5)/((1+Параметры!$C$6/800)^Параметры!$C$5-1)<(Параметры!$C$3-Параметры!$C$3*Параметры!$C$4)/Параметры!$C$5,(Параметры!$C$3-Параметры!$C$3*Параметры!$C$4)/Параметры!$C$5, Кэшфло!$B$1*(Параметры!$C$6/800*(1+Параметры!$C$6/800)^Параметры!$C$5)/((1+Параметры!$C$6/800)^Параметры!$C$5-1)),\"\")","v":""}]
[{"$f":"IF(A210>=Параметры!$C$5,\"\",A210+1)","v":""},{"$f":"IF(A211<>\"\",IF(Кэшфло!$B$1*(Параметры!$C$6/800*(1+Параметры!$C$6/800)^Параметры!$C$5)/((1+Параметры!$C$6/800)^Параметры!$C$5-1)<(Параметры!$C$3-Параметры!$C$3*Параметры!$C$4)/Параметры!$C$5,(Параметры!$C$3-Параметры!$C$3*Параметры!$C$4)/Параметры!$C$5, Кэшфло!$B$1*(Параметры!$C$6/800*(1+Параметры!$C$6/800)^Параметры!$C$5)/((1+Параметры!$C$6/800)^Параметры!$C$5-1)),\"\")","v":""}]
[{"$f":"IF(A211>=Параметры!$C$5,\"\",A211+1)","v":""},{"$f":"IF(A212<>\"\",IF(Кэшфло!$B$1*(Параметры!$C$6/800*(1+Параметры!$C$6/800)^Параметры!$C$5)/((1+Параметры!$C$6/800)^Параметры!$C$5-1)<(Параметры!$C$3-Параметры!$C$3*Параметры!$C$4)/Параметры!$C$5,(Параметры!$C$3-Параметры!$C$3*Параметры!$C$4)/Параметры!$C$5, Кэшфло!$B$1*(Параметры!$C$6/800*(1+Параметры!$C$6/800)^Параметры!$C$5)/((1+Параметры!$C$6/800)^Параметры!$C$5-1)),\"\")","v":""}]
[{"$f":"IF(A212>=Параметры!$C$5,\"\",A212+1)","v":""},{"$f":"IF(A213<>\"\",IF(Кэшфло!$B$1*(Параметры!$C$6/800*(1+Параметры!$C$6/800)^Параметры!$C$5)/((1+Параметры!$C$6/800)^Параметры!$C$5-1)<(Параметры!$C$3-Параметры!$C$3*Параметры!$C$4)/Параметры!$C$5,(Параметры!$C$3-Параметры!$C$3*Параметры!$C$4)/Параметры!$C$5, Кэшфло!$B$1*(Параметры!$C$6/800*(1+Параметры!$C$6/800)^Параметры!$C$5)/((1+Параметры!$C$6/800)^Параметры!$C$5-1)),\"\")","v":""}]
[{"$f":"IF(A213>=Параметры!$C$5,\"\",A213+1)","v":""},{"$f":"IF(A214<>\"\",IF(Кэшфло!$B$1*(Параметры!$C$6/800*(1+Параметры!$C$6/800)^Параметры!$C$5)/((1+Параметры!$C$6/800)^Параметры!$C$5-1)<(Параметры!$C$3-Параметры!$C$3*Параметры!$C$4)/Параметры!$C$5,(Параметры!$C$3-Параметры!$C$3*Параметры!$C$4)/Параметры!$C$5, Кэшфло!$B$1*(Параметры!$C$6/800*(1+Параметры!$C$6/800)^Параметры!$C$5)/((1+Параметры!$C$6/800)^Параметры!$C$5-1)),\"\")","v":""}]
[{"$f":"IF(A214>=Параметры!$C$5,\"\",A214+1)","v":""},{"$f":"IF(A215<>\"\",IF(Кэшфло!$B$1*(Параметры!$C$6/800*(1+Параметры!$C$6/800)^Параметры!$C$5)/((1+Параметры!$C$6/800)^Параметры!$C$5-1)<(Параметры!$C$3-Параметры!$C$3*Параметры!$C$4)/Параметры!$C$5,(Параметры!$C$3-Параметры!$C$3*Параметры!$C$4)/Параметры!$C$5, Кэшфло!$B$1*(Параметры!$C$6/800*(1+Параметры!$C$6/800)^Параметры!$C$5)/((1+Параметры!$C$6/800)^Параметры!$C$5-1)),\"\")","v":""}]
[{"$f":"IF(A215>=Параметры!$C$5,\"\",A215+1)","v":""},{"$f":"IF(A216<>\"\",IF(Кэшфло!$B$1*(Параметры!$C$6/800*(1+Параметры!$C$6/800)^Параметры!$C$5)/((1+Параметры!$C$6/800)^Параметры!$C$5-1)<(Параметры!$C$3-Параметры!$C$3*Параметры!$C$4)/Параметры!$C$5,(Параметры!$C$3-Параметры!$C$3*Параметры!$C$4)/Параметры!$C$5, Кэшфло!$B$1*(Параметры!$C$6/800*(1+Параметры!$C$6/800)^Параметры!$C$5)/((1+Параметры!$C$6/800)^Параметры!$C$5-1)),\"\")","v":""}]
[{"$f":"IF(A216>=Параметры!$C$5,\"\",A216+1)","v":""},{"$f":"IF(A217<>\"\",IF(Кэшфло!$B$1*(Параметры!$C$6/800*(1+Параметры!$C$6/800)^Параметры!$C$5)/((1+Параметры!$C$6/800)^Параметры!$C$5-1)<(Параметры!$C$3-Параметры!$C$3*Параметры!$C$4)/Параметры!$C$5,(Параметры!$C$3-Параметры!$C$3*Параметры!$C$4)/Параметры!$C$5, Кэшфло!$B$1*(Параметры!$C$6/800*(1+Параметры!$C$6/800)^Параметры!$C$5)/((1+Параметры!$C$6/800)^Параметры!$C$5-1)),\"\")","v":""}]
[{"$f":"IF(A217>=Параметры!$C$5,\"\",A217+1)","v":""},{"$f":"IF(A218<>\"\",IF(Кэшфло!$B$1*(Параметры!$C$6/800*(1+Параметры!$C$6/800)^Параметры!$C$5)/((1+Параметры!$C$6/800)^Параметры!$C$5-1)<(Параметры!$C$3-Параметры!$C$3*Параметры!$C$4)/Параметры!$C$5,(Параметры!$C$3-Параметры!$C$3*Параметры!$C$4)/Параметры!$C$5, Кэшфло!$B$1*(Параметры!$C$6/800*(1+Параметры!$C$6/800)^Параметры!$C$5)/((1+Параметры!$C$6/800)^Параметры!$C$5-1)),\"\")","v":""}]
[{"$f":"IF(A218>=Параметры!$C$5,\"\",A218+1)","v":""},{"$f":"IF(A219<>\"\",IF(Кэшфло!$B$1*(Параметры!$C$6/800*(1+Параметры!$C$6/800)^Параметры!$C$5)/((1+Параметры!$C$6/800)^Параметры!$C$5-1)<(Параметры!$C$3-Параметры!$C$3*Параметры!$C$4)/Параметры!$C$5,(Параметры!$C$3-Параметры!$C$3*Параметры!$C$4)/Параметры!$C$5, Кэшфло!$B$1*(Параметры!$C$6/800*(1+Параметры!$C$6/800)^Параметры!$C$5)/((1+Параметры!$C$6/800)^Параметры!$C$5-1)),\"\")","v":""}]
[{"$f":"IF(A219>=Параметры!$C$5,\"\",A219+1)","v":""},{"$f":"IF(A220<>\"\",IF(Кэшфло!$B$1*(Параметры!$C$6/800*(1+Параметры!$C$6/800)^Параметры!$C$5)/((1+Параметры!$C$6/800)^Параметры!$C$5-1)<(Параметры!$C$3-Параметры!$C$3*Параметры!$C$4)/Параметры!$C$5,(Параметры!$C$3-Параметры!$C$3*Параметры!$C$4)/Параметры!$C$5, Кэшфло!$B$1*(Параметры!$C$6/800*(1+Параметры!$C$6/800)^Параметры!$C$5)/((1+Параметры!$C$6/800)^Параметры!$C$5-1)),\"\")","v":""}]
[{"$f":"IF(A220>=Параметры!$C$5,\"\",A220+1)","v":""},{"$f":"IF(A221<>\"\",IF(Кэшфло!$B$1*(Параметры!$C$6/800*(1+Параметры!$C$6/800)^Параметры!$C$5)/((1+Параметры!$C$6/800)^Параметры!$C$5-1)<(Параметры!$C$3-Параметры!$C$3*Параметры!$C$4)/Параметры!$C$5,(Параметры!$C$3-Параметры!$C$3*Параметры!$C$4)/Параметры!$C$5, Кэшфло!$B$1*(Параметры!$C$6/800*(1+Параметры!$C$6/800)^Параметры!$C$5)/((1+Параметры!$C$6/800)^Параметры!$C$5-1)),\"\")","v":""}]
[{"$f":"IF(A221>=Параметры!$C$5,\"\",A221+1)","v":""},{"$f":"IF(A222<>\"\",IF(Кэшфло!$B$1*(Параметры!$C$6/800*(1+Параметры!$C$6/800)^Параметры!$C$5)/((1+Параметры!$C$6/800)^Параметры!$C$5-1)<(Параметры!$C$3-Параметры!$C$3*Параметры!$C$4)/Параметры!$C$5,(Параметры!$C$3-Параметры!$C$3*Параметры!$C$4)/Параметры!$C$5, Кэшфло!$B$1*(Параметры!$C$6/800*(1+Параметры!$C$6/800)^Параметры!$C$5)/((1+Параметры!$C$6/800)^Параметры!$C$5-1)),\"\")","v":""}]
[{"$f":"IF(A222>=Параметры!$C$5,\"\",A222+1)","v":""},{"$f":"IF(A223<>\"\",IF(Кэшфло!$B$1*(Параметры!$C$6/800*(1+Параметры!$C$6/800)^Параметры!$C$5)/((1+Параметры!$C$6/800)^Параметры!$C$5-1)<(Параметры!$C$3-Параметры!$C$3*Параметры!$C$4)/Параметры!$C$5,(Параметры!$C$3-Параметры!$C$3*Параметры!$C$4)/Параметры!$C$5, Кэшфло!$B$1*(Параметры!$C$6/800*(1+Параметры!$C$6/800)^Параметры!$C$5)/((1+Параметры!$C$6/800)^Параметры!$C$5-1)),\"\")","v":""}]
[{"$f":"IF(A223>=Параметры!$C$5,\"\",A223+1)","v":""},{"$f":"IF(A224<>\"\",IF(Кэшфло!$B$1*(Параметры!$C$6/800*(1+Параметры!$C$6/800)^Параметры!$C$5)/((1+Параметры!$C$6/800)^Параметры!$C$5-1)<(Параметры!$C$3-Параметры!$C$3*Параметры!$C$4)/Параметры!$C$5,(Параметры!$C$3-Параметры!$C$3*Параметры!$C$4)/Параметры!$C$5, Кэшфло!$B$1*(Параметры!$C$6/800*(1+Параметры!$C$6/800)^Параметры!$C$5)/((1+Параметры!$C$6/800)^Параметры!$C$5-1)),\"\")","v":""}]
[{"$f":"IF(A224>=Параметры!$C$5,\"\",A224+1)","v":""},{"$f":"IF(A225<>\"\",IF(Кэшфло!$B$1*(Параметры!$C$6/800*(1+Параметры!$C$6/800)^Параметры!$C$5)/((1+Параметры!$C$6/800)^Параметры!$C$5-1)<(Параметры!$C$3-Параметры!$C$3*Параметры!$C$4)/Параметры!$C$5,(Параметры!$C$3-Параметры!$C$3*Параметры!$C$4)/Параметры!$C$5, Кэшфло!$B$1*(Параметры!$C$6/800*(1+Параметры!$C$6/800)^Параметры!$C$5)/((1+Параметры!$C$6/800)^Параметры!$C$5-1)),\"\")","v":""}]
[{"$f":"IF(A225>=Параметры!$C$5,\"\",A225+1)","v":""},{"$f":"IF(A226<>\"\",IF(Кэшфло!$B$1*(Параметры!$C$6/800*(1+Параметры!$C$6/800)^Параметры!$C$5)/((1+Параметры!$C$6/800)^Параметры!$C$5-1)<(Параметры!$C$3-Параметры!$C$3*Параметры!$C$4)/Параметры!$C$5,(Параметры!$C$3-Параметры!$C$3*Параметры!$C$4)/Параметры!$C$5, Кэшфло!$B$1*(Параметры!$C$6/800*(1+Параметры!$C$6/800)^Параметры!$C$5)/((1+Параметры!$C$6/800)^Параметры!$C$5-1)),\"\")","v":""}]
[{"$f":"IF(A226>=Параметры!$C$5,\"\",A226+1)","v":""},{"$f":"IF(A227<>\"\",IF(Кэшфло!$B$1*(Параметры!$C$6/800*(1+Параметры!$C$6/800)^Параметры!$C$5)/((1+Параметры!$C$6/800)^Параметры!$C$5-1)<(Параметры!$C$3-Параметры!$C$3*Параметры!$C$4)/Параметры!$C$5,(Параметры!$C$3-Параметры!$C$3*Параметры!$C$4)/Параметры!$C$5, Кэшфло!$B$1*(Параметры!$C$6/800*(1+Параметры!$C$6/800)^Параметры!$C$5)/((1+Параметры!$C$6/800)^Параметры!$C$5-1)),\"\")","v":""}]
[{"$f":"IF(A227>=Параметры!$C$5,\"\",A227+1)","v":""},{"$f":"IF(A228<>\"\",IF(Кэшфло!$B$1*(Параметры!$C$6/800*(1+Параметры!$C$6/800)^Параметры!$C$5)/((1+Параметры!$C$6/800)^Параметры!$C$5-1)<(Параметры!$C$3-Параметры!$C$3*Параметры!$C$4)/Параметры!$C$5,(Параметры!$C$3-Параметры!$C$3*Параметры!$C$4)/Параметры!$C$5, Кэшфло!$B$1*(Параметры!$C$6/800*(1+Параметры!$C$6/800)^Параметры!$C$5)/((1+Параметры!$C$6/800)^Параметры!$C$5-1)),\"\")","v":""}]
[{"$f":"IF(A228>=Параметры!$C$5,\"\",A228+1)","v":""},{"$f":"IF(A229<>\"\",IF(Кэшфло!$B$1*(Параметры!$C$6/800*(1+Параметры!$C$6/800)^Параметры!$C$5)/((1+Параметры!$C$6/800)^Параметры!$C$5-1)<(Параметры!$C$3-Параметры!$C$3*Параметры!$C$4)/Параметры!$C$5,(Параметры!$C$3-Параметры!$C$3*Параметры!$C$4)/Параметры!$C$5, Кэшфло!$B$1*(Параметры!$C$6/800*(1+Параметры!$C$6/800)^Параметры!$C$5)/((1+Параметры!$C$6/800)^Параметры!$C$5-1)),\"\")","v":""}]
[{"$f":"IF(A229>=Параметры!$C$5,\"\",A229+1)","v":""},{"$f":"IF(A230<>\"\",IF(Кэшфло!$B$1*(Параметры!$C$6/800*(1+Параметры!$C$6/800)^Параметры!$C$5)/((1+Параметры!$C$6/800)^Параметры!$C$5-1)<(Параметры!$C$3-Параметры!$C$3*Параметры!$C$4)/Параметры!$C$5,(Параметры!$C$3-Параметры!$C$3*Параметры!$C$4)/Параметры!$C$5, Кэшфло!$B$1*(Параметры!$C$6/800*(1+Параметры!$C$6/800)^Параметры!$C$5)/((1+Параметры!$C$6/800)^Параметры!$C$5-1)),\"\")","v":""}]
[{"$f":"IF(A230>=Параметры!$C$5,\"\",A230+1)","v":""},{"$f":"IF(A231<>\"\",IF(Кэшфло!$B$1*(Параметры!$C$6/800*(1+Параметры!$C$6/800)^Параметры!$C$5)/((1+Параметры!$C$6/800)^Параметры!$C$5-1)<(Параметры!$C$3-Параметры!$C$3*Параметры!$C$4)/Параметры!$C$5,(Параметры!$C$3-Параметры!$C$3*Параметры!$C$4)/Параметры!$C$5, Кэшфло!$B$1*(Параметры!$C$6/800*(1+Параметры!$C$6/800)^Параметры!$C$5)/((1+Параметры!$C$6/800)^Параметры!$C$5-1)),\"\")","v":""}]
[{"$f":"IF(A231>=Параметры!$C$5,\"\",A231+1)","v":""},{"$f":"IF(A232<>\"\",IF(Кэшфло!$B$1*(Параметры!$C$6/800*(1+Параметры!$C$6/800)^Параметры!$C$5)/((1+Параметры!$C$6/800)^Параметры!$C$5-1)<(Параметры!$C$3-Параметры!$C$3*Параметры!$C$4)/Параметры!$C$5,(Параметры!$C$3-Параметры!$C$3*Параметры!$C$4)/Параметры!$C$5, Кэшфло!$B$1*(Параметры!$C$6/800*(1+Параметры!$C$6/800)^Параметры!$C$5)/((1+Параметры!$C$6/800)^Параметры!$C$5-1)),\"\")","v":""}]
[{"$f":"IF(A232>=Параметры!$C$5,\"\",A232+1)","v":""},{"$f":"IF(A233<>\"\",IF(Кэшфло!$B$1*(Параметры!$C$6/800*(1+Параметры!$C$6/800)^Параметры!$C$5)/((1+Параметры!$C$6/800)^Параметры!$C$5-1)<(Параметры!$C$3-Параметры!$C$3*Параметры!$C$4)/Параметры!$C$5,(Параметры!$C$3-Параметры!$C$3*Параметры!$C$4)/Параметры!$C$5, Кэшфло!$B$1*(Параметры!$C$6/800*(1+Параметры!$C$6/800)^Параметры!$C$5)/((1+Параметры!$C$6/800)^Параметры!$C$5-1)),\"\")","v":""}]
[{"$f":"IF(A233>=Параметры!$C$5,\"\",A233+1)","v":""},{"$f":"IF(A234<>\"\",IF(Кэшфло!$B$1*(Параметры!$C$6/800*(1+Параметры!$C$6/800)^Параметры!$C$5)/((1+Параметры!$C$6/800)^Параметры!$C$5-1)<(Параметры!$C$3-Параметры!$C$3*Параметры!$C$4)/Параметры!$C$5,(Параметры!$C$3-Параметры!$C$3*Параметры!$C$4)/Параметры!$C$5, Кэшфло!$B$1*(Параметры!$C$6/800*(1+Параметры!$C$6/800)^Параметры!$C$5)/((1+Параметры!$C$6/800)^Параметры!$C$5-1)),\"\")","v":""}]
[{"$f":"IF(A234>=Параметры!$C$5,\"\",A234+1)","v":""},{"$f":"IF(A235<>\"\",IF(Кэшфло!$B$1*(Параметры!$C$6/800*(1+Параметры!$C$6/800)^Параметры!$C$5)/((1+Параметры!$C$6/800)^Параметры!$C$5-1)<(Параметры!$C$3-Параметры!$C$3*Параметры!$C$4)/Параметры!$C$5,(Параметры!$C$3-Параметры!$C$3*Параметры!$C$4)/Параметры!$C$5, Кэшфло!$B$1*(Параметры!$C$6/800*(1+Параметры!$C$6/800)^Параметры!$C$5)/((1+Параметры!$C$6/800)^Параметры!$C$5-1)),\"\")","v":""}]
[{"$f":"IF(A235>=Параметры!$C$5,\"\",A235+1)","v":""},{"$f":"IF(A236<>\"\",IF(Кэшфло!$B$1*(Параметры!$C$6/800*(1+Параметры!$C$6/800)^Параметры!$C$5)/((1+Параметры!$C$6/800)^Параметры!$C$5-1)<(Параметры!$C$3-Параметры!$C$3*Параметры!$C$4)/Параметры!$C$5,(Параметры!$C$3-Параметры!$C$3*Параметры!$C$4)/Параметры!$C$5, Кэшфло!$B$1*(Параметры!$C$6/800*(1+Параметры!$C$6/800)^Параметры!$C$5)/((1+Параметры!$C$6/800)^Параметры!$C$5-1)),\"\")","v":""}]
[{"$f":"IF(A236>=Параметры!$C$5,\"\",A236+1)","v":""},{"$f":"IF(A237<>\"\",IF(Кэшфло!$B$1*(Параметры!$C$6/800*(1+Параметры!$C$6/800)^Параметры!$C$5)/((1+Параметры!$C$6/800)^Параметры!$C$5-1)<(Параметры!$C$3-Параметры!$C$3*Параметры!$C$4)/Параметры!$C$5,(Параметры!$C$3-Параметры!$C$3*Параметры!$C$4)/Параметры!$C$5, Кэшфло!$B$1*(Параметры!$C$6/800*(1+Параметры!$C$6/800)^Параметры!$C$5)/((1+Параметры!$C$6/800)^Параметры!$C$5-1)),\"\")","v":""}]
[{"$f":"IF(A237>=Параметры!$C$5,\"\",A237+1)","v":""},{"$f":"IF(A238<>\"\",IF(Кэшфло!$B$1*(Параметры!$C$6/800*(1+Параметры!$C$6/800)^Параметры!$C$5)/((1+Параметры!$C$6/800)^Параметры!$C$5-1)<(Параметры!$C$3-Параметры!$C$3*Параметры!$C$4)/Параметры!$C$5,(Параметры!$C$3-Параметры!$C$3*Параметры!$C$4)/Параметры!$C$5, Кэшфло!$B$1*(Параметры!$C$6/800*(1+Параметры!$C$6/800)^Параметры!$C$5)/((1+Параметры!$C$6/800)^Параметры!$C$5-1)),\"\")","v":""}]
[{"$f":"IF(A238>=Параметры!$C$5,\"\",A238+1)","v":""},{"$f":"IF(A239<>\"\",IF(Кэшфло!$B$1*(Параметры!$C$6/800*(1+Параметры!$C$6/800)^Параметры!$C$5)/((1+Параметры!$C$6/800)^Параметры!$C$5-1)<(Параметры!$C$3-Параметры!$C$3*Параметры!$C$4)/Параметры!$C$5,(Параметры!$C$3-Параметры!$C$3*Параметры!$C$4)/Параметры!$C$5, Кэшфло!$B$1*(Параметры!$C$6/800*(1+Параметры!$C$6/800)^Параметры!$C$5)/((1+Параметры!$C$6/800)^Параметры!$C$5-1)),\"\")","v":""}]
[{"$f":"IF(A239>=Параметры!$C$5,\"\",A239+1)","v":""},{"$f":"IF(A240<>\"\",IF(Кэшфло!$B$1*(Параметры!$C$6/800*(1+Параметры!$C$6/800)^Параметры!$C$5)/((1+Параметры!$C$6/800)^Параметры!$C$5-1)<(Параметры!$C$3-Параметры!$C$3*Параметры!$C$4)/Параметры!$C$5,(Параметры!$C$3-Параметры!$C$3*Параметры!$C$4)/Параметры!$C$5, Кэшфло!$B$1*(Параметры!$C$6/800*(1+Параметры!$C$6/800)^Параметры!$C$5)/((1+Параметры!$C$6/800)^Параметры!$C$5-1)),\"\")","v":""}]
[{"$f":"IF(A240>=Параметры!$C$5,\"\",A240+1)","v":""},{"$f":"IF(A241<>\"\",IF(Кэшфло!$B$1*(Параметры!$C$6/800*(1+Параметры!$C$6/800)^Параметры!$C$5)/((1+Параметры!$C$6/800)^Параметры!$C$5-1)<(Параметры!$C$3-Параметры!$C$3*Параметры!$C$4)/Параметры!$C$5,(Параметры!$C$3-Параметры!$C$3*Параметры!$C$4)/Параметры!$C$5, Кэшфло!$B$1*(Параметры!$C$6/800*(1+Параметры!$C$6/800)^Параметры!$C$5)/((1+Параметры!$C$6/800)^Параметры!$C$5-1)),\"\")","v":""}]
[{"$f":"IF(A241>=Параметры!$C$5,\"\",A241+1)","v":""},{"$f":"IF(A242<>\"\",IF(Кэшфло!$B$1*(Параметры!$C$6/800*(1+Параметры!$C$6/800)^Параметры!$C$5)/((1+Параметры!$C$6/800)^Параметры!$C$5-1)<(Параметры!$C$3-Параметры!$C$3*Параметры!$C$4)/Параметры!$C$5,(Параметры!$C$3-Параметры!$C$3*Параметры!$C$4)/Параметры!$C$5, Кэшфло!$B$1*(Параметры!$C$6/800*(1+Параметры!$C$6/800)^Параметры!$C$5)/((1+Параметры!$C$6/800)^Параметры!$C$5-1)),\"\")","v":""}]
[{"$f":"IF(A242>=Параметры!$C$5,\"\",A242+1)","v":""},{"$f":"IF(A243<>\"\",IF(Кэшфло!$B$1*(Параметры!$C$6/800*(1+Параметры!$C$6/800)^Параметры!$C$5)/((1+Параметры!$C$6/800)^Параметры!$C$5-1)<(Параметры!$C$3-Параметры!$C$3*Параметры!$C$4)/Параметры!$C$5,(Параметры!$C$3-Параметры!$C$3*Параметры!$C$4)/Параметры!$C$5, Кэшфло!$B$1*(Параметры!$C$6/800*(1+Параметры!$C$6/800)^Параметры!$C$5)/((1+Параметры!$C$6/800)^Параметры!$C$5-1)),\"\")","v":""}]
[{"$f":"IF(A243>=Параметры!$C$5,\"\",A243+1)","v":""},{"$f":"IF(A244<>\"\",IF(Кэшфло!$B$1*(Параметры!$C$6/800*(1+Параметры!$C$6/800)^Параметры!$C$5)/((1+Параметры!$C$6/800)^Параметры!$C$5-1)<(Параметры!$C$3-Параметры!$C$3*Параметры!$C$4)/Параметры!$C$5,(Параметры!$C$3-Параметры!$C$3*Параметры!$C$4)/Параметры!$C$5, Кэшфло!$B$1*(Параметры!$C$6/800*(1+Параметры!$C$6/800)^Параметры!$C$5)/((1+Параметры!$C$6/800)^Параметры!$C$5-1)),\"\")","v":""}]
[{"$f":"IF(A244>=Параметры!$C$5,\"\",A244+1)","v":""},{"$f":"IF(A245<>\"\",IF(Кэшфло!$B$1*(Параметры!$C$6/800*(1+Параметры!$C$6/800)^Параметры!$C$5)/((1+Параметры!$C$6/800)^Параметры!$C$5-1)<(Параметры!$C$3-Параметры!$C$3*Параметры!$C$4)/Параметры!$C$5,(Параметры!$C$3-Параметры!$C$3*Параметры!$C$4)/Параметры!$C$5, Кэшфло!$B$1*(Параметры!$C$6/800*(1+Параметры!$C$6/800)^Параметры!$C$5)/((1+Параметры!$C$6/800)^Параметры!$C$5-1)),\"\")","v":""}]
[{"$f":"IF(A245>=Параметры!$C$5,\"\",A245+1)","v":""},{"$f":"IF(A246<>\"\",IF(Кэшфло!$B$1*(Параметры!$C$6/800*(1+Параметры!$C$6/800)^Параметры!$C$5)/((1+Параметры!$C$6/800)^Параметры!$C$5-1)<(Параметры!$C$3-Параметры!$C$3*Параметры!$C$4)/Параметры!$C$5,(Параметры!$C$3-Параметры!$C$3*Параметры!$C$4)/Параметры!$C$5, Кэшфло!$B$1*(Параметры!$C$6/800*(1+Параметры!$C$6/800)^Параметры!$C$5)/((1+Параметры!$C$6/800)^Параметры!$C$5-1)),\"\")","v":""}]
[{"$f":"IF(A246>=Параметры!$C$5,\"\",A246+1)","v":""},{"$f":"IF(A247<>\"\",IF(Кэшфло!$B$1*(Параметры!$C$6/800*(1+Параметры!$C$6/800)^Параметры!$C$5)/((1+Параметры!$C$6/800)^Параметры!$C$5-1)<(Параметры!$C$3-Параметры!$C$3*Параметры!$C$4)/Параметры!$C$5,(Параметры!$C$3-Параметры!$C$3*Параметры!$C$4)/Параметры!$C$5, Кэшфло!$B$1*(Параметры!$C$6/800*(1+Параметры!$C$6/800)^Параметры!$C$5)/((1+Параметры!$C$6/800)^Параметры!$C$5-1)),\"\")","v":""}]
[{"$f":"IF(A247>=Параметры!$C$5,\"\",A247+1)","v":""},{"$f":"IF(A248<>\"\",IF(Кэшфло!$B$1*(Параметры!$C$6/800*(1+Параметры!$C$6/800)^Параметры!$C$5)/((1+Параметры!$C$6/800)^Параметры!$C$5-1)<(Параметры!$C$3-Параметры!$C$3*Параметры!$C$4)/Параметры!$C$5,(Параметры!$C$3-Параметры!$C$3*Параметры!$C$4)/Параметры!$C$5, Кэшфло!$B$1*(Параметры!$C$6/800*(1+Параметры!$C$6/800)^Параметры!$C$5)/((1+Параметры!$C$6/800)^Параметры!$C$5-1)),\"\")","v":""}]
[{"$f":"IF(A248>=Параметры!$C$5,\"\",A248+1)","v":""},{"$f":"IF(A249<>\"\",IF(Кэшфло!$B$1*(Параметры!$C$6/800*(1+Параметры!$C$6/800)^Параметры!$C$5)/((1+Параметры!$C$6/800)^Параметры!$C$5-1)<(Параметры!$C$3-Параметры!$C$3*Параметры!$C$4)/Параметры!$C$5,(Параметры!$C$3-Параметры!$C$3*Параметры!$C$4)/Параметры!$C$5, Кэшфло!$B$1*(Параметры!$C$6/800*(1+Параметры!$C$6/800)^Параметры!$C$5)/((1+Параметры!$C$6/800)^Параметры!$C$5-1)),\"\")","v":""}]
[{"$f":"IF(A249>=Параметры!$C$5,\"\",A249+1)","v":""},{"$f":"IF(A250<>\"\",IF(Кэшфло!$B$1*(Параметры!$C$6/800*(1+Параметры!$C$6/800)^Параметры!$C$5)/((1+Параметры!$C$6/800)^Параметры!$C$5-1)<(Параметры!$C$3-Параметры!$C$3*Параметры!$C$4)/Параметры!$C$5,(Параметры!$C$3-Параметры!$C$3*Параметры!$C$4)/Параметры!$C$5, Кэшфло!$B$1*(Параметры!$C$6/800*(1+Параметры!$C$6/800)^Параметры!$C$5)/((1+Параметры!$C$6/800)^Параметры!$C$5-1)),\"\")","v":""}]
[{"$f":"IF(A250>=Параметры!$C$5,\"\",A250+1)","v":""},{"$f":"IF(A251<>\"\",IF(Кэшфло!$B$1*(Параметры!$C$6/800*(1+Параметры!$C$6/800)^Параметры!$C$5)/((1+Параметры!$C$6/800)^Параметры!$C$5-1)<(Параметры!$C$3-Параметры!$C$3*Параметры!$C$4)/Параметры!$C$5,(Параметры!$C$3-Параметры!$C$3*Параметры!$C$4)/Параметры!$C$5, Кэшфло!$B$1*(Параметры!$C$6/800*(1+Параметры!$C$6/800)^Параметры!$C$5)/((1+Параметры!$C$6/800)^Параметры!$C$5-1)),\"\")","v":""}]
[{"$f":"IF(A251>=Параметры!$C$5,\"\",A251+1)","v":""},{"$f":"IF(A252<>\"\",IF(Кэшфло!$B$1*(Параметры!$C$6/800*(1+Параметры!$C$6/800)^Параметры!$C$5)/((1+Параметры!$C$6/800)^Параметры!$C$5-1)<(Параметры!$C$3-Параметры!$C$3*Параметры!$C$4)/Параметры!$C$5,(Параметры!$C$3-Параметры!$C$3*Параметры!$C$4)/Параметры!$C$5, Кэшфло!$B$1*(Параметры!$C$6/800*(1+Параметры!$C$6/800)^Параметры!$C$5)/((1+Параметры!$C$6/800)^Параметры!$C$5-1)),\"\")","v":""}]
[{"$f":"IF(A252>=Параметры!$C$5,\"\",A252+1)","v":""},{"$f":"IF(A253<>\"\",IF(Кэшфло!$B$1*(Параметры!$C$6/800*(1+Параметры!$C$6/800)^Параметры!$C$5)/((1+Параметры!$C$6/800)^Параметры!$C$5-1)<(Параметры!$C$3-Параметры!$C$3*Параметры!$C$4)/Параметры!$C$5,(Параметры!$C$3-Параметры!$C$3*Параметры!$C$4)/Параметры!$C$5, Кэшфло!$B$1*(Параметры!$C$6/800*(1+Параметры!$C$6/800)^Параметры!$C$5)/((1+Параметры!$C$6/800)^Параметры!$C$5-1)),\"\")","v":""}]
[{"$f":"IF(A253>=Параметры!$C$5,\"\",A253+1)","v":""},{"$f":"IF(A254<>\"\",IF(Кэшфло!$B$1*(Параметры!$C$6/800*(1+Параметры!$C$6/800)^Параметры!$C$5)/((1+Параметры!$C$6/800)^Параметры!$C$5-1)<(Параметры!$C$3-Параметры!$C$3*Параметры!$C$4)/Параметры!$C$5,(Параметры!$C$3-Параметры!$C$3*Параметры!$C$4)/Параметры!$C$5, Кэшфло!$B$1*(Параметры!$C$6/800*(1+Параметры!$C$6/800)^Параметры!$C$5)/((1+Параметры!$C$6/800)^Параметры!$C$5-1)),\"\")","v":""}]
[{"$f":"IF(A254>=Параметры!$C$5,\"\",A254+1)","v":""},{"$f":"IF(A255<>\"\",IF(Кэшфло!$B$1*(Параметры!$C$6/800*(1+Параметры!$C$6/800)^Параметры!$C$5)/((1+Параметры!$C$6/800)^Параметры!$C$5-1)<(Параметры!$C$3-Параметры!$C$3*Параметры!$C$4)/Параметры!$C$5,(Параметры!$C$3-Параметры!$C$3*Параметры!$C$4)/Параметры!$C$5, Кэшфло!$B$1*(Параметры!$C$6/800*(1+Параметры!$C$6/800)^Параметры!$C$5)/((1+Параметры!$C$6/800)^Параметры!$C$5-1)),\"\")","v":""}]
[{"$f":"IF(A255>=Параметры!$C$5,\"\",A255+1)","v":""},{"$f":"IF(A256<>\"\",IF(Кэшфло!$B$1*(Параметры!$C$6/800*(1+Параметры!$C$6/800)^Параметры!$C$5)/((1+Параметры!$C$6/800)^Параметры!$C$5-1)<(Параметры!$C$3-Параметры!$C$3*Параметры!$C$4)/Параметры!$C$5,(Параметры!$C$3-Параметры!$C$3*Параметры!$C$4)/Параметры!$C$5, Кэшфло!$B$1*(Параметры!$C$6/800*(1+Параметры!$C$6/800)^Параметры!$C$5)/((1+Параметры!$C$6/800)^Параметры!$C$5-1)),\"\")","v":""}]
[{"$f":"IF(A256>=Параметры!$C$5,\"\",A256+1)","v":""},{"$f":"IF(A257<>\"\",IF(Кэшфло!$B$1*(Параметры!$C$6/800*(1+Параметры!$C$6/800)^Параметры!$C$5)/((1+Параметры!$C$6/800)^Параметры!$C$5-1)<(Параметры!$C$3-Параметры!$C$3*Параметры!$C$4)/Параметры!$C$5,(Параметры!$C$3-Параметры!$C$3*Параметры!$C$4)/Параметры!$C$5, Кэшфло!$B$1*(Параметры!$C$6/800*(1+Параметры!$C$6/800)^Параметры!$C$5)/((1+Параметры!$C$6/800)^Параметры!$C$5-1)),\"\")","v":""}]
[{"$f":"IF(A257>=Параметры!$C$5,\"\",A257+1)","v":""},{"$f":"IF(A258<>\"\",IF(Кэшфло!$B$1*(Параметры!$C$6/800*(1+Параметры!$C$6/800)^Параметры!$C$5)/((1+Параметры!$C$6/800)^Параметры!$C$5-1)<(Параметры!$C$3-Параметры!$C$3*Параметры!$C$4)/Параметры!$C$5,(Параметры!$C$3-Параметры!$C$3*Параметры!$C$4)/Параметры!$C$5, Кэшфло!$B$1*(Параметры!$C$6/800*(1+Параметры!$C$6/800)^Параметры!$C$5)/((1+Параметры!$C$6/800)^Параметры!$C$5-1)),\"\")","v":""}]
[{"$f":"IF(A258>=Параметры!$C$5,\"\",A258+1)","v":""},{"$f":"IF(A259<>\"\",IF(Кэшфло!$B$1*(Параметры!$C$6/800*(1+Параметры!$C$6/800)^Параметры!$C$5)/((1+Параметры!$C$6/800)^Параметры!$C$5-1)<(Параметры!$C$3-Параметры!$C$3*Параметры!$C$4)/Параметры!$C$5,(Параметры!$C$3-Параметры!$C$3*Параметры!$C$4)/Параметры!$C$5, Кэшфло!$B$1*(Параметры!$C$6/800*(1+Параметры!$C$6/800)^Параметры!$C$5)/((1+Параметры!$C$6/800)^Параметры!$C$5-1)),\"\")","v":""}]
[{"$f":"IF(A259>=Параметры!$C$5,\"\",A259+1)","v":""},{"$f":"IF(A260<>\"\",IF(Кэшфло!$B$1*(Параметры!$C$6/800*(1+Параметры!$C$6/800)^Параметры!$C$5)/((1+Параметры!$C$6/800)^Параметры!$C$5-1)<(Параметры!$C$3-Параметры!$C$3*Параметры!$C$4)/Параметры!$C$5,(Параметры!$C$3-Параметры!$C$3*Параметры!$C$4)/Параметры!$C$5, Кэшфло!$B$1*(Параметры!$C$6/800*(1+Параметры!$C$6/800)^Параметры!$C$5)/((1+Параметры!$C$6/800)^Параметры!$C$5-1)),\"\")","v":""}]
[{"$f":"IF(A260>=Параметры!$C$5,\"\",A260+1)","v":""},{"$f":"IF(A261<>\"\",IF(Кэшфло!$B$1*(Параметры!$C$6/800*(1+Параметры!$C$6/800)^Параметры!$C$5)/((1+Параметры!$C$6/800)^Параметры!$C$5-1)<(Параметры!$C$3-Параметры!$C$3*Параметры!$C$4)/Параметры!$C$5,(Параметры!$C$3-Параметры!$C$3*Параметры!$C$4)/Параметры!$C$5, Кэшфло!$B$1*(Параметры!$C$6/800*(1+Параметры!$C$6/800)^Параметры!$C$5)/((1+Параметры!$C$6/800)^Параметры!$C$5-1)),\"\")","v":""}]
[{"$f":"IF(A261>=Параметры!$C$5,\"\",A261+1)","v":""},{"$f":"IF(A262<>\"\",IF(Кэшфло!$B$1*(Параметры!$C$6/800*(1+Параметры!$C$6/800)^Параметры!$C$5)/((1+Параметры!$C$6/800)^Параметры!$C$5-1)<(Параметры!$C$3-Параметры!$C$3*Параметры!$C$4)/Параметры!$C$5,(Параметры!$C$3-Параметры!$C$3*Параметры!$C$4)/Параметры!$C$5, Кэшфло!$B$1*(Параметры!$C$6/800*(1+Параметры!$C$6/800)^Параметры!$C$5)/((1+Параметры!$C$6/800)^Параметры!$C$5-1)),\"\")","v":""}]
[{"$f":"IF(A262>=Параметры!$C$5,\"\",A262+1)","v":""},{"$f":"IF(A263<>\"\",IF(Кэшфло!$B$1*(Параметры!$C$6/800*(1+Параметры!$C$6/800)^Параметры!$C$5)/((1+Параметры!$C$6/800)^Параметры!$C$5-1)<(Параметры!$C$3-Параметры!$C$3*Параметры!$C$4)/Параметры!$C$5,(Параметры!$C$3-Параметры!$C$3*Параметры!$C$4)/Параметры!$C$5, Кэшфло!$B$1*(Параметры!$C$6/800*(1+Параметры!$C$6/800)^Параметры!$C$5)/((1+Параметры!$C$6/800)^Параметры!$C$5-1)),\"\")","v":""}]
[{"$f":"IF(A263>=Параметры!$C$5,\"\",A263+1)","v":""},{"$f":"IF(A264<>\"\",IF(Кэшфло!$B$1*(Параметры!$C$6/800*(1+Параметры!$C$6/800)^Параметры!$C$5)/((1+Параметры!$C$6/800)^Параметры!$C$5-1)<(Параметры!$C$3-Параметры!$C$3*Параметры!$C$4)/Параметры!$C$5,(Параметры!$C$3-Параметры!$C$3*Параметры!$C$4)/Параметры!$C$5, Кэшфло!$B$1*(Параметры!$C$6/800*(1+Параметры!$C$6/800)^Параметры!$C$5)/((1+Параметры!$C$6/800)^Параметры!$C$5-1)),\"\")","v":""}]
[{"$f":"IF(A264>=Параметры!$C$5,\"\",A264+1)","v":""},{"$f":"IF(A265<>\"\",IF(Кэшфло!$B$1*(Параметры!$C$6/800*(1+Параметры!$C$6/800)^Параметры!$C$5)/((1+Параметры!$C$6/800)^Параметры!$C$5-1)<(Параметры!$C$3-Параметры!$C$3*Параметры!$C$4)/Параметры!$C$5,(Параметры!$C$3-Параметры!$C$3*Параметры!$C$4)/Параметры!$C$5, Кэшфло!$B$1*(Параметры!$C$6/800*(1+Параметры!$C$6/800)^Параметры!$C$5)/((1+Параметры!$C$6/800)^Параметры!$C$5-1)),\"\")","v":""}]
[{"$f":"IF(A265>=Параметры!$C$5,\"\",A265+1)","v":""},{"$f":"IF(A266<>\"\",IF(Кэшфло!$B$1*(Параметры!$C$6/800*(1+Параметры!$C$6/800)^Параметры!$C$5)/((1+Параметры!$C$6/800)^Параметры!$C$5-1)<(Параметры!$C$3-Параметры!$C$3*Параметры!$C$4)/Параметры!$C$5,(Параметры!$C$3-Параметры!$C$3*Параметры!$C$4)/Параметры!$C$5, Кэшфло!$B$1*(Параметры!$C$6/800*(1+Параметры!$C$6/800)^Параметры!$C$5)/((1+Параметры!$C$6/800)^Параметры!$C$5-1)),\"\")","v":""}]
[{"$f":"IF(A266>=Параметры!$C$5,\"\",A266+1)","v":""},{"$f":"IF(A267<>\"\",IF(Кэшфло!$B$1*(Параметры!$C$6/800*(1+Параметры!$C$6/800)^Параметры!$C$5)/((1+Параметры!$C$6/800)^Параметры!$C$5-1)<(Параметры!$C$3-Параметры!$C$3*Параметры!$C$4)/Параметры!$C$5,(Параметры!$C$3-Параметры!$C$3*Параметры!$C$4)/Параметры!$C$5, Кэшфло!$B$1*(Параметры!$C$6/800*(1+Параметры!$C$6/800)^Параметры!$C$5)/((1+Параметры!$C$6/800)^Параметры!$C$5-1)),\"\")","v":""}]
[{"$f":"IF(A267>=Параметры!$C$5,\"\",A267+1)","v":""},{"$f":"IF(A268<>\"\",IF(Кэшфло!$B$1*(Параметры!$C$6/800*(1+Параметры!$C$6/800)^Параметры!$C$5)/((1+Параметры!$C$6/800)^Параметры!$C$5-1)<(Параметры!$C$3-Параметры!$C$3*Параметры!$C$4)/Параметры!$C$5,(Параметры!$C$3-Параметры!$C$3*Параметры!$C$4)/Параметры!$C$5, Кэшфло!$B$1*(Параметры!$C$6/800*(1+Параметры!$C$6/800)^Параметры!$C$5)/((1+Параметры!$C$6/800)^Параметры!$C$5-1)),\"\")","v":""}]
[{"$f":"IF(A268>=Параметры!$C$5,\"\",A268+1)","v":""},{"$f":"IF(A269<>\"\",IF(Кэшфло!$B$1*(Параметры!$C$6/800*(1+Параметры!$C$6/800)^Параметры!$C$5)/((1+Параметры!$C$6/800)^Параметры!$C$5-1)<(Параметры!$C$3-Параметры!$C$3*Параметры!$C$4)/Параметры!$C$5,(Параметры!$C$3-Параметры!$C$3*Параметры!$C$4)/Параметры!$C$5, Кэшфло!$B$1*(Параметры!$C$6/800*(1+Параметры!$C$6/800)^Параметры!$C$5)/((1+Параметры!$C$6/800)^Параметры!$C$5-1)),\"\")","v":""}]
[{"$f":"IF(A269>=Параметры!$C$5,\"\",A269+1)","v":""},{"$f":"IF(A270<>\"\",IF(Кэшфло!$B$1*(Параметры!$C$6/800*(1+Параметры!$C$6/800)^Параметры!$C$5)/((1+Параметры!$C$6/800)^Параметры!$C$5-1)<(Параметры!$C$3-Параметры!$C$3*Параметры!$C$4)/Параметры!$C$5,(Параметры!$C$3-Параметры!$C$3*Параметры!$C$4)/Параметры!$C$5, Кэшфло!$B$1*(Параметры!$C$6/800*(1+Параметры!$C$6/800)^Параметры!$C$5)/((1+Параметры!$C$6/800)^Параметры!$C$5-1)),\"\")","v":""}]
[{"$f":"IF(A270>=Параметры!$C$5,\"\",A270+1)","v":""},{"$f":"IF(A271<>\"\",IF(Кэшфло!$B$1*(Параметры!$C$6/800*(1+Параметры!$C$6/800)^Параметры!$C$5)/((1+Параметры!$C$6/800)^Параметры!$C$5-1)<(Параметры!$C$3-Параметры!$C$3*Параметры!$C$4)/Параметры!$C$5,(Параметры!$C$3-Параметры!$C$3*Параметры!$C$4)/Параметры!$C$5, Кэшфло!$B$1*(Параметры!$C$6/800*(1+Параметры!$C$6/800)^Параметры!$C$5)/((1+Параметры!$C$6/800)^Параметры!$C$5-1)),\"\")","v":""}]
[{"$f":"IF(A271>=Параметры!$C$5,\"\",A271+1)","v":""},{"$f":"IF(A272<>\"\",IF(Кэшфло!$B$1*(Параметры!$C$6/800*(1+Параметры!$C$6/800)^Параметры!$C$5)/((1+Параметры!$C$6/800)^Параметры!$C$5-1)<(Параметры!$C$3-Параметры!$C$3*Параметры!$C$4)/Параметры!$C$5,(Параметры!$C$3-Параметры!$C$3*Параметры!$C$4)/Параметры!$C$5, Кэшфло!$B$1*(Параметры!$C$6/800*(1+Параметры!$C$6/800)^Параметры!$C$5)/((1+Параметры!$C$6/800)^Параметры!$C$5-1)),\"\")","v":""}]
[{"$f":"IF(A272>=Параметры!$C$5,\"\",A272+1)","v":""},{"$f":"IF(A273<>\"\",IF(Кэшфло!$B$1*(Параметры!$C$6/800*(1+Параметры!$C$6/800)^Параметры!$C$5)/((1+Параметры!$C$6/800)^Параметры!$C$5-1)<(Параметры!$C$3-Параметры!$C$3*Параметры!$C$4)/Параметры!$C$5,(Параметры!$C$3-Параметры!$C$3*Параметры!$C$4)/Параметры!$C$5, Кэшфло!$B$1*(Параметры!$C$6/800*(1+Параметры!$C$6/800)^Параметры!$C$5)/((1+Параметры!$C$6/800)^Параметры!$C$5-1)),\"\")","v":""}]
[{"$f":"IF(A273>=Параметры!$C$5,\"\",A273+1)","v":""},{"$f":"IF(A274<>\"\",IF(Кэшфло!$B$1*(Параметры!$C$6/800*(1+Параметры!$C$6/800)^Параметры!$C$5)/((1+Параметры!$C$6/800)^Параметры!$C$5-1)<(Параметры!$C$3-Параметры!$C$3*Параметры!$C$4)/Параметры!$C$5,(Параметры!$C$3-Параметры!$C$3*Параметры!$C$4)/Параметры!$C$5, Кэшфло!$B$1*(Параметры!$C$6/800*(1+Параметры!$C$6/800)^Параметры!$C$5)/((1+Параметры!$C$6/800)^Параметры!$C$5-1)),\"\")","v":""}]
[{"$f":"IF(A274>=Параметры!$C$5,\"\",A274+1)","v":""},{"$f":"IF(A275<>\"\",IF(Кэшфло!$B$1*(Параметры!$C$6/800*(1+Параметры!$C$6/800)^Параметры!$C$5)/((1+Параметры!$C$6/800)^Параметры!$C$5-1)<(Параметры!$C$3-Параметры!$C$3*Параметры!$C$4)/Параметры!$C$5,(Параметры!$C$3-Параметры!$C$3*Параметры!$C$4)/Параметры!$C$5, Кэшфло!$B$1*(Параметры!$C$6/800*(1+Параметры!$C$6/800)^Параметры!$C$5)/((1+Параметры!$C$6/800)^Параметры!$C$5-1)),\"\")","v":""}]
[{"$f":"IF(A275>=Параметры!$C$5,\"\",A275+1)","v":""},{"$f":"IF(A276<>\"\",IF(Кэшфло!$B$1*(Параметры!$C$6/800*(1+Параметры!$C$6/800)^Параметры!$C$5)/((1+Параметры!$C$6/800)^Параметры!$C$5-1)<(Параметры!$C$3-Параметры!$C$3*Параметры!$C$4)/Параметры!$C$5,(Параметры!$C$3-Параметры!$C$3*Параметры!$C$4)/Параметры!$C$5, Кэшфло!$B$1*(Параметры!$C$6/800*(1+Параметры!$C$6/800)^Параметры!$C$5)/((1+Параметры!$C$6/800)^Параметры!$C$5-1)),\"\")","v":""}]
[{"$f":"IF(A276>=Параметры!$C$5,\"\",A276+1)","v":""},{"$f":"IF(A277<>\"\",IF(Кэшфло!$B$1*(Параметры!$C$6/800*(1+Параметры!$C$6/800)^Параметры!$C$5)/((1+Параметры!$C$6/800)^Параметры!$C$5-1)<(Параметры!$C$3-Параметры!$C$3*Параметры!$C$4)/Параметры!$C$5,(Параметры!$C$3-Параметры!$C$3*Параметры!$C$4)/Параметры!$C$5, Кэшфло!$B$1*(Параметры!$C$6/800*(1+Параметры!$C$6/800)^Параметры!$C$5)/((1+Параметры!$C$6/800)^Параметры!$C$5-1)),\"\")","v":""}]
[{"$f":"IF(A277>=Параметры!$C$5,\"\",A277+1)","v":""},{"$f":"IF(A278<>\"\",IF(Кэшфло!$B$1*(Параметры!$C$6/800*(1+Параметры!$C$6/800)^Параметры!$C$5)/((1+Параметры!$C$6/800)^Параметры!$C$5-1)<(Параметры!$C$3-Параметры!$C$3*Параметры!$C$4)/Параметры!$C$5,(Параметры!$C$3-Параметры!$C$3*Параметры!$C$4)/Параметры!$C$5, Кэшфло!$B$1*(Параметры!$C$6/800*(1+Параметры!$C$6/800)^Параметры!$C$5)/((1+Параметры!$C$6/800)^Параметры!$C$5-1)),\"\")","v":""}]
[{"$f":"IF(A278>=Параметры!$C$5,\"\",A278+1)","v":""},{"$f":"IF(A279<>\"\",IF(Кэшфло!$B$1*(Параметры!$C$6/800*(1+Параметры!$C$6/800)^Параметры!$C$5)/((1+Параметры!$C$6/800)^Параметры!$C$5-1)<(Параметры!$C$3-Параметры!$C$3*Параметры!$C$4)/Параметры!$C$5,(Параметры!$C$3-Параметры!$C$3*Параметры!$C$4)/Параметры!$C$5, Кэшфло!$B$1*(Параметры!$C$6/800*(1+Параметры!$C$6/800)^Параметры!$C$5)/((1+Параметры!$C$6/800)^Параметры!$C$5-1)),\"\")","v":""}]
[{"$f":"IF(A279>=Параметры!$C$5,\"\",A279+1)","v":""},{"$f":"IF(A280<>\"\",IF(Кэшфло!$B$1*(Параметры!$C$6/800*(1+Параметры!$C$6/800)^Параметры!$C$5)/((1+Параметры!$C$6/800)^Параметры!$C$5-1)<(Параметры!$C$3-Параметры!$C$3*Параметры!$C$4)/Параметры!$C$5,(Параметры!$C$3-Параметры!$C$3*Параметры!$C$4)/Параметры!$C$5, Кэшфло!$B$1*(Параметры!$C$6/800*(1+Параметры!$C$6/800)^Параметры!$C$5)/((1+Параметры!$C$6/800)^Параметры!$C$5-1)),\"\")","v":""}]
[{"$f":"IF(A280>=Параметры!$C$5,\"\",A280+1)","v":""},{"$f":"IF(A281<>\"\",IF(Кэшфло!$B$1*(Параметры!$C$6/800*(1+Параметры!$C$6/800)^Параметры!$C$5)/((1+Параметры!$C$6/800)^Параметры!$C$5-1)<(Параметры!$C$3-Параметры!$C$3*Параметры!$C$4)/Параметры!$C$5,(Параметры!$C$3-Параметры!$C$3*Параметры!$C$4)/Параметры!$C$5, Кэшфло!$B$1*(Параметры!$C$6/800*(1+Параметры!$C$6/800)^Параметры!$C$5)/((1+Параметры!$C$6/800)^Параметры!$C$5-1)),\"\")","v":""}]
[{"$f":"IF(A281>=Параметры!$C$5,\"\",A281+1)","v":""},{"$f":"IF(A282<>\"\",IF(Кэшфло!$B$1*(Параметры!$C$6/800*(1+Параметры!$C$6/800)^Параметры!$C$5)/((1+Параметры!$C$6/800)^Параметры!$C$5-1)<(Параметры!$C$3-Параметры!$C$3*Параметры!$C$4)/Параметры!$C$5,(Параметры!$C$3-Параметры!$C$3*Параметры!$C$4)/Параметры!$C$5, Кэшфло!$B$1*(Параметры!$C$6/800*(1+Параметры!$C$6/800)^Параметры!$C$5)/((1+Параметры!$C$6/800)^Параметры!$C$5-1)),\"\")","v":""}]
[{"$f":"IF(A282>=Параметры!$C$5,\"\",A282+1)","v":""},{"$f":"IF(A283<>\"\",IF(Кэшфло!$B$1*(Параметры!$C$6/800*(1+Параметры!$C$6/800)^Параметры!$C$5)/((1+Параметры!$C$6/800)^Параметры!$C$5-1)<(Параметры!$C$3-Параметры!$C$3*Параметры!$C$4)/Параметры!$C$5,(Параметры!$C$3-Параметры!$C$3*Параметры!$C$4)/Параметры!$C$5, Кэшфло!$B$1*(Параметры!$C$6/800*(1+Параметры!$C$6/800)^Параметры!$C$5)/((1+Параметры!$C$6/800)^Параметры!$C$5-1)),\"\")","v":""}]
[{"$f":"IF(A283>=Параметры!$C$5,\"\",A283+1)","v":""},{"$f":"IF(A284<>\"\",IF(Кэшфло!$B$1*(Параметры!$C$6/800*(1+Параметры!$C$6/800)^Параметры!$C$5)/((1+Параметры!$C$6/800)^Параметры!$C$5-1)<(Параметры!$C$3-Параметры!$C$3*Параметры!$C$4)/Параметры!$C$5,(Параметры!$C$3-Параметры!$C$3*Параметры!$C$4)/Параметры!$C$5, Кэшфло!$B$1*(Параметры!$C$6/800*(1+Параметры!$C$6/800)^Параметры!$C$5)/((1+Параметры!$C$6/800)^Параметры!$C$5-1)),\"\")","v":""}]
[{"$f":"IF(A284>=Параметры!$C$5,\"\",A284+1)","v":""},{"$f":"IF(A285<>\"\",IF(Кэшфло!$B$1*(Параметры!$C$6/800*(1+Параметры!$C$6/800)^Параметры!$C$5)/((1+Параметры!$C$6/800)^Параметры!$C$5-1)<(Параметры!$C$3-Параметры!$C$3*Параметры!$C$4)/Параметры!$C$5,(Параметры!$C$3-Параметры!$C$3*Параметры!$C$4)/Параметры!$C$5, Кэшфло!$B$1*(Параметры!$C$6/800*(1+Параметры!$C$6/800)^Параметры!$C$5)/((1+Параметры!$C$6/800)^Параметры!$C$5-1)),\"\")","v":""}]
[{"$f":"IF(A285>=Параметры!$C$5,\"\",A285+1)","v":""},{"$f":"IF(A286<>\"\",IF(Кэшфло!$B$1*(Параметры!$C$6/800*(1+Параметры!$C$6/800)^Параметры!$C$5)/((1+Параметры!$C$6/800)^Параметры!$C$5-1)<(Параметры!$C$3-Параметры!$C$3*Параметры!$C$4)/Параметры!$C$5,(Параметры!$C$3-Параметры!$C$3*Параметры!$C$4)/Параметры!$C$5, Кэшфло!$B$1*(Параметры!$C$6/800*(1+Параметры!$C$6/800)^Параметры!$C$5)/((1+Параметры!$C$6/800)^Параметры!$C$5-1)),\"\")","v":""}]
[{"$f":"IF(A286>=Параметры!$C$5,\"\",A286+1)","v":""},{"$f":"IF(A287<>\"\",IF(Кэшфло!$B$1*(Параметры!$C$6/800*(1+Параметры!$C$6/800)^Параметры!$C$5)/((1+Параметры!$C$6/800)^Параметры!$C$5-1)<(Параметры!$C$3-Параметры!$C$3*Параметры!$C$4)/Параметры!$C$5,(Параметры!$C$3-Параметры!$C$3*Параметры!$C$4)/Параметры!$C$5, Кэшфло!$B$1*(Параметры!$C$6/800*(1+Параметры!$C$6/800)^Параметры!$C$5)/((1+Параметры!$C$6/800)^Параметры!$C$5-1)),\"\")","v":""}]
[{"$f":"IF(A287>=Параметры!$C$5,\"\",A287+1)","v":""},{"$f":"IF(A288<>\"\",IF(Кэшфло!$B$1*(Параметры!$C$6/800*(1+Параметры!$C$6/800)^Параметры!$C$5)/((1+Параметры!$C$6/800)^Параметры!$C$5-1)<(Параметры!$C$3-Параметры!$C$3*Параметры!$C$4)/Параметры!$C$5,(Параметры!$C$3-Параметры!$C$3*Параметры!$C$4)/Параметры!$C$5, Кэшфло!$B$1*(Параметры!$C$6/800*(1+Параметры!$C$6/800)^Параметры!$C$5)/((1+Параметры!$C$6/800)^Параметры!$C$5-1)),\"\")","v":""}]
[{"$f":"IF(A288>=Параметры!$C$5,\"\",A288+1)","v":""},{"$f":"IF(A289<>\"\",IF(Кэшфло!$B$1*(Параметры!$C$6/800*(1+Параметры!$C$6/800)^Параметры!$C$5)/((1+Параметры!$C$6/800)^Параметры!$C$5-1)<(Параметры!$C$3-Параметры!$C$3*Параметры!$C$4)/Параметры!$C$5,(Параметры!$C$3-Параметры!$C$3*Параметры!$C$4)/Параметры!$C$5, Кэшфло!$B$1*(Параметры!$C$6/800*(1+Параметры!$C$6/800)^Параметры!$C$5)/((1+Параметры!$C$6/800)^Параметры!$C$5-1)),\"\")","v":""}]
[{"$f":"IF(A289>=Параметры!$C$5,\"\",A289+1)","v":""},{"$f":"IF(A290<>\"\",IF(Кэшфло!$B$1*(Параметры!$C$6/800*(1+Параметры!$C$6/800)^Параметры!$C$5)/((1+Параметры!$C$6/800)^Параметры!$C$5-1)<(Параметры!$C$3-Параметры!$C$3*Параметры!$C$4)/Параметры!$C$5,(Параметры!$C$3-Параметры!$C$3*Параметры!$C$4)/Параметры!$C$5, Кэшфло!$B$1*(Параметры!$C$6/800*(1+Параметры!$C$6/800)^Параметры!$C$5)/((1+Параметры!$C$6/800)^Параметры!$C$5-1)),\"\")","v":""}]
[{"$f":"IF(A290>=Параметры!$C$5,\"\",A290+1)","v":""},{"$f":"IF(A291<>\"\",IF(Кэшфло!$B$1*(Параметры!$C$6/800*(1+Параметры!$C$6/800)^Параметры!$C$5)/((1+Параметры!$C$6/800)^Параметры!$C$5-1)<(Параметры!$C$3-Параметры!$C$3*Параметры!$C$4)/Параметры!$C$5,(Параметры!$C$3-Параметры!$C$3*Параметры!$C$4)/Параметры!$C$5, Кэшфло!$B$1*(Параметры!$C$6/800*(1+Параметры!$C$6/800)^Параметры!$C$5)/((1+Параметры!$C$6/800)^Параметры!$C$5-1)),\"\")","v":""}]
[{"$f":"IF(A291>=Параметры!$C$5,\"\",A291+1)","v":""},{"$f":"IF(A292<>\"\",IF(Кэшфло!$B$1*(Параметры!$C$6/800*(1+Параметры!$C$6/800)^Параметры!$C$5)/((1+Параметры!$C$6/800)^Параметры!$C$5-1)<(Параметры!$C$3-Параметры!$C$3*Параметры!$C$4)/Параметры!$C$5,(Параметры!$C$3-Параметры!$C$3*Параметры!$C$4)/Параметры!$C$5, Кэшфло!$B$1*(Параметры!$C$6/800*(1+Параметры!$C$6/800)^Параметры!$C$5)/((1+Параметры!$C$6/800)^Параметры!$C$5-1)),\"\")","v":""}]
[{"$f":"IF(A292>=Параметры!$C$5,\"\",A292+1)","v":""},{"$f":"IF(A293<>\"\",IF(Кэшфло!$B$1*(Параметры!$C$6/800*(1+Параметры!$C$6/800)^Параметры!$C$5)/((1+Параметры!$C$6/800)^Параметры!$C$5-1)<(Параметры!$C$3-Параметры!$C$3*Параметры!$C$4)/Параметры!$C$5,(Параметры!$C$3-Параметры!$C$3*Параметры!$C$4)/Параметры!$C$5, Кэшфло!$B$1*(Параметры!$C$6/800*(1+Параметры!$C$6/800)^Параметры!$C$5)/((1+Параметры!$C$6/800)^Параметры!$C$5-1)),\"\")","v":""}]
[{"$f":"IF(A293>=Параметры!$C$5,\"\",A293+1)","v":""},{"$f":"IF(A294<>\"\",IF(Кэшфло!$B$1*(Параметры!$C$6/800*(1+Параметры!$C$6/800)^Параметры!$C$5)/((1+Параметры!$C$6/800)^Параметры!$C$5-1)<(Параметры!$C$3-Параметры!$C$3*Параметры!$C$4)/Параметры!$C$5,(Параметры!$C$3-Параметры!$C$3*Параметры!$C$4)/Параметры!$C$5, Кэшфло!$B$1*(Параметры!$C$6/800*(1+Параметры!$C$6/800)^Параметры!$C$5)/((1+Параметры!$C$6/800)^Параметры!$C$5-1)),\"\")","v":""}]
[{"$f":"IF(A294>=Параметры!$C$5,\"\",A294+1)","v":""},{"$f":"IF(A295<>\"\",IF(Кэшфло!$B$1*(Параметры!$C$6/800*(1+Параметры!$C$6/800)^Параметры!$C$5)/((1+Параметры!$C$6/800)^Параметры!$C$5-1)<(Параметры!$C$3-Параметры!$C$3*Параметры!$C$4)/Параметры!$C$5,(Параметры!$C$3-Параметры!$C$3*Параметры!$C$4)/Параметры!$C$5, Кэшфло!$B$1*(Параметры!$C$6/800*(1+Параметры!$C$6/800)^Параметры!$C$5)/((1+Параметры!$C$6/800)^Параметры!$C$5-1)),\"\")","v":""}]
[{"$f":"IF(A295>=Параметры!$C$5,\"\",A295+1)","v":""},{"$f":"IF(A296<>\"\",IF(Кэшфло!$B$1*(Параметры!$C$6/800*(1+Параметры!$C$6/800)^Параметры!$C$5)/((1+Параметры!$C$6/800)^Параметры!$C$5-1)<(Параметры!$C$3-Параметры!$C$3*Параметры!$C$4)/Параметры!$C$5,(Параметры!$C$3-Параметры!$C$3*Параметры!$C$4)/Параметры!$C$5, Кэшфло!$B$1*(Параметры!$C$6/800*(1+Параметры!$C$6/800)^Параметры!$C$5)/((1+Параметры!$C$6/800)^Параметры!$C$5-1)),\"\")","v":""}]
[{"$f":"IF(A296>=Параметры!$C$5,\"\",A296+1)","v":""},{"$f":"IF(A297<>\"\",IF(Кэшфло!$B$1*(Параметры!$C$6/800*(1+Параметры!$C$6/800)^Параметры!$C$5)/((1+Параметры!$C$6/800)^Параметры!$C$5-1)<(Параметры!$C$3-Параметры!$C$3*Параметры!$C$4)/Параметры!$C$5,(Параметры!$C$3-Параметры!$C$3*Параметры!$C$4)/Параметры!$C$5, Кэшфло!$B$1*(Параметры!$C$6/800*(1+Параметры!$C$6/800)^Параметры!$C$5)/((1+Параметры!$C$6/800)^Параметры!$C$5-1)),\"\")","v":""}]
[{"$f":"IF(A297>=Параметры!$C$5,\"\",A297+1)","v":""},{"$f":"IF(A298<>\"\",IF(Кэшфло!$B$1*(Параметры!$C$6/800*(1+Параметры!$C$6/800)^Параметры!$C$5)/((1+Параметры!$C$6/800)^Параметры!$C$5-1)<(Параметры!$C$3-Параметры!$C$3*Параметры!$C$4)/Параметры!$C$5,(Параметры!$C$3-Параметры!$C$3*Параметры!$C$4)/Параметры!$C$5, Кэшфло!$B$1*(Параметры!$C$6/800*(1+Параметры!$C$6/800)^Параметры!$C$5)/((1+Параметры!$C$6/800)^Параметры!$C$5-1)),\"\")","v":""}]
[{"$f":"IF(A298>=Параметры!$C$5,\"\",A298+1)","v":""},{"$f":"IF(A299<>\"\",IF(Кэшфло!$B$1*(Параметры!$C$6/800*(1+Параметры!$C$6/800)^Параметры!$C$5)/((1+Параметры!$C$6/800)^Параметры!$C$5-1)<(Параметры!$C$3-Параметры!$C$3*Параметры!$C$4)/Параметры!$C$5,(Параметры!$C$3-Параметры!$C$3*Параметры!$C$4)/Параметры!$C$5, Кэшфло!$B$1*(Параметры!$C$6/800*(1+Параметры!$C$6/800)^Параметры!$C$5)/((1+Параметры!$C$6/800)^Параметры!$C$5-1)),\"\")","v":""}]
[{"$f":"IF(A299>=Параметры!$C$5,\"\",A299+1)","v":""},{"$f":"IF(A300<>\"\",IF(Кэшфло!$B$1*(Параметры!$C$6/800*(1+Параметры!$C$6/800)^Параметры!$C$5)/((1+Параметры!$C$6/800)^Параметры!$C$5-1)<(Параметры!$C$3-Параметры!$C$3*Параметры!$C$4)/Параметры!$C$5,(Параметры!$C$3-Параметры!$C$3*Параметры!$C$4)/Параметры!$C$5, Кэшфло!$B$1*(Параметры!$C$6/800*(1+Параметры!$C$6/800)^Параметры!$C$5)/((1+Параметры!$C$6/800)^Параметры!$C$5-1)),\"\")","v":""}]
[{"$f":"IF(A300>=Параметры!$C$5,\"\",A300+1)","v":""},{"$f":"IF(A301<>\"\",IF(Кэшфло!$B$1*(Параметры!$C$6/800*(1+Параметры!$C$6/800)^Параметры!$C$5)/((1+Параметры!$C$6/800)^Параметры!$C$5-1)<(Параметры!$C$3-Параметры!$C$3*Параметры!$C$4)/Параметры!$C$5,(Параметры!$C$3-Параметры!$C$3*Параметры!$C$4)/Параметры!$C$5, Кэшфло!$B$1*(Параметры!$C$6/800*(1+Параметры!$C$6/800)^Параметры!$C$5)/((1+Параметры!$C$6/800)^Параметры!$C$5-1)),\"\")","v":""}]
[{"$f":"IF(A301>=Параметры!$C$5,\"\",A301+1)","v":""},{"$f":"IF(A302<>\"\",IF(Кэшфло!$B$1*(Параметры!$C$6/800*(1+Параметры!$C$6/800)^Параметры!$C$5)/((1+Параметры!$C$6/800)^Параметры!$C$5-1)<(Параметры!$C$3-Параметры!$C$3*Параметры!$C$4)/Параметры!$C$5,(Параметры!$C$3-Параметры!$C$3*Параметры!$C$4)/Параметры!$C$5, Кэшфло!$B$1*(Параметры!$C$6/800*(1+Параметры!$C$6/800)^Параметры!$C$5)/((1+Параметры!$C$6/800)^Параметры!$C$5-1)),\"\")","v":""}]
[{"$f":"IF(A302>=Параметры!$C$5,\"\",A302+1)","v":""},{"$f":"IF(A303<>\"\",IF(Кэшфло!$B$1*(Параметры!$C$6/800*(1+Параметры!$C$6/800)^Параметры!$C$5)/((1+Параметры!$C$6/800)^Параметры!$C$5-1)<(Параметры!$C$3-Параметры!$C$3*Параметры!$C$4)/Параметры!$C$5,(Параметры!$C$3-Параметры!$C$3*Параметры!$C$4)/Параметры!$C$5, Кэшфло!$B$1*(Параметры!$C$6/800*(1+Параметры!$C$6/800)^Параметры!$C$5)/((1+Параметры!$C$6/800)^Параметры!$C$5-1)),\"\")","v":""}]
[{"$f":"IF(A303>=Параметры!$C$5,\"\",A303+1)","v":""},{"$f":"IF(A304<>\"\",IF(Кэшфло!$B$1*(Параметры!$C$6/800*(1+Параметры!$C$6/800)^Параметры!$C$5)/((1+Параметры!$C$6/800)^Параметры!$C$5-1)<(Параметры!$C$3-Параметры!$C$3*Параметры!$C$4)/Параметры!$C$5,(Параметры!$C$3-Параметры!$C$3*Параметры!$C$4)/Параметры!$C$5, Кэшфло!$B$1*(Параметры!$C$6/800*(1+Параметры!$C$6/800)^Параметры!$C$5)/((1+Параметры!$C$6/800)^Параметры!$C$5-1)),\"\")","v":""}]
[{"$f":"IF(A304>=Параметры!$C$5,\"\",A304+1)","v":""},{"$f":"IF(A305<>\"\",IF(Кэшфло!$B$1*(Параметры!$C$6/800*(1+Параметры!$C$6/800)^Параметры!$C$5)/((1+Параметры!$C$6/800)^Параметры!$C$5-1)<(Параметры!$C$3-Параметры!$C$3*Параметры!$C$4)/Параметры!$C$5,(Параметры!$C$3-Параметры!$C$3*Параметры!$C$4)/Параметры!$C$5, Кэшфло!$B$1*(Параметры!$C$6/800*(1+Параметры!$C$6/800)^Параметры!$C$5)/((1+Параметры!$C$6/800)^Параметры!$C$5-1)),\"\")","v":""}]
[{"$f":"IF(A305>=Параметры!$C$5,\"\",A305+1)","v":""},{"$f":"IF(A306<>\"\",IF(Кэшфло!$B$1*(Параметры!$C$6/800*(1+Параметры!$C$6/800)^Параметры!$C$5)/((1+Параметры!$C$6/800)^Параметры!$C$5-1)<(Параметры!$C$3-Параметры!$C$3*Параметры!$C$4)/Параметры!$C$5,(Параметры!$C$3-Параметры!$C$3*Параметры!$C$4)/Параметры!$C$5, Кэшфло!$B$1*(Параметры!$C$6/800*(1+Параметры!$C$6/800)^Параметры!$C$5)/((1+Параметры!$C$6/800)^Параметры!$C$5-1)),\"\")","v":""}]
[{"$f":"IF(A306>=Параметры!$C$5,\"\",A306+1)","v":""},{"$f":"IF(A307<>\"\",IF(Кэшфло!$B$1*(Параметры!$C$6/800*(1+Параметры!$C$6/800)^Параметры!$C$5)/((1+Параметры!$C$6/800)^Параметры!$C$5-1)<(Параметры!$C$3-Параметры!$C$3*Параметры!$C$4)/Параметры!$C$5,(Параметры!$C$3-Параметры!$C$3*Параметры!$C$4)/Параметры!$C$5, Кэшфло!$B$1*(Параметры!$C$6/800*(1+Параметры!$C$6/800)^Параметры!$C$5)/((1+Параметры!$C$6/800)^Параметры!$C$5-1)),\"\")","v":""}]
[{"$f":"IF(A307>=Параметры!$C$5,\"\",A307+1)","v":""},{"$f":"IF(A308<>\"\",IF(Кэшфло!$B$1*(Параметры!$C$6/800*(1+Параметры!$C$6/800)^Параметры!$C$5)/((1+Параметры!$C$6/800)^Параметры!$C$5-1)<(Параметры!$C$3-Параметры!$C$3*Параметры!$C$4)/Параметры!$C$5,(Параметры!$C$3-Параметры!$C$3*Параметры!$C$4)/Параметры!$C$5, Кэшфло!$B$1*(Параметры!$C$6/800*(1+Параметры!$C$6/800)^Параметры!$C$5)/((1+Параметры!$C$6/800)^Параметры!$C$5-1)),\"\")","v":""}]
[{"$f":"IF(A308>=Параметры!$C$5,\"\",A308+1)","v":""},{"$f":"IF(A309<>\"\",IF(Кэшфло!$B$1*(Параметры!$C$6/800*(1+Параметры!$C$6/800)^Параметры!$C$5)/((1+Параметры!$C$6/800)^Параметры!$C$5-1)<(Параметры!$C$3-Параметры!$C$3*Параметры!$C$4)/Параметры!$C$5,(Параметры!$C$3-Параметры!$C$3*Параметры!$C$4)/Параметры!$C$5, Кэшфло!$B$1*(Параметры!$C$6/800*(1+Параметры!$C$6/800)^Параметры!$C$5)/((1+Параметры!$C$6/800)^Параметры!$C$5-1)),\"\")","v":""}]
[{"$f":"IF(A309>=Параметры!$C$5,\"\",A309+1)","v":""},{"$f":"IF(A310<>\"\",IF(Кэшфло!$B$1*(Параметры!$C$6/800*(1+Параметры!$C$6/800)^Параметры!$C$5)/((1+Параметры!$C$6/800)^Параметры!$C$5-1)<(Параметры!$C$3-Параметры!$C$3*Параметры!$C$4)/Параметры!$C$5,(Параметры!$C$3-Параметры!$C$3*Параметры!$C$4)/Параметры!$C$5, Кэшфло!$B$1*(Параметры!$C$6/800*(1+Параметры!$C$6/800)^Параметры!$C$5)/((1+Параметры!$C$6/800)^Параметры!$C$5-1)),\"\")","v":""}]
[{"$f":"IF(A310>=Параметры!$C$5,\"\",A310+1)","v":""},{"$f":"IF(A311<>\"\",IF(Кэшфло!$B$1*(Параметры!$C$6/800*(1+Параметры!$C$6/800)^Параметры!$C$5)/((1+Параметры!$C$6/800)^Параметры!$C$5-1)<(Параметры!$C$3-Параметры!$C$3*Параметры!$C$4)/Параметры!$C$5,(Параметры!$C$3-Параметры!$C$3*Параметры!$C$4)/Параметры!$C$5, Кэшфло!$B$1*(Параметры!$C$6/800*(1+Параметры!$C$6/800)^Параметры!$C$5)/((1+Параметры!$C$6/800)^Параметры!$C$5-1)),\"\")","v":""}]
[{"$f":"IF(A311>=Параметры!$C$5,\"\",A311+1)","v":""},{"$f":"IF(A312<>\"\",IF(Кэшфло!$B$1*(Параметры!$C$6/800*(1+Параметры!$C$6/800)^Параметры!$C$5)/((1+Параметры!$C$6/800)^Параметры!$C$5-1)<(Параметры!$C$3-Параметры!$C$3*Параметры!$C$4)/Параметры!$C$5,(Параметры!$C$3-Параметры!$C$3*Параметры!$C$4)/Параметры!$C$5, Кэшфло!$B$1*(Параметры!$C$6/800*(1+Параметры!$C$6/800)^Параметры!$C$5)/((1+Параметры!$C$6/800)^Параметры!$C$5-1)),\"\")","v":""}]
[{"$f":"IF(A312>=Параметры!$C$5,\"\",A312+1)","v":""},{"$f":"IF(A313<>\"\",IF(Кэшфло!$B$1*(Параметры!$C$6/800*(1+Параметры!$C$6/800)^Параметры!$C$5)/((1+Параметры!$C$6/800)^Параметры!$C$5-1)<(Параметры!$C$3-Параметры!$C$3*Параметры!$C$4)/Параметры!$C$5,(Параметры!$C$3-Параметры!$C$3*Параметры!$C$4)/Параметры!$C$5, Кэшфло!$B$1*(Параметры!$C$6/800*(1+Параметры!$C$6/800)^Параметры!$C$5)/((1+Параметры!$C$6/800)^Параметры!$C$5-1)),\"\")","v":""}]
[{"$f":"IF(A313>=Параметры!$C$5,\"\",A313+1)","v":""},{"$f":"IF(A314<>\"\",IF(Кэшфло!$B$1*(Параметры!$C$6/800*(1+Параметры!$C$6/800)^Параметры!$C$5)/((1+Параметры!$C$6/800)^Параметры!$C$5-1)<(Параметры!$C$3-Параметры!$C$3*Параметры!$C$4)/Параметры!$C$5,(Параметры!$C$3-Параметры!$C$3*Параметры!$C$4)/Параметры!$C$5, Кэшфло!$B$1*(Параметры!$C$6/800*(1+Параметры!$C$6/800)^Параметры!$C$5)/((1+Параметры!$C$6/800)^Параметры!$C$5-1)),\"\")","v":""}]
[{"$f":"IF(A314>=Параметры!$C$5,\"\",A314+1)","v":""},{"$f":"IF(A315<>\"\",IF(Кэшфло!$B$1*(Параметры!$C$6/800*(1+Параметры!$C$6/800)^Параметры!$C$5)/((1+Параметры!$C$6/800)^Параметры!$C$5-1)<(Параметры!$C$3-Параметры!$C$3*Параметры!$C$4)/Параметры!$C$5,(Параметры!$C$3-Параметры!$C$3*Параметры!$C$4)/Параметры!$C$5, Кэшфло!$B$1*(Параметры!$C$6/800*(1+Параметры!$C$6/800)^Параметры!$C$5)/((1+Параметры!$C$6/800)^Параметры!$C$5-1)),\"\")","v":""}]
[{"$f":"IF(A315>=Параметры!$C$5,\"\",A315+1)","v":""},{"$f":"IF(A316<>\"\",IF(Кэшфло!$B$1*(Параметры!$C$6/800*(1+Параметры!$C$6/800)^Параметры!$C$5)/((1+Параметры!$C$6/800)^Параметры!$C$5-1)<(Параметры!$C$3-Параметры!$C$3*Параметры!$C$4)/Параметры!$C$5,(Параметры!$C$3-Параметры!$C$3*Параметры!$C$4)/Параметры!$C$5, Кэшфло!$B$1*(Параметры!$C$6/800*(1+Параметры!$C$6/800)^Параметры!$C$5)/((1+Параметры!$C$6/800)^Параметры!$C$5-1)),\"\")","v":""}]
[{"$f":"IF(A316>=Параметры!$C$5,\"\",A316+1)","v":""},{"$f":"IF(A317<>\"\",IF(Кэшфло!$B$1*(Параметры!$C$6/800*(1+Параметры!$C$6/800)^Параметры!$C$5)/((1+Параметры!$C$6/800)^Параметры!$C$5-1)<(Параметры!$C$3-Параметры!$C$3*Параметры!$C$4)/Параметры!$C$5,(Параметры!$C$3-Параметры!$C$3*Параметры!$C$4)/Параметры!$C$5, Кэшфло!$B$1*(Параметры!$C$6/800*(1+Параметры!$C$6/800)^Параметры!$C$5)/((1+Параметры!$C$6/800)^Параметры!$C$5-1)),\"\")","v":""}]
[{"$f":"IF(A317>=Параметры!$C$5,\"\",A317+1)","v":""},{"$f":"IF(A318<>\"\",IF(Кэшфло!$B$1*(Параметры!$C$6/800*(1+Параметры!$C$6/800)^Параметры!$C$5)/((1+Параметры!$C$6/800)^Параметры!$C$5-1)<(Параметры!$C$3-Параметры!$C$3*Параметры!$C$4)/Параметры!$C$5,(Параметры!$C$3-Параметры!$C$3*Параметры!$C$4)/Параметры!$C$5, Кэшфло!$B$1*(Параметры!$C$6/800*(1+Параметры!$C$6/800)^Параметры!$C$5)/((1+Параметры!$C$6/800)^Параметры!$C$5-1)),\"\")","v":""}]
[{"$f":"IF(A318>=Параметры!$C$5,\"\",A318+1)","v":""},{"$f":"IF(A319<>\"\",IF(Кэшфло!$B$1*(Параметры!$C$6/800*(1+Параметры!$C$6/800)^Параметры!$C$5)/((1+Параметры!$C$6/800)^Параметры!$C$5-1)<(Параметры!$C$3-Параметры!$C$3*Параметры!$C$4)/Параметры!$C$5,(Параметры!$C$3-Параметры!$C$3*Параметры!$C$4)/Параметры!$C$5, Кэшфло!$B$1*(Параметры!$C$6/800*(1+Параметры!$C$6/800)^Параметры!$C$5)/((1+Параметры!$C$6/800)^Параметры!$C$5-1)),\"\")","v":""}]
[{"$f":"IF(A319>=Параметры!$C$5,\"\",A319+1)","v":""},{"$f":"IF(A320<>\"\",IF(Кэшфло!$B$1*(Параметры!$C$6/800*(1+Параметры!$C$6/800)^Параметры!$C$5)/((1+Параметры!$C$6/800)^Параметры!$C$5-1)<(Параметры!$C$3-Параметры!$C$3*Параметры!$C$4)/Параметры!$C$5,(Параметры!$C$3-Параметры!$C$3*Параметры!$C$4)/Параметры!$C$5, Кэшфло!$B$1*(Параметры!$C$6/800*(1+Параметры!$C$6/800)^Параметры!$C$5)/((1+Параметры!$C$6/800)^Параметры!$C$5-1)),\"\")","v":""}]
[{"$f":"IF(A320>=Параметры!$C$5,\"\",A320+1)","v":""},{"$f":"IF(A321<>\"\",IF(Кэшфло!$B$1*(Параметры!$C$6/800*(1+Параметры!$C$6/800)^Параметры!$C$5)/((1+Параметры!$C$6/800)^Параметры!$C$5-1)<(Параметры!$C$3-Параметры!$C$3*Параметры!$C$4)/Параметры!$C$5,(Параметры!$C$3-Параметры!$C$3*Параметры!$C$4)/Параметры!$C$5, Кэшфло!$B$1*(Параметры!$C$6/800*(1+Параметры!$C$6/800)^Параметры!$C$5)/((1+Параметры!$C$6/800)^Параметры!$C$5-1)),\"\")","v":""}]
[{"$f":"IF(A321>=Параметры!$C$5,\"\",A321+1)","v":""},{"$f":"IF(A322<>\"\",IF(Кэшфло!$B$1*(Параметры!$C$6/800*(1+Параметры!$C$6/800)^Параметры!$C$5)/((1+Параметры!$C$6/800)^Параметры!$C$5-1)<(Параметры!$C$3-Параметры!$C$3*Параметры!$C$4)/Параметры!$C$5,(Параметры!$C$3-Параметры!$C$3*Параметры!$C$4)/Параметры!$C$5, Кэшфло!$B$1*(Параметры!$C$6/800*(1+Параметры!$C$6/800)^Параметры!$C$5)/((1+Параметры!$C$6/800)^Параметры!$C$5-1)),\"\")","v":""}]
[{"$f":"IF(A322>=Параметры!$C$5,\"\",A322+1)","v":""},{"$f":"IF(A323<>\"\",IF(Кэшфло!$B$1*(Параметры!$C$6/800*(1+Параметры!$C$6/800)^Параметры!$C$5)/((1+Параметры!$C$6/800)^Параметры!$C$5-1)<(Параметры!$C$3-Параметры!$C$3*Параметры!$C$4)/Параметры!$C$5,(Параметры!$C$3-Параметры!$C$3*Параметры!$C$4)/Параметры!$C$5, Кэшфло!$B$1*(Параметры!$C$6/800*(1+Параметры!$C$6/800)^Параметры!$C$5)/((1+Параметры!$C$6/800)^Параметры!$C$5-1)),\"\")","v":""}]
[{"$f":"IF(A323>=Параметры!$C$5,\"\",A323+1)","v":""},{"$f":"IF(A324<>\"\",IF(Кэшфло!$B$1*(Параметры!$C$6/800*(1+Параметры!$C$6/800)^Параметры!$C$5)/((1+Параметры!$C$6/800)^Параметры!$C$5-1)<(Параметры!$C$3-Параметры!$C$3*Параметры!$C$4)/Параметры!$C$5,(Параметры!$C$3-Параметры!$C$3*Параметры!$C$4)/Параметры!$C$5, Кэшфло!$B$1*(Параметры!$C$6/800*(1+Параметры!$C$6/800)^Параметры!$C$5)/((1+Параметры!$C$6/800)^Параметры!$C$5-1)),\"\")","v":""}]
[{"$f":"IF(A324>=Параметры!$C$5,\"\",A324+1)","v":""},{"$f":"IF(A325<>\"\",IF(Кэшфло!$B$1*(Параметры!$C$6/800*(1+Параметры!$C$6/800)^Параметры!$C$5)/((1+Параметры!$C$6/800)^Параметры!$C$5-1)<(Параметры!$C$3-Параметры!$C$3*Параметры!$C$4)/Параметры!$C$5,(Параметры!$C$3-Параметры!$C$3*Параметры!$C$4)/Параметры!$C$5, Кэшфло!$B$1*(Параметры!$C$6/800*(1+Параметры!$C$6/800)^Параметры!$C$5)/((1+Параметры!$C$6/800)^Параметры!$C$5-1)),\"\")","v":""}]
[{"$f":"IF(A325>=Параметры!$C$5,\"\",A325+1)","v":""},{"$f":"IF(A326<>\"\",IF(Кэшфло!$B$1*(Параметры!$C$6/800*(1+Параметры!$C$6/800)^Параметры!$C$5)/((1+Параметры!$C$6/800)^Параметры!$C$5-1)<(Параметры!$C$3-Параметры!$C$3*Параметры!$C$4)/Параметры!$C$5,(Параметры!$C$3-Параметры!$C$3*Параметры!$C$4)/Параметры!$C$5, Кэшфло!$B$1*(Параметры!$C$6/800*(1+Параметры!$C$6/800)^Параметры!$C$5)/((1+Параметры!$C$6/800)^Параметры!$C$5-1)),\"\")","v":""}]
[{"$f":"IF(A326>=Параметры!$C$5,\"\",A326+1)","v":""},{"$f":"IF(A327<>\"\",IF(Кэшфло!$B$1*(Параметры!$C$6/800*(1+Параметры!$C$6/800)^Параметры!$C$5)/((1+Параметры!$C$6/800)^Параметры!$C$5-1)<(Параметры!$C$3-Параметры!$C$3*Параметры!$C$4)/Параметры!$C$5,(Параметры!$C$3-Параметры!$C$3*Параметры!$C$4)/Параметры!$C$5, Кэшфло!$B$1*(Параметры!$C$6/800*(1+Параметры!$C$6/800)^Параметры!$C$5)/((1+Параметры!$C$6/800)^Параметры!$C$5-1)),\"\")","v":""}]
[{"$f":"IF(A327>=Параметры!$C$5,\"\",A327+1)","v":""},{"$f":"IF(A328<>\"\",IF(Кэшфло!$B$1*(Параметры!$C$6/800*(1+Параметры!$C$6/800)^Параметры!$C$5)/((1+Параметры!$C$6/800)^Параметры!$C$5-1)<(Параметры!$C$3-Параметры!$C$3*Параметры!$C$4)/Параметры!$C$5,(Параметры!$C$3-Параметры!$C$3*Параметры!$C$4)/Параметры!$C$5, Кэшфло!$B$1*(Параметры!$C$6/800*(1+Параметры!$C$6/800)^Параметры!$C$5)/((1+Параметры!$C$6/800)^Параметры!$C$5-1)),\"\")","v":""}]
[{"$f":"IF(A328>=Параметры!$C$5,\"\",A328+1)","v":""},{"$f":"IF(A329<>\"\",IF(Кэшфло!$B$1*(Параметры!$C$6/800*(1+Параметры!$C$6/800)^Параметры!$C$5)/((1+Параметры!$C$6/800)^Параметры!$C$5-1)<(Параметры!$C$3-Параметры!$C$3*Параметры!$C$4)/Параметры!$C$5,(Параметры!$C$3-Параметры!$C$3*Параметры!$C$4)/Параметры!$C$5, Кэшфло!$B$1*(Параметры!$C$6/800*(1+Параметры!$C$6/800)^Параметры!$C$5)/((1+Параметры!$C$6/800)^Параметры!$C$5-1)),\"\")","v":""}]
[{"$f":"IF(A329>=Параметры!$C$5,\"\",A329+1)","v":""},{"$f":"IF(A330<>\"\",IF(Кэшфло!$B$1*(Параметры!$C$6/800*(1+Параметры!$C$6/800)^Параметры!$C$5)/((1+Параметры!$C$6/800)^Параметры!$C$5-1)<(Параметры!$C$3-Параметры!$C$3*Параметры!$C$4)/Параметры!$C$5,(Параметры!$C$3-Параметры!$C$3*Параметры!$C$4)/Параметры!$C$5, Кэшфло!$B$1*(Параметры!$C$6/800*(1+Параметры!$C$6/800)^Параметры!$C$5)/((1+Параметры!$C$6/800)^Параметры!$C$5-1)),\"\")","v":""}]
[{"$f":"IF(A330>=Параметры!$C$5,\"\",A330+1)","v":""},{"$f":"IF(A331<>\"\",IF(Кэшфло!$B$1*(Параметры!$C$6/800*(1+Параметры!$C$6/800)^Параметры!$C$5)/((1+Параметры!$C$6/800)^Параметры!$C$5-1)<(Параметры!$C$3-Параметры!$C$3*Параметры!$C$4)/Параметры!$C$5,(Параметры!$C$3-Параметры!$C$3*Параметры!$C$4)/Параметры!$C$5, Кэшфло!$B$1*(Параметры!$C$6/800*(1+Параметры!$C$6/800)^Параметры!$C$5)/((1+Параметры!$C$6/800)^Параметры!$C$5-1)),\"\")","v":""}]
[{"$f":"IF(A331>=Параметры!$C$5,\"\",A331+1)","v":""},{"$f":"IF(A332<>\"\",IF(Кэшфло!$B$1*(Параметры!$C$6/800*(1+Параметры!$C$6/800)^Параметры!$C$5)/((1+Параметры!$C$6/800)^Параметры!$C$5-1)<(Параметры!$C$3-Параметры!$C$3*Параметры!$C$4)/Параметры!$C$5,(Параметры!$C$3-Параметры!$C$3*Параметры!$C$4)/Параметры!$C$5, Кэшфло!$B$1*(Параметры!$C$6/800*(1+Параметры!$C$6/800)^Параметры!$C$5)/((1+Параметры!$C$6/800)^Параметры!$C$5-1)),\"\")","v":""}]
[{"$f":"IF(A332>=Параметры!$C$5,\"\",A332+1)","v":""},{"$f":"IF(A333<>\"\",IF(Кэшфло!$B$1*(Параметры!$C$6/800*(1+Параметры!$C$6/800)^Параметры!$C$5)/((1+Параметры!$C$6/800)^Параметры!$C$5-1)<(Параметры!$C$3-Параметры!$C$3*Параметры!$C$4)/Параметры!$C$5,(Параметры!$C$3-Параметры!$C$3*Параметры!$C$4)/Параметры!$C$5, Кэшфло!$B$1*(Параметры!$C$6/800*(1+Параметры!$C$6/800)^Параметры!$C$5)/((1+Параметры!$C$6/800)^Параметры!$C$5-1)),\"\")","v":""}]
[{"$f":"IF(A333>=Параметры!$C$5,\"\",A333+1)","v":""},{"$f":"IF(A334<>\"\",IF(Кэшфло!$B$1*(Параметры!$C$6/800*(1+Параметры!$C$6/800)^Параметры!$C$5)/((1+Параметры!$C$6/800)^Параметры!$C$5-1)<(Параметры!$C$3-Параметры!$C$3*Параметры!$C$4)/Параметры!$C$5,(Параметры!$C$3-Параметры!$C$3*Параметры!$C$4)/Параметры!$C$5, Кэшфло!$B$1*(Параметры!$C$6/800*(1+Параметры!$C$6/800)^Параметры!$C$5)/((1+Параметры!$C$6/800)^Параметры!$C$5-1)),\"\")","v":""}]
[{"$f":"IF(A334>=Параметры!$C$5,\"\",A334+1)","v":""},{"$f":"IF(A335<>\"\",IF(Кэшфло!$B$1*(Параметры!$C$6/800*(1+Параметры!$C$6/800)^Параметры!$C$5)/((1+Параметры!$C$6/800)^Параметры!$C$5-1)<(Параметры!$C$3-Параметры!$C$3*Параметры!$C$4)/Параметры!$C$5,(Параметры!$C$3-Параметры!$C$3*Параметры!$C$4)/Параметры!$C$5, Кэшфло!$B$1*(Параметры!$C$6/800*(1+Параметры!$C$6/800)^Параметры!$C$5)/((1+Параметры!$C$6/800)^Параметры!$C$5-1)),\"\")","v":""}]
[{"$f":"IF(A335>=Параметры!$C$5,\"\",A335+1)","v":""},{"$f":"IF(A336<>\"\",IF(Кэшфло!$B$1*(Параметры!$C$6/800*(1+Параметры!$C$6/800)^Параметры!$C$5)/((1+Параметры!$C$6/800)^Параметры!$C$5-1)<(Параметры!$C$3-Параметры!$C$3*Параметры!$C$4)/Параметры!$C$5,(Параметры!$C$3-Параметры!$C$3*Параметры!$C$4)/Параметры!$C$5, Кэшфло!$B$1*(Параметры!$C$6/800*(1+Параметры!$C$6/800)^Параметры!$C$5)/((1+Параметры!$C$6/800)^Параметры!$C$5-1)),\"\")","v":""}]
[{"$f":"IF(A336>=Параметры!$C$5,\"\",A336+1)","v":""},{"$f":"IF(A337<>\"\",IF(Кэшфло!$B$1*(Параметры!$C$6/800*(1+Параметры!$C$6/800)^Параметры!$C$5)/((1+Параметры!$C$6/800)^Параметры!$C$5-1)<(Параметры!$C$3-Параметры!$C$3*Параметры!$C$4)/Параметры!$C$5,(Параметры!$C$3-Параметры!$C$3*Параметры!$C$4)/Параметры!$C$5, Кэшфло!$B$1*(Параметры!$C$6/800*(1+Параметры!$C$6/800)^Параметры!$C$5)/((1+Параметры!$C$6/800)^Параметры!$C$5-1)),\"\")","v":""}]
[{"$f":"IF(A337>=Параметры!$C$5,\"\",A337+1)","v":""},{"$f":"IF(A338<>\"\",IF(Кэшфло!$B$1*(Параметры!$C$6/800*(1+Параметры!$C$6/800)^Параметры!$C$5)/((1+Параметры!$C$6/800)^Параметры!$C$5-1)<(Параметры!$C$3-Параметры!$C$3*Параметры!$C$4)/Параметры!$C$5,(Параметры!$C$3-Параметры!$C$3*Параметры!$C$4)/Параметры!$C$5, Кэшфло!$B$1*(Параметры!$C$6/800*(1+Параметры!$C$6/800)^Параметры!$C$5)/((1+Параметры!$C$6/800)^Параметры!$C$5-1)),\"\")","v":""}]
[{"$f":"IF(A338>=Параметры!$C$5,\"\",A338+1)","v":""},{"$f":"IF(A339<>\"\",IF(Кэшфло!$B$1*(Параметры!$C$6/800*(1+Параметры!$C$6/800)^Параметры!$C$5)/((1+Параметры!$C$6/800)^Параметры!$C$5-1)<(Параметры!$C$3-Параметры!$C$3*Параметры!$C$4)/Параметры!$C$5,(Параметры!$C$3-Параметры!$C$3*Параметры!$C$4)/Параметры!$C$5, Кэшфло!$B$1*(Параметры!$C$6/800*(1+Параметры!$C$6/800)^Параметры!$C$5)/((1+Параметры!$C$6/800)^Параметры!$C$5-1)),\"\")","v":""}]
[{"$f":"IF(A339>=Параметры!$C$5,\"\",A339+1)","v":""},{"$f":"IF(A340<>\"\",IF(Кэшфло!$B$1*(Параметры!$C$6/800*(1+Параметры!$C$6/800)^Параметры!$C$5)/((1+Параметры!$C$6/800)^Параметры!$C$5-1)<(Параметры!$C$3-Параметры!$C$3*Параметры!$C$4)/Параметры!$C$5,(Параметры!$C$3-Параметры!$C$3*Параметры!$C$4)/Параметры!$C$5, Кэшфло!$B$1*(Параметры!$C$6/800*(1+Параметры!$C$6/800)^Параметры!$C$5)/((1+Параметры!$C$6/800)^Параметры!$C$5-1)),\"\")","v":""}]
[{"$f":"IF(A340>=Параметры!$C$5,\"\",A340+1)","v":""},{"$f":"IF(A341<>\"\",IF(Кэшфло!$B$1*(Параметры!$C$6/800*(1+Параметры!$C$6/800)^Параметры!$C$5)/((1+Параметры!$C$6/800)^Параметры!$C$5-1)<(Параметры!$C$3-Параметры!$C$3*Параметры!$C$4)/Параметры!$C$5,(Параметры!$C$3-Параметры!$C$3*Параметры!$C$4)/Параметры!$C$5, Кэшфло!$B$1*(Параметры!$C$6/800*(1+Параметры!$C$6/800)^Параметры!$C$5)/((1+Параметры!$C$6/800)^Параметры!$C$5-1)),\"\")","v":""}]
[{"$f":"IF(A341>=Параметры!$C$5,\"\",A341+1)","v":""},{"$f":"IF(A342<>\"\",IF(Кэшфло!$B$1*(Параметры!$C$6/800*(1+Параметры!$C$6/800)^Параметры!$C$5)/((1+Параметры!$C$6/800)^Параметры!$C$5-1)<(Параметры!$C$3-Параметры!$C$3*Параметры!$C$4)/Параметры!$C$5,(Параметры!$C$3-Параметры!$C$3*Параметры!$C$4)/Параметры!$C$5, Кэшфло!$B$1*(Параметры!$C$6/800*(1+Параметры!$C$6/800)^Параметры!$C$5)/((1+Параметры!$C$6/800)^Параметры!$C$5-1)),\"\")","v":""}]
[{"$f":"IF(A342>=Параметры!$C$5,\"\",A342+1)","v":""},{"$f":"IF(A343<>\"\",IF(Кэшфло!$B$1*(Параметры!$C$6/800*(1+Параметры!$C$6/800)^Параметры!$C$5)/((1+Параметры!$C$6/800)^Параметры!$C$5-1)<(Параметры!$C$3-Параметры!$C$3*Параметры!$C$4)/Параметры!$C$5,(Параметры!$C$3-Параметры!$C$3*Параметры!$C$4)/Параметры!$C$5, Кэшфло!$B$1*(Параметры!$C$6/800*(1+Параметры!$C$6/800)^Параметры!$C$5)/((1+Параметры!$C$6/800)^Параметры!$C$5-1)),\"\")","v":""}]
[{"$f":"IF(A343>=Параметры!$C$5,\"\",A343+1)","v":""},{"$f":"IF(A344<>\"\",IF(Кэшфло!$B$1*(Параметры!$C$6/800*(1+Параметры!$C$6/800)^Параметры!$C$5)/((1+Параметры!$C$6/800)^Параметры!$C$5-1)<(Параметры!$C$3-Параметры!$C$3*Параметры!$C$4)/Параметры!$C$5,(Параметры!$C$3-Параметры!$C$3*Параметры!$C$4)/Параметры!$C$5, Кэшфло!$B$1*(Параметры!$C$6/800*(1+Параметры!$C$6/800)^Параметры!$C$5)/((1+Параметры!$C$6/800)^Параметры!$C$5-1)),\"\")","v":""}]
[{"$f":"IF(A344>=Параметры!$C$5,\"\",A344+1)","v":""},{"$f":"IF(A345<>\"\",IF(Кэшфло!$B$1*(Параметры!$C$6/800*(1+Параметры!$C$6/800)^Параметры!$C$5)/((1+Параметры!$C$6/800)^Параметры!$C$5-1)<(Параметры!$C$3-Параметры!$C$3*Параметры!$C$4)/Параметры!$C$5,(Параметры!$C$3-Параметры!$C$3*Параметры!$C$4)/Параметры!$C$5, Кэшфло!$B$1*(Параметры!$C$6/800*(1+Параметры!$C$6/800)^Параметры!$C$5)/((1+Параметры!$C$6/800)^Параметры!$C$5-1)),\"\")","v":""}]
[{"$f":"IF(A345>=Параметры!$C$5,\"\",A345+1)","v":""},{"$f":"IF(A346<>\"\",IF(Кэшфло!$B$1*(Параметры!$C$6/800*(1+Параметры!$C$6/800)^Параметры!$C$5)/((1+Параметры!$C$6/800)^Параметры!$C$5-1)<(Параметры!$C$3-Параметры!$C$3*Параметры!$C$4)/Параметры!$C$5,(Параметры!$C$3-Параметры!$C$3*Параметры!$C$4)/Параметры!$C$5, Кэшфло!$B$1*(Параметры!$C$6/800*(1+Параметры!$C$6/800)^Параметры!$C$5)/((1+Параметры!$C$6/800)^Параметры!$C$5-1)),\"\")","v":""}]
[{"$f":"IF(A346>=Параметры!$C$5,\"\",A346+1)","v":""},{"$f":"IF(A347<>\"\",IF(Кэшфло!$B$1*(Параметры!$C$6/800*(1+Параметры!$C$6/800)^Параметры!$C$5)/((1+Параметры!$C$6/800)^Параметры!$C$5-1)<(Параметры!$C$3-Параметры!$C$3*Параметры!$C$4)/Параметры!$C$5,(Параметры!$C$3-Параметры!$C$3*Параметры!$C$4)/Параметры!$C$5, Кэшфло!$B$1*(Параметры!$C$6/800*(1+Параметры!$C$6/800)^Параметры!$C$5)/((1+Параметры!$C$6/800)^Параметры!$C$5-1)),\"\")","v":""}]
[{"$f":"IF(A347>=Параметры!$C$5,\"\",A347+1)","v":""},{"$f":"IF(A348<>\"\",IF(Кэшфло!$B$1*(Параметры!$C$6/800*(1+Параметры!$C$6/800)^Параметры!$C$5)/((1+Параметры!$C$6/800)^Параметры!$C$5-1)<(Параметры!$C$3-Параметры!$C$3*Параметры!$C$4)/Параметры!$C$5,(Параметры!$C$3-Параметры!$C$3*Параметры!$C$4)/Параметры!$C$5, Кэшфло!$B$1*(Параметры!$C$6/800*(1+Параметры!$C$6/800)^Параметры!$C$5)/((1+Параметры!$C$6/800)^Параметры!$C$5-1)),\"\")","v":""}]
[{"$f":"IF(A348>=Параметры!$C$5,\"\",A348+1)","v":""},{"$f":"IF(A349<>\"\",IF(Кэшфло!$B$1*(Параметры!$C$6/800*(1+Параметры!$C$6/800)^Параметры!$C$5)/((1+Параметры!$C$6/800)^Параметры!$C$5-1)<(Параметры!$C$3-Параметры!$C$3*Параметры!$C$4)/Параметры!$C$5,(Параметры!$C$3-Параметры!$C$3*Параметры!$C$4)/Параметры!$C$5, Кэшфло!$B$1*(Параметры!$C$6/800*(1+Параметры!$C$6/800)^Параметры!$C$5)/((1+Параметры!$C$6/800)^Параметры!$C$5-1)),\"\")","v":""}]
[{"$f":"IF(A349>=Параметры!$C$5,\"\",A349+1)","v":""},{"$f":"IF(A350<>\"\",IF(Кэшфло!$B$1*(Параметры!$C$6/800*(1+Параметры!$C$6/800)^Параметры!$C$5)/((1+Параметры!$C$6/800)^Параметры!$C$5-1)<(Параметры!$C$3-Параметры!$C$3*Параметры!$C$4)/Параметры!$C$5,(Параметры!$C$3-Параметры!$C$3*Параметры!$C$4)/Параметры!$C$5, Кэшфло!$B$1*(Параметры!$C$6/800*(1+Параметры!$C$6/800)^Параметры!$C$5)/((1+Параметры!$C$6/800)^Параметры!$C$5-1)),\"\")","v":""}]
[{"$f":"IF(A350>=Параметры!$C$5,\"\",A350+1)","v":""},{"$f":"IF(A351<>\"\",IF(Кэшфло!$B$1*(Параметры!$C$6/800*(1+Параметры!$C$6/800)^Параметры!$C$5)/((1+Параметры!$C$6/800)^Параметры!$C$5-1)<(Параметры!$C$3-Параметры!$C$3*Параметры!$C$4)/Параметры!$C$5,(Параметры!$C$3-Параметры!$C$3*Параметры!$C$4)/Параметры!$C$5, Кэшфло!$B$1*(Параметры!$C$6/800*(1+Параметры!$C$6/800)^Параметры!$C$5)/((1+Параметры!$C$6/800)^Параметры!$C$5-1)),\"\")","v":""}]
[{"$f":"IF(A351>=Параметры!$C$5,\"\",A351+1)","v":""},{"$f":"IF(A352<>\"\",IF(Кэшфло!$B$1*(Параметры!$C$6/800*(1+Параметры!$C$6/800)^Параметры!$C$5)/((1+Параметры!$C$6/800)^Параметры!$C$5-1)<(Параметры!$C$3-Параметры!$C$3*Параметры!$C$4)/Параметры!$C$5,(Параметры!$C$3-Параметры!$C$3*Параметры!$C$4)/Параметры!$C$5, Кэшфло!$B$1*(Параметры!$C$6/800*(1+Параметры!$C$6/800)^Параметры!$C$5)/((1+Параметры!$C$6/800)^Параметры!$C$5-1)),\"\")","v":""}]
[{"$f":"IF(A352>=Параметры!$C$5,\"\",A352+1)","v":""},{"$f":"IF(A353<>\"\",IF(Кэшфло!$B$1*(Параметры!$C$6/800*(1+Параметры!$C$6/800)^Параметры!$C$5)/((1+Параметры!$C$6/800)^Параметры!$C$5-1)<(Параметры!$C$3-Параметры!$C$3*Параметры!$C$4)/Параметры!$C$5,(Параметры!$C$3-Параметры!$C$3*Параметры!$C$4)/Параметры!$C$5, Кэшфло!$B$1*(Параметры!$C$6/800*(1+Параметры!$C$6/800)^Параметры!$C$5)/((1+Параметры!$C$6/800)^Параметры!$C$5-1)),\"\")","v":""}]
[{"$f":"IF(A353>=Параметры!$C$5,\"\",A353+1)","v":""},{"$f":"IF(A354<>\"\",IF(Кэшфло!$B$1*(Параметры!$C$6/800*(1+Параметры!$C$6/800)^Параметры!$C$5)/((1+Параметры!$C$6/800)^Параметры!$C$5-1)<(Параметры!$C$3-Параметры!$C$3*Параметры!$C$4)/Параметры!$C$5,(Параметры!$C$3-Параметры!$C$3*Параметры!$C$4)/Параметры!$C$5, Кэшфло!$B$1*(Параметры!$C$6/800*(1+Параметры!$C$6/800)^Параметры!$C$5)/((1+Параметры!$C$6/800)^Параметры!$C$5-1)),\"\")","v":""}]
[{"$f":"IF(A354>=Параметры!$C$5,\"\",A354+1)","v":""},{"$f":"IF(A355<>\"\",IF(Кэшфло!$B$1*(Параметры!$C$6/800*(1+Параметры!$C$6/800)^Параметры!$C$5)/((1+Параметры!$C$6/800)^Параметры!$C$5-1)<(Параметры!$C$3-Параметры!$C$3*Параметры!$C$4)/Параметры!$C$5,(Параметры!$C$3-Параметры!$C$3*Параметры!$C$4)/Параметры!$C$5, Кэшфло!$B$1*(Параметры!$C$6/800*(1+Параметры!$C$6/800)^Параметры!$C$5)/((1+Параметры!$C$6/800)^Параметры!$C$5-1)),\"\")","v":""}]
[{"$f":"IF(A355>=Параметры!$C$5,\"\",A355+1)","v":""},{"$f":"IF(A356<>\"\",IF(Кэшфло!$B$1*(Параметры!$C$6/800*(1+Параметры!$C$6/800)^Параметры!$C$5)/((1+Параметры!$C$6/800)^Параметры!$C$5-1)<(Параметры!$C$3-Параметры!$C$3*Параметры!$C$4)/Параметры!$C$5,(Параметры!$C$3-Параметры!$C$3*Параметры!$C$4)/Параметры!$C$5, Кэшфло!$B$1*(Параметры!$C$6/800*(1+Параметры!$C$6/800)^Параметры!$C$5)/((1+Параметры!$C$6/800)^Параметры!$C$5-1)),\"\")","v":""}]
[{"$f":"IF(A356>=Параметры!$C$5,\"\",A356+1)","v":""},{"$f":"IF(A357<>\"\",IF(Кэшфло!$B$1*(Параметры!$C$6/800*(1+Параметры!$C$6/800)^Параметры!$C$5)/((1+Параметры!$C$6/800)^Параметры!$C$5-1)<(Параметры!$C$3-Параметры!$C$3*Параметры!$C$4)/Параметры!$C$5,(Параметры!$C$3-Параметры!$C$3*Параметры!$C$4)/Параметры!$C$5, Кэшфло!$B$1*(Параметры!$C$6/800*(1+Параметры!$C$6/800)^Параметры!$C$5)/((1+Параметры!$C$6/800)^Параметры!$C$5-1)),\"\")","v":""}]
[{"$f":"IF(A357>=Параметры!$C$5,\"\",A357+1)","v":""},{"$f":"IF(A358<>\"\",IF(Кэшфло!$B$1*(Параметры!$C$6/800*(1+Параметры!$C$6/800)^Параметры!$C$5)/((1+Параметры!$C$6/800)^Параметры!$C$5-1)<(Параметры!$C$3-Параметры!$C$3*Параметры!$C$4)/Параметры!$C$5,(Параметры!$C$3-Параметры!$C$3*Параметры!$C$4)/Параметры!$C$5, Кэшфло!$B$1*(Параметры!$C$6/800*(1+Параметры!$C$6/800)^Параметры!$C$5)/((1+Параметры!$C$6/800)^Параметры!$C$5-1)),\"\")","v":""}]
[{"$f":"IF(A358>=Параметры!$C$5,\"\",A358+1)","v":""},{"$f":"IF(A359<>\"\",IF(Кэшфло!$B$1*(Параметры!$C$6/800*(1+Параметры!$C$6/800)^Параметры!$C$5)/((1+Параметры!$C$6/800)^Параметры!$C$5-1)<(Параметры!$C$3-Параметры!$C$3*Параметры!$C$4)/Параметры!$C$5,(Параметры!$C$3-Параметры!$C$3*Параметры!$C$4)/Параметры!$C$5, Кэшфло!$B$1*(Параметры!$C$6/800*(1+Параметры!$C$6/800)^Параметры!$C$5)/((1+Параметры!$C$6/800)^Параметры!$C$5-1)),\"\")","v":""}]
[{"$f":"IF(A359>=Параметры!$C$5,\"\",A359+1)","v":""},{"$f":"IF(A360<>\"\",IF(Кэшфло!$B$1*(Параметры!$C$6/800*(1+Параметры!$C$6/800)^Параметры!$C$5)/((1+Параметры!$C$6/800)^Параметры!$C$5-1)<(Параметры!$C$3-Параметры!$C$3*Параметры!$C$4)/Параметры!$C$5,(Параметры!$C$3-Параметры!$C$3*Параметры!$C$4)/Параметры!$C$5, Кэшфло!$B$1*(Параметры!$C$6/800*(1+Параметры!$C$6/800)^Параметры!$C$5)/((1+Параметры!$C$6/800)^Параметры!$C$5-1)),\"\")","v":""}]
[{"$f":"IF(A360>=Параметры!$C$5,\"\",A360+1)","v":""},{"$f":"IF(A361<>\"\",IF(Кэшфло!$B$1*(Параметры!$C$6/800*(1+Параметры!$C$6/800)^Параметры!$C$5)/((1+Параметры!$C$6/800)^Параметры!$C$5-1)<(Параметры!$C$3-Параметры!$C$3*Параметры!$C$4)/Параметры!$C$5,(Параметры!$C$3-Параметры!$C$3*Параметры!$C$4)/Параметры!$C$5, Кэшфло!$B$1*(Параметры!$C$6/800*(1+Параметры!$C$6/800)^Параметры!$C$5)/((1+Параметры!$C$6/800)^Параметры!$C$5-1)),\"\")","v":""}]
[{"$f":"IF(A361>=Параметры!$C$5,\"\",A361+1)","v":""},{"$f":"IF(A362<>\"\",IF(Кэшфло!$B$1*(Параметры!$C$6/800*(1+Параметры!$C$6/800)^Параметры!$C$5)/((1+Параметры!$C$6/800)^Параметры!$C$5-1)<(Параметры!$C$3-Параметры!$C$3*Параметры!$C$4)/Параметры!$C$5,(Параметры!$C$3-Параметры!$C$3*Параметры!$C$4)/Параметры!$C$5, Кэшфло!$B$1*(Параметры!$C$6/800*(1+Параметры!$C$6/800)^Параметры!$C$5)/((1+Параметры!$C$6/800)^Параметры!$C$5-1)),\"\")","v":""}]
[{"$f":"IF(A362>=Параметры!$C$5,\"\",A362+1)","v":""},{"$f":"IF(A363<>\"\",IF(Кэшфло!$B$1*(Параметры!$C$6/800*(1+Параметры!$C$6/800)^Параметры!$C$5)/((1+Параметры!$C$6/800)^Параметры!$C$5-1)<(Параметры!$C$3-Параметры!$C$3*Параметры!$C$4)/Параметры!$C$5,(Параметры!$C$3-Параметры!$C$3*Параметры!$C$4)/Параметры!$C$5, Кэшфло!$B$1*(Параметры!$C$6/800*(1+Параметры!$C$6/800)^Параметры!$C$5)/((1+Параметры!$C$6/800)^Параметры!$C$5-1)),\"\")","v":""}]
[{"$f":"IF(A363>=Параметры!$C$5,\"\",A363+1)","v":""},{"$f":"IF(A364<>\"\",IF(Кэшфло!$B$1*(Параметры!$C$6/800*(1+Параметры!$C$6/800)^Параметры!$C$5)/((1+Параметры!$C$6/800)^Параметры!$C$5-1)<(Параметры!$C$3-Параметры!$C$3*Параметры!$C$4)/Параметры!$C$5,(Параметры!$C$3-Параметры!$C$3*Параметры!$C$4)/Параметры!$C$5, Кэшфло!$B$1*(Параметры!$C$6/800*(1+Параметры!$C$6/800)^Параметры!$C$5)/((1+Параметры!$C$6/800)^Параметры!$C$5-1)),\"\")","v":""}]
[{"$f":"IF(A364>=Параметры!$C$5,\"\",A364+1)","v":""},{"$f":"IF(A365<>\"\",IF(Кэшфло!$B$1*(Параметры!$C$6/800*(1+Параметры!$C$6/800)^Параметры!$C$5)/((1+Параметры!$C$6/800)^Параметры!$C$5-1)<(Параметры!$C$3-Параметры!$C$3*Параметры!$C$4)/Параметры!$C$5,(Параметры!$C$3-Параметры!$C$3*Параметры!$C$4)/Параметры!$C$5, Кэшфло!$B$1*(Параметры!$C$6/800*(1+Параметры!$C$6/800)^Параметры!$C$5)/((1+Параметры!$C$6/800)^Параметры!$C$5-1)),\"\")","v":""}]
[{"$f":"IF(A365>=Параметры!$C$5,\"\",A365+1)","v":""},{"$f":"IF(A366<>\"\",IF(Кэшфло!$B$1*(Параметры!$C$6/800*(1+Параметры!$C$6/800)^Параметры!$C$5)/((1+Параметры!$C$6/800)^Параметры!$C$5-1)<(Параметры!$C$3-Параметры!$C$3*Параметры!$C$4)/Параметры!$C$5,(Параметры!$C$3-Параметры!$C$3*Параметры!$C$4)/Параметры!$C$5, Кэшфло!$B$1*(Параметры!$C$6/800*(1+Параметры!$C$6/800)^Параметры!$C$5)/((1+Параметры!$C$6/800)^Параметры!$C$5-1)),\"\")","v":""}]
[{"$f":"IF(A366>=Параметры!$C$5,\"\",A366+1)","v":""},{"$f":"IF(A367<>\"\",IF(Кэшфло!$B$1*(Параметры!$C$6/800*(1+Параметры!$C$6/800)^Параметры!$C$5)/((1+Параметры!$C$6/800)^Параметры!$C$5-1)<(Параметры!$C$3-Параметры!$C$3*Параметры!$C$4)/Параметры!$C$5,(Параметры!$C$3-Параметры!$C$3*Параметры!$C$4)/Параметры!$C$5, Кэшфло!$B$1*(Параметры!$C$6/800*(1+Параметры!$C$6/800)^Параметры!$C$5)/((1+Параметры!$C$6/800)^Параметры!$C$5-1)),\"\")","v":""}]
[{"$f":"IF(A367>=Параметры!$C$5,\"\",A367+1)","v":""},{"$f":"IF(A368<>\"\",IF(Кэшфло!$B$1*(Параметры!$C$6/800*(1+Параметры!$C$6/800)^Параметры!$C$5)/((1+Параметры!$C$6/800)^Параметры!$C$5-1)<(Параметры!$C$3-Параметры!$C$3*Параметры!$C$4)/Параметры!$C$5,(Параметры!$C$3-Параметры!$C$3*Параметры!$C$4)/Параметры!$C$5, Кэшфло!$B$1*(Параметры!$C$6/800*(1+Параметры!$C$6/800)^Параметры!$C$5)/((1+Параметры!$C$6/800)^Параметры!$C$5-1)),\"\")","v":""}]
[{"$f":"IF(A368>=Параметры!$C$5,\"\",A368+1)","v":""},{"$f":"IF(A369<>\"\",IF(Кэшфло!$B$1*(Параметры!$C$6/800*(1+Параметры!$C$6/800)^Параметры!$C$5)/((1+Параметры!$C$6/800)^Параметры!$C$5-1)<(Параметры!$C$3-Параметры!$C$3*Параметры!$C$4)/Параметры!$C$5,(Параметры!$C$3-Параметры!$C$3*Параметры!$C$4)/Параметры!$C$5, Кэшфло!$B$1*(Параметры!$C$6/800*(1+Параметры!$C$6/800)^Параметры!$C$5)/((1+Параметры!$C$6/800)^Параметры!$C$5-1)),\"\")","v":""}]
[{"$f":"IF(A369>=Параметры!$C$5,\"\",A369+1)","v":""},{"$f":"IF(A370<>\"\",IF(Кэшфло!$B$1*(Параметры!$C$6/800*(1+Параметры!$C$6/800)^Параметры!$C$5)/((1+Параметры!$C$6/800)^Параметры!$C$5-1)<(Параметры!$C$3-Параметры!$C$3*Параметры!$C$4)/Параметры!$C$5,(Параметры!$C$3-Параметры!$C$3*Параметры!$C$4)/Параметры!$C$5, Кэшфло!$B$1*(Параметры!$C$6/800*(1+Параметры!$C$6/800)^Параметры!$C$5)/((1+Параметры!$C$6/800)^Параметры!$C$5-1)),\"\")","v":""}]
[{"$f":"IF(A370>=Параметры!$C$5,\"\",A370+1)","v":""},{"$f":"IF(A371<>\"\",IF(Кэшфло!$B$1*(Параметры!$C$6/800*(1+Параметры!$C$6/800)^Параметры!$C$5)/((1+Параметры!$C$6/800)^Параметры!$C$5-1)<(Параметры!$C$3-Параметры!$C$3*Параметры!$C$4)/Параметры!$C$5,(Параметры!$C$3-Параметры!$C$3*Параметры!$C$4)/Параметры!$C$5, Кэшфло!$B$1*(Параметры!$C$6/800*(1+Параметры!$C$6/800)^Параметры!$C$5)/((1+Параметры!$C$6/800)^Параметры!$C$5-1)),\"\")","v":""}]
[{"$f":"IF(A371>=Параметры!$C$5,\"\",A371+1)","v":""},{"$f":"IF(A372<>\"\",IF(Кэшфло!$B$1*(Параметры!$C$6/800*(1+Параметры!$C$6/800)^Параметры!$C$5)/((1+Параметры!$C$6/800)^Параметры!$C$5-1)<(Параметры!$C$3-Параметры!$C$3*Параметры!$C$4)/Параметры!$C$5,(Параметры!$C$3-Параметры!$C$3*Параметры!$C$4)/Параметры!$C$5, Кэшфло!$B$1*(Параметры!$C$6/800*(1+Параметры!$C$6/800)^Параметры!$C$5)/((1+Параметры!$C$6/800)^Параметры!$C$5-1)),\"\")","v":""}]
[{"$f":"IF(A372>=Параметры!$C$5,\"\",A372+1)","v":""},{"$f":"IF(A373<>\"\",IF(Кэшфло!$B$1*(Параметры!$C$6/800*(1+Параметры!$C$6/800)^Параметры!$C$5)/((1+Параметры!$C$6/800)^Параметры!$C$5-1)<(Параметры!$C$3-Параметры!$C$3*Параметры!$C$4)/Параметры!$C$5,(Параметры!$C$3-Параметры!$C$3*Параметры!$C$4)/Параметры!$C$5, Кэшфло!$B$1*(Параметры!$C$6/800*(1+Параметры!$C$6/800)^Параметры!$C$5)/((1+Параметры!$C$6/800)^Параметры!$C$5-1)),\"\")","v":""}]
[{"$f":"IF(A373>=Параметры!$C$5,\"\",A373+1)","v":""},{"$f":"IF(A374<>\"\",IF(Кэшфло!$B$1*(Параметры!$C$6/800*(1+Параметры!$C$6/800)^Параметры!$C$5)/((1+Параметры!$C$6/800)^Параметры!$C$5-1)<(Параметры!$C$3-Параметры!$C$3*Параметры!$C$4)/Параметры!$C$5,(Параметры!$C$3-Параметры!$C$3*Параметры!$C$4)/Параметры!$C$5, Кэшфло!$B$1*(Параметры!$C$6/800*(1+Параметры!$C$6/800)^Параметры!$C$5)/((1+Параметры!$C$6/800)^Параметры!$C$5-1)),\"\")","v":""}]
[{"$f":"IF(A374>=Параметры!$C$5,\"\",A374+1)","v":""},{"$f":"IF(A375<>\"\",IF(Кэшфло!$B$1*(Параметры!$C$6/800*(1+Параметры!$C$6/800)^Параметры!$C$5)/((1+Параметры!$C$6/800)^Параметры!$C$5-1)<(Параметры!$C$3-Параметры!$C$3*Параметры!$C$4)/Параметры!$C$5,(Параметры!$C$3-Параметры!$C$3*Параметры!$C$4)/Параметры!$C$5, Кэшфло!$B$1*(Параметры!$C$6/800*(1+Параметры!$C$6/800)^Параметры!$C$5)/((1+Параметры!$C$6/800)^Параметры!$C$5-1)),\"\")","v":""}]
[{"$f":"IF(A375>=Параметры!$C$5,\"\",A375+1)","v":""},{"$f":"IF(A376<>\"\",IF(Кэшфло!$B$1*(Параметры!$C$6/800*(1+Параметры!$C$6/800)^Параметры!$C$5)/((1+Параметры!$C$6/800)^Параметры!$C$5-1)<(Параметры!$C$3-Параметры!$C$3*Параметры!$C$4)/Параметры!$C$5,(Параметры!$C$3-Параметры!$C$3*Параметры!$C$4)/Параметры!$C$5, Кэшфло!$B$1*(Параметры!$C$6/800*(1+Параметры!$C$6/800)^Параметры!$C$5)/((1+Параметры!$C$6/800)^Параметры!$C$5-1)),\"\")","v":""}]
[{"$f":"IF(A376>=Параметры!$C$5,\"\",A376+1)","v":""},{"$f":"IF(A377<>\"\",IF(Кэшфло!$B$1*(Параметры!$C$6/800*(1+Параметры!$C$6/800)^Параметры!$C$5)/((1+Параметры!$C$6/800)^Параметры!$C$5-1)<(Параметры!$C$3-Параметры!$C$3*Параметры!$C$4)/Параметры!$C$5,(Параметры!$C$3-Параметры!$C$3*Параметры!$C$4)/Параметры!$C$5, Кэшфло!$B$1*(Параметры!$C$6/800*(1+Параметры!$C$6/800)^Параметры!$C$5)/((1+Параметры!$C$6/800)^Параметры!$C$5-1)),\"\")","v":""}]
[{"$f":"IF(A377>=Параметры!$C$5,\"\",A377+1)","v":""},{"$f":"IF(A378<>\"\",IF(Кэшфло!$B$1*(Параметры!$C$6/800*(1+Параметры!$C$6/800)^Параметры!$C$5)/((1+Параметры!$C$6/800)^Параметры!$C$5-1)<(Параметры!$C$3-Параметры!$C$3*Параметры!$C$4)/Параметры!$C$5,(Параметры!$C$3-Параметры!$C$3*Параметры!$C$4)/Параметры!$C$5, Кэшфло!$B$1*(Параметры!$C$6/800*(1+Параметры!$C$6/800)^Параметры!$C$5)/((1+Параметры!$C$6/800)^Параметры!$C$5-1)),\"\")","v":""}]
[{"$f":"IF(A378>=Параметры!$C$5,\"\",A378+1)","v":""},{"$f":"IF(A379<>\"\",IF(Кэшфло!$B$1*(Параметры!$C$6/800*(1+Параметры!$C$6/800)^Параметры!$C$5)/((1+Параметры!$C$6/800)^Параметры!$C$5-1)<(Параметры!$C$3-Параметры!$C$3*Параметры!$C$4)/Параметры!$C$5,(Параметры!$C$3-Параметры!$C$3*Параметры!$C$4)/Параметры!$C$5, Кэшфло!$B$1*(Параметры!$C$6/800*(1+Параметры!$C$6/800)^Параметры!$C$5)/((1+Параметры!$C$6/800)^Параметры!$C$5-1)),\"\")","v":""}]
[{"$f":"IF(A379>=Параметры!$C$5,\"\",A379+1)","v":""},{"$f":"IF(A380<>\"\",IF(Кэшфло!$B$1*(Параметры!$C$6/800*(1+Параметры!$C$6/800)^Параметры!$C$5)/((1+Параметры!$C$6/800)^Параметры!$C$5-1)<(Параметры!$C$3-Параметры!$C$3*Параметры!$C$4)/Параметры!$C$5,(Параметры!$C$3-Параметры!$C$3*Параметры!$C$4)/Параметры!$C$5, Кэшфло!$B$1*(Параметры!$C$6/800*(1+Параметры!$C$6/800)^Параметры!$C$5)/((1+Параметры!$C$6/800)^Параметры!$C$5-1)),\"\")","v":""}]
[{"$f":"IF(A380>=Параметры!$C$5,\"\",A380+1)","v":""},{"$f":"IF(A381<>\"\",IF(Кэшфло!$B$1*(Параметры!$C$6/800*(1+Параметры!$C$6/800)^Параметры!$C$5)/((1+Параметры!$C$6/800)^Параметры!$C$5-1)<(Параметры!$C$3-Параметры!$C$3*Параметры!$C$4)/Параметры!$C$5,(Параметры!$C$3-Параметры!$C$3*Параметры!$C$4)/Параметры!$C$5, Кэшфло!$B$1*(Параметры!$C$6/800*(1+Параметры!$C$6/800)^Параметры!$C$5)/((1+Параметры!$C$6/800)^Параметры!$C$5-1)),\"\")","v":""}]
[{"$f":"IF(A381>=Параметры!$C$5,\"\",A381+1)","v":""},{"$f":"IF(A382<>\"\",IF(Кэшфло!$B$1*(Параметры!$C$6/800*(1+Параметры!$C$6/800)^Параметры!$C$5)/((1+Параметры!$C$6/800)^Параметры!$C$5-1)<(Параметры!$C$3-Параметры!$C$3*Параметры!$C$4)/Параметры!$C$5,(Параметры!$C$3-Параметры!$C$3*Параметры!$C$4)/Параметры!$C$5, Кэшфло!$B$1*(Параметры!$C$6/800*(1+Параметры!$C$6/800)^Параметры!$C$5)/((1+Параметры!$C$6/800)^Параметры!$C$5-1)),\"\")","v":""}]
[{"$f":"IF(A382>=Параметры!$C$5,\"\",A382+1)","v":""},{"$f":"IF(A383<>\"\",IF(Кэшфло!$B$1*(Параметры!$C$6/800*(1+Параметры!$C$6/800)^Параметры!$C$5)/((1+Параметры!$C$6/800)^Параметры!$C$5-1)<(Параметры!$C$3-Параметры!$C$3*Параметры!$C$4)/Параметры!$C$5,(Параметры!$C$3-Параметры!$C$3*Параметры!$C$4)/Параметры!$C$5, Кэшфло!$B$1*(Параметры!$C$6/800*(1+Параметры!$C$6/800)^Параметры!$C$5)/((1+Параметры!$C$6/800)^Параметры!$C$5-1)),\"\")","v":""}]
[{"$f":"IF(A383>=Параметры!$C$5,\"\",A383+1)","v":""},{"$f":"IF(A384<>\"\",IF(Кэшфло!$B$1*(Параметры!$C$6/800*(1+Параметры!$C$6/800)^Параметры!$C$5)/((1+Параметры!$C$6/800)^Параметры!$C$5-1)<(Параметры!$C$3-Параметры!$C$3*Параметры!$C$4)/Параметры!$C$5,(Параметры!$C$3-Параметры!$C$3*Параметры!$C$4)/Параметры!$C$5, Кэшфло!$B$1*(Параметры!$C$6/800*(1+Параметры!$C$6/800)^Параметры!$C$5)/((1+Параметры!$C$6/800)^Параметры!$C$5-1)),\"\")","v":""}]
[{"$f":"IF(A384>=Параметры!$C$5,\"\",A384+1)","v":""},{"$f":"IF(A385<>\"\",IF(Кэшфло!$B$1*(Параметры!$C$6/800*(1+Параметры!$C$6/800)^Параметры!$C$5)/((1+Параметры!$C$6/800)^Параметры!$C$5-1)<(Параметры!$C$3-Параметры!$C$3*Параметры!$C$4)/Параметры!$C$5,(Параметры!$C$3-Параметры!$C$3*Параметры!$C$4)/Параметры!$C$5, Кэшфло!$B$1*(Параметры!$C$6/800*(1+Параметры!$C$6/800)^Параметры!$C$5)/((1+Параметры!$C$6/800)^Параметры!$C$5-1)),\"\")","v":""}]
[{"$f":"IF(A385>=Параметры!$C$5,\"\",A385+1)","v":""},{"$f":"IF(A386<>\"\",IF(Кэшфло!$B$1*(Параметры!$C$6/800*(1+Параметры!$C$6/800)^Параметры!$C$5)/((1+Параметры!$C$6/800)^Параметры!$C$5-1)<(Параметры!$C$3-Параметры!$C$3*Параметры!$C$4)/Параметры!$C$5,(Параметры!$C$3-Параметры!$C$3*Параметры!$C$4)/Параметры!$C$5, Кэшфло!$B$1*(Параметры!$C$6/800*(1+Параметры!$C$6/800)^Параметры!$C$5)/((1+Параметры!$C$6/800)^Параметры!$C$5-1)),\"\")","v":""}]
[{"$f":"IF(A386>=Параметры!$C$5,\"\",A386+1)","v":""},{"$f":"IF(A387<>\"\",IF(Кэшфло!$B$1*(Параметры!$C$6/800*(1+Параметры!$C$6/800)^Параметры!$C$5)/((1+Параметры!$C$6/800)^Параметры!$C$5-1)<(Параметры!$C$3-Параметры!$C$3*Параметры!$C$4)/Параметры!$C$5,(Параметры!$C$3-Параметры!$C$3*Параметры!$C$4)/Параметры!$C$5, Кэшфло!$B$1*(Параметры!$C$6/800*(1+Параметры!$C$6/800)^Параметры!$C$5)/((1+Параметры!$C$6/800)^Параметры!$C$5-1)),\"\")","v":""}]
[{"$f":"IF(A387>=Параметры!$C$5,\"\",A387+1)","v":""},{"$f":"IF(A388<>\"\",IF(Кэшфло!$B$1*(Параметры!$C$6/800*(1+Параметры!$C$6/800)^Параметры!$C$5)/((1+Параметры!$C$6/800)^Параметры!$C$5-1)<(Параметры!$C$3-Параметры!$C$3*Параметры!$C$4)/Параметры!$C$5,(Параметры!$C$3-Параметры!$C$3*Параметры!$C$4)/Параметры!$C$5, Кэшфло!$B$1*(Параметры!$C$6/800*(1+Параметры!$C$6/800)^Параметры!$C$5)/((1+Параметры!$C$6/800)^Параметры!$C$5-1)),\"\")","v":""}]
[{"$f":"IF(A388>=Параметры!$C$5,\"\",A388+1)","v":""},{"$f":"IF(A389<>\"\",IF(Кэшфло!$B$1*(Параметры!$C$6/800*(1+Параметры!$C$6/800)^Параметры!$C$5)/((1+Параметры!$C$6/800)^Параметры!$C$5-1)<(Параметры!$C$3-Параметры!$C$3*Параметры!$C$4)/Параметры!$C$5,(Параметры!$C$3-Параметры!$C$3*Параметры!$C$4)/Параметры!$C$5, Кэшфло!$B$1*(Параметры!$C$6/800*(1+Параметры!$C$6/800)^Параметры!$C$5)/((1+Параметры!$C$6/800)^Параметры!$C$5-1)),\"\")","v":""}]
[{"$f":"IF(A389>=Параметры!$C$5,\"\",A389+1)","v":""},{"$f":"IF(A390<>\"\",IF(Кэшфло!$B$1*(Параметры!$C$6/800*(1+Параметры!$C$6/800)^Параметры!$C$5)/((1+Параметры!$C$6/800)^Параметры!$C$5-1)<(Параметры!$C$3-Параметры!$C$3*Параметры!$C$4)/Параметры!$C$5,(Параметры!$C$3-Параметры!$C$3*Параметры!$C$4)/Параметры!$C$5, Кэшфло!$B$1*(Параметры!$C$6/800*(1+Параметры!$C$6/800)^Параметры!$C$5)/((1+Параметры!$C$6/800)^Параметры!$C$5-1)),\"\")","v":""}]
[{"$f":"IF(A390>=Параметры!$C$5,\"\",A390+1)","v":""},{"$f":"IF(A391<>\"\",IF(Кэшфло!$B$1*(Параметры!$C$6/800*(1+Параметры!$C$6/800)^Параметры!$C$5)/((1+Параметры!$C$6/800)^Параметры!$C$5-1)<(Параметры!$C$3-Параметры!$C$3*Параметры!$C$4)/Параметры!$C$5,(Параметры!$C$3-Параметры!$C$3*Параметры!$C$4)/Параметры!$C$5, Кэшфло!$B$1*(Параметры!$C$6/800*(1+Параметры!$C$6/800)^Параметры!$C$5)/((1+Параметры!$C$6/800)^Параметры!$C$5-1)),\"\")","v":""}]
[{"$f":"IF(A391>=Параметры!$C$5,\"\",A391+1)","v":""},{"$f":"IF(A392<>\"\",IF(Кэшфло!$B$1*(Параметры!$C$6/800*(1+Параметры!$C$6/800)^Параметры!$C$5)/((1+Параметры!$C$6/800)^Параметры!$C$5-1)<(Параметры!$C$3-Параметры!$C$3*Параметры!$C$4)/Параметры!$C$5,(Параметры!$C$3-Параметры!$C$3*Параметры!$C$4)/Параметры!$C$5, Кэшфло!$B$1*(Параметры!$C$6/800*(1+Параметры!$C$6/800)^Параметры!$C$5)/((1+Параметры!$C$6/800)^Параметры!$C$5-1)),\"\")","v":""}]
[{"$f":"IF(A392>=Параметры!$C$5,\"\",A392+1)","v":""},{"$f":"IF(A393<>\"\",IF(Кэшфло!$B$1*(Параметры!$C$6/800*(1+Параметры!$C$6/800)^Параметры!$C$5)/((1+Параметры!$C$6/800)^Параметры!$C$5-1)<(Параметры!$C$3-Параметры!$C$3*Параметры!$C$4)/Параметры!$C$5,(Параметры!$C$3-Параметры!$C$3*Параметры!$C$4)/Параметры!$C$5, Кэшфло!$B$1*(Параметры!$C$6/800*(1+Параметры!$C$6/800)^Параметры!$C$5)/((1+Параметры!$C$6/800)^Параметры!$C$5-1)),\"\")","v":""}]
[{"$f":"IF(A393>=Параметры!$C$5,\"\",A393+1)","v":""},{"$f":"IF(A394<>\"\",IF(Кэшфло!$B$1*(Параметры!$C$6/800*(1+Параметры!$C$6/800)^Параметры!$C$5)/((1+Параметры!$C$6/800)^Параметры!$C$5-1)<(Параметры!$C$3-Параметры!$C$3*Параметры!$C$4)/Параметры!$C$5,(Параметры!$C$3-Параметры!$C$3*Параметры!$C$4)/Параметры!$C$5, Кэшфло!$B$1*(Параметры!$C$6/800*(1+Параметры!$C$6/800)^Параметры!$C$5)/((1+Параметры!$C$6/800)^Параметры!$C$5-1)),\"\")","v":""}]
[{"$f":"IF(A394>=Параметры!$C$5,\"\",A394+1)","v":""},{"$f":"IF(A395<>\"\",IF(Кэшфло!$B$1*(Параметры!$C$6/800*(1+Параметры!$C$6/800)^Параметры!$C$5)/((1+Параметры!$C$6/800)^Параметры!$C$5-1)<(Параметры!$C$3-Параметры!$C$3*Параметры!$C$4)/Параметры!$C$5,(Параметры!$C$3-Параметры!$C$3*Параметры!$C$4)/Параметры!$C$5, Кэшфло!$B$1*(Параметры!$C$6/800*(1+Параметры!$C$6/800)^Параметры!$C$5)/((1+Параметры!$C$6/800)^Параметры!$C$5-1)),\"\")","v":""}]
[{"$f":"IF(A395>=Параметры!$C$5,\"\",A395+1)","v":""},{"$f":"IF(A396<>\"\",IF(Кэшфло!$B$1*(Параметры!$C$6/800*(1+Параметры!$C$6/800)^Параметры!$C$5)/((1+Параметры!$C$6/800)^Параметры!$C$5-1)<(Параметры!$C$3-Параметры!$C$3*Параметры!$C$4)/Параметры!$C$5,(Параметры!$C$3-Параметры!$C$3*Параметры!$C$4)/Параметры!$C$5, Кэшфло!$B$1*(Параметры!$C$6/800*(1+Параметры!$C$6/800)^Параметры!$C$5)/((1+Параметры!$C$6/800)^Параметры!$C$5-1)),\"\")","v":""}]
[{"$f":"IF(A396>=Параметры!$C$5,\"\",A396+1)","v":""},{"$f":"IF(A397<>\"\",IF(Кэшфло!$B$1*(Параметры!$C$6/800*(1+Параметры!$C$6/800)^Параметры!$C$5)/((1+Параметры!$C$6/800)^Параметры!$C$5-1)<(Параметры!$C$3-Параметры!$C$3*Параметры!$C$4)/Параметры!$C$5,(Параметры!$C$3-Параметры!$C$3*Параметры!$C$4)/Параметры!$C$5, Кэшфло!$B$1*(Параметры!$C$6/800*(1+Параметры!$C$6/800)^Параметры!$C$5)/((1+Параметры!$C$6/800)^Параметры!$C$5-1)),\"\")","v":""}]
[{"$f":"IF(A397>=Параметры!$C$5,\"\",A397+1)","v":""},{"$f":"IF(A398<>\"\",IF(Кэшфло!$B$1*(Параметры!$C$6/800*(1+Параметры!$C$6/800)^Параметры!$C$5)/((1+Параметры!$C$6/800)^Параметры!$C$5-1)<(Параметры!$C$3-Параметры!$C$3*Параметры!$C$4)/Параметры!$C$5,(Параметры!$C$3-Параметры!$C$3*Параметры!$C$4)/Параметры!$C$5, Кэшфло!$B$1*(Параметры!$C$6/800*(1+Параметры!$C$6/800)^Параметры!$C$5)/((1+Параметры!$C$6/800)^Параметры!$C$5-1)),\"\")","v":""}]
[{"$f":"IF(A398>=Параметры!$C$5,\"\",A398+1)","v":""},{"$f":"IF(A399<>\"\",IF(Кэшфло!$B$1*(Параметры!$C$6/800*(1+Параметры!$C$6/800)^Параметры!$C$5)/((1+Параметры!$C$6/800)^Параметры!$C$5-1)<(Параметры!$C$3-Параметры!$C$3*Параметры!$C$4)/Параметры!$C$5,(Параметры!$C$3-Параметры!$C$3*Параметры!$C$4)/Параметры!$C$5, Кэшфло!$B$1*(Параметры!$C$6/800*(1+Параметры!$C$6/800)^Параметры!$C$5)/((1+Параметры!$C$6/800)^Параметры!$C$5-1)),\"\")","v":""}]
[{"$f":"IF(A399>=Параметры!$C$5,\"\",A399+1)","v":""},{"$f":"IF(A400<>\"\",IF(Кэшфло!$B$1*(Параметры!$C$6/800*(1+Параметры!$C$6/800)^Параметры!$C$5)/((1+Параметры!$C$6/800)^Параметры!$C$5-1)<(Параметры!$C$3-Параметры!$C$3*Параметры!$C$4)/Параметры!$C$5,(Параметры!$C$3-Параметры!$C$3*Параметры!$C$4)/Параметры!$C$5, Кэшфло!$B$1*(Параметры!$C$6/800*(1+Параметры!$C$6/800)^Параметры!$C$5)/((1+Параметры!$C$6/800)^Параметры!$C$5-1)),\"\")","v":""}]
[{"$f":"IF(A400>=Параметры!$C$5,\"\",A400+1)","v":""},{"$f":"IF(A401<>\"\",IF(Кэшфло!$B$1*(Параметры!$C$6/800*(1+Параметры!$C$6/800)^Параметры!$C$5)/((1+Параметры!$C$6/800)^Параметры!$C$5-1)<(Параметры!$C$3-Параметры!$C$3*Параметры!$C$4)/Параметры!$C$5,(Параметры!$C$3-Параметры!$C$3*Параметры!$C$4)/Параметры!$C$5, Кэшфло!$B$1*(Параметры!$C$6/800*(1+Параметры!$C$6/800)^Параметры!$C$5)/((1+Параметры!$C$6/800)^Параметры!$C$5-1)),\"\")","v":""}]
[{"$f":"IF(A401>=Параметры!$C$5,\"\",A401+1)","v":""},{"$f":"IF(A402<>\"\",IF(Кэшфло!$B$1*(Параметры!$C$6/800*(1+Параметры!$C$6/800)^Параметры!$C$5)/((1+Параметры!$C$6/800)^Параметры!$C$5-1)<(Параметры!$C$3-Параметры!$C$3*Параметры!$C$4)/Параметры!$C$5,(Параметры!$C$3-Параметры!$C$3*Параметры!$C$4)/Параметры!$C$5, Кэшфло!$B$1*(Параметры!$C$6/800*(1+Параметры!$C$6/800)^Параметры!$C$5)/((1+Параметры!$C$6/800)^Параметры!$C$5-1)),\"\")","v":""}]
[{"$f":"IF(A402>=Параметры!$C$5,\"\",A402+1)","v":""},{"$f":"IF(A403<>\"\",IF(Кэшфло!$B$1*(Параметры!$C$6/800*(1+Параметры!$C$6/800)^Параметры!$C$5)/((1+Параметры!$C$6/800)^Параметры!$C$5-1)<(Параметры!$C$3-Параметры!$C$3*Параметры!$C$4)/Параметры!$C$5,(Параметры!$C$3-Параметры!$C$3*Параметры!$C$4)/Параметры!$C$5, Кэшфло!$B$1*(Параметры!$C$6/800*(1+Параметры!$C$6/800)^Параметры!$C$5)/((1+Параметры!$C$6/800)^Параметры!$C$5-1)),\"\")","v":""}]
[{"$f":"IF(A403>=Параметры!$C$5,\"\",A403+1)","v":""},{"$f":"IF(A404<>\"\",IF(Кэшфло!$B$1*(Параметры!$C$6/800*(1+Параметры!$C$6/800)^Параметры!$C$5)/((1+Параметры!$C$6/800)^Параметры!$C$5-1)<(Параметры!$C$3-Параметры!$C$3*Параметры!$C$4)/Параметры!$C$5,(Параметры!$C$3-Параметры!$C$3*Параметры!$C$4)/Параметры!$C$5, Кэшфло!$B$1*(Параметры!$C$6/800*(1+Параметры!$C$6/800)^Параметры!$C$5)/((1+Параметры!$C$6/800)^Параметры!$C$5-1)),\"\")","v":""}]
[{"$f":"IF(A404>=Параметры!$C$5,\"\",A404+1)","v":""},{"$f":"IF(A405<>\"\",IF(Кэшфло!$B$1*(Параметры!$C$6/800*(1+Параметры!$C$6/800)^Параметры!$C$5)/((1+Параметры!$C$6/800)^Параметры!$C$5-1)<(Параметры!$C$3-Параметры!$C$3*Параметры!$C$4)/Параметры!$C$5,(Параметры!$C$3-Параметры!$C$3*Параметры!$C$4)/Параметры!$C$5, Кэшфло!$B$1*(Параметры!$C$6/800*(1+Параметры!$C$6/800)^Параметры!$C$5)/((1+Параметры!$C$6/800)^Параметры!$C$5-1)),\"\")","v":""}]
[{"$f":"IF(A405>=Параметры!$C$5,\"\",A405+1)","v":""},{"$f":"IF(A406<>\"\",IF(Кэшфло!$B$1*(Параметры!$C$6/800*(1+Параметры!$C$6/800)^Параметры!$C$5)/((1+Параметры!$C$6/800)^Параметры!$C$5-1)<(Параметры!$C$3-Параметры!$C$3*Параметры!$C$4)/Параметры!$C$5,(Параметры!$C$3-Параметры!$C$3*Параметры!$C$4)/Параметры!$C$5, Кэшфло!$B$1*(Параметры!$C$6/800*(1+Параметры!$C$6/800)^Параметры!$C$5)/((1+Параметры!$C$6/800)^Параметры!$C$5-1)),\"\")","v":""}]
[{"$f":"IF(A406>=Параметры!$C$5,\"\",A406+1)","v":""},{"$f":"IF(A407<>\"\",IF(Кэшфло!$B$1*(Параметры!$C$6/800*(1+Параметры!$C$6/800)^Параметры!$C$5)/((1+Параметры!$C$6/800)^Параметры!$C$5-1)<(Параметры!$C$3-Параметры!$C$3*Параметры!$C$4)/Параметры!$C$5,(Параметры!$C$3-Параметры!$C$3*Параметры!$C$4)/Параметры!$C$5, Кэшфло!$B$1*(Параметры!$C$6/800*(1+Параметры!$C$6/800)^Параметры!$C$5)/((1+Параметры!$C$6/800)^Параметры!$C$5-1)),\"\")","v":""}]
[{"$f":"IF(A407>=Параметры!$C$5,\"\",A407+1)","v":""},{"$f":"IF(A408<>\"\",IF(Кэшфло!$B$1*(Параметры!$C$6/800*(1+Параметры!$C$6/800)^Параметры!$C$5)/((1+Параметры!$C$6/800)^Параметры!$C$5-1)<(Параметры!$C$3-Параметры!$C$3*Параметры!$C$4)/Параметры!$C$5,(Параметры!$C$3-Параметры!$C$3*Параметры!$C$4)/Параметры!$C$5, Кэшфло!$B$1*(Параметры!$C$6/800*(1+Параметры!$C$6/800)^Параметры!$C$5)/((1+Параметры!$C$6/800)^Параметры!$C$5-1)),\"\")","v":""}]
[{"$f":"IF(A408>=Параметры!$C$5,\"\",A408+1)","v":""},{"$f":"IF(A409<>\"\",IF(Кэшфло!$B$1*(Параметры!$C$6/800*(1+Параметры!$C$6/800)^Параметры!$C$5)/((1+Параметры!$C$6/800)^Параметры!$C$5-1)<(Параметры!$C$3-Параметры!$C$3*Параметры!$C$4)/Параметры!$C$5,(Параметры!$C$3-Параметры!$C$3*Параметры!$C$4)/Параметры!$C$5, Кэшфло!$B$1*(Параметры!$C$6/800*(1+Параметры!$C$6/800)^Параметры!$C$5)/((1+Параметры!$C$6/800)^Параметры!$C$5-1)),\"\")","v":""}]
[{"$f":"IF(A409>=Параметры!$C$5,\"\",A409+1)","v":""},{"$f":"IF(A410<>\"\",IF(Кэшфло!$B$1*(Параметры!$C$6/800*(1+Параметры!$C$6/800)^Параметры!$C$5)/((1+Параметры!$C$6/800)^Параметры!$C$5-1)<(Параметры!$C$3-Параметры!$C$3*Параметры!$C$4)/Параметры!$C$5,(Параметры!$C$3-Параметры!$C$3*Параметры!$C$4)/Параметры!$C$5, Кэшфло!$B$1*(Параметры!$C$6/800*(1+Параметры!$C$6/800)^Параметры!$C$5)/((1+Параметры!$C$6/800)^Параметры!$C$5-1)),\"\")","v":""}]
[{"$f":"IF(A410>=Параметры!$C$5,\"\",A410+1)","v":""},{"$f":"IF(A411<>\"\",IF(Кэшфло!$B$1*(Параметры!$C$6/800*(1+Параметры!$C$6/800)^Параметры!$C$5)/((1+Параметры!$C$6/800)^Параметры!$C$5-1)<(Параметры!$C$3-Параметры!$C$3*Параметры!$C$4)/Параметры!$C$5,(Параметры!$C$3-Параметры!$C$3*Параметры!$C$4)/Параметры!$C$5, Кэшфло!$B$1*(Параметры!$C$6/800*(1+Параметры!$C$6/800)^Параметры!$C$5)/((1+Параметры!$C$6/800)^Параметры!$C$5-1)),\"\")","v":""}]
[{"$f":"IF(A411>=Параметры!$C$5,\"\",A411+1)","v":""},{"$f":"IF(A412<>\"\",IF(Кэшфло!$B$1*(Параметры!$C$6/800*(1+Параметры!$C$6/800)^Параметры!$C$5)/((1+Параметры!$C$6/800)^Параметры!$C$5-1)<(Параметры!$C$3-Параметры!$C$3*Параметры!$C$4)/Параметры!$C$5,(Параметры!$C$3-Параметры!$C$3*Параметры!$C$4)/Параметры!$C$5, Кэшфло!$B$1*(Параметры!$C$6/800*(1+Параметры!$C$6/800)^Параметры!$C$5)/((1+Параметры!$C$6/800)^Параметры!$C$5-1)),\"\")","v":""}]
[{"$f":"IF(A412>=Параметры!$C$5,\"\",A412+1)","v":""},{"$f":"IF(A413<>\"\",IF(Кэшфло!$B$1*(Параметры!$C$6/800*(1+Параметры!$C$6/800)^Параметры!$C$5)/((1+Параметры!$C$6/800)^Параметры!$C$5-1)<(Параметры!$C$3-Параметры!$C$3*Параметры!$C$4)/Параметры!$C$5,(Параметры!$C$3-Параметры!$C$3*Параметры!$C$4)/Параметры!$C$5, Кэшфло!$B$1*(Параметры!$C$6/800*(1+Параметры!$C$6/800)^Параметры!$C$5)/((1+Параметры!$C$6/800)^Параметры!$C$5-1)),\"\")","v":""}]
[{"$f":"IF(A413>=Параметры!$C$5,\"\",A413+1)","v":""},{"$f":"IF(A414<>\"\",IF(Кэшфло!$B$1*(Параметры!$C$6/800*(1+Параметры!$C$6/800)^Параметры!$C$5)/((1+Параметры!$C$6/800)^Параметры!$C$5-1)<(Параметры!$C$3-Параметры!$C$3*Параметры!$C$4)/Параметры!$C$5,(Параметры!$C$3-Параметры!$C$3*Параметры!$C$4)/Параметры!$C$5, Кэшфло!$B$1*(Параметры!$C$6/800*(1+Параметры!$C$6/800)^Параметры!$C$5)/((1+Параметры!$C$6/800)^Параметры!$C$5-1)),\"\")","v":""}]
[{"$f":"IF(A414>=Параметры!$C$5,\"\",A414+1)","v":""},{"$f":"IF(A415<>\"\",IF(Кэшфло!$B$1*(Параметры!$C$6/800*(1+Параметры!$C$6/800)^Параметры!$C$5)/((1+Параметры!$C$6/800)^Параметры!$C$5-1)<(Параметры!$C$3-Параметры!$C$3*Параметры!$C$4)/Параметры!$C$5,(Параметры!$C$3-Параметры!$C$3*Параметры!$C$4)/Параметры!$C$5, Кэшфло!$B$1*(Параметры!$C$6/800*(1+Параметры!$C$6/800)^Параметры!$C$5)/((1+Параметры!$C$6/800)^Параметры!$C$5-1)),\"\")","v":""}]
[{"$f":"IF(A415>=Параметры!$C$5,\"\",A415+1)","v":""},{"$f":"IF(A416<>\"\",IF(Кэшфло!$B$1*(Параметры!$C$6/800*(1+Параметры!$C$6/800)^Параметры!$C$5)/((1+Параметры!$C$6/800)^Параметры!$C$5-1)<(Параметры!$C$3-Параметры!$C$3*Параметры!$C$4)/Параметры!$C$5,(Параметры!$C$3-Параметры!$C$3*Параметры!$C$4)/Параметры!$C$5, Кэшфло!$B$1*(Параметры!$C$6/800*(1+Параметры!$C$6/800)^Параметры!$C$5)/((1+Параметры!$C$6/800)^Параметры!$C$5-1)),\"\")","v":""}]
[{"$f":"IF(A416>=Параметры!$C$5,\"\",A416+1)","v":""},{"$f":"IF(A417<>\"\",IF(Кэшфло!$B$1*(Параметры!$C$6/800*(1+Параметры!$C$6/800)^Параметры!$C$5)/((1+Параметры!$C$6/800)^Параметры!$C$5-1)<(Параметры!$C$3-Параметры!$C$3*Параметры!$C$4)/Параметры!$C$5,(Параметры!$C$3-Параметры!$C$3*Параметры!$C$4)/Параметры!$C$5, Кэшфло!$B$1*(Параметры!$C$6/800*(1+Параметры!$C$6/800)^Параметры!$C$5)/((1+Параметры!$C$6/800)^Параметры!$C$5-1)),\"\")","v":""}]
[{"$f":"IF(A417>=Параметры!$C$5,\"\",A417+1)","v":""},{"$f":"IF(A418<>\"\",IF(Кэшфло!$B$1*(Параметры!$C$6/800*(1+Параметры!$C$6/800)^Параметры!$C$5)/((1+Параметры!$C$6/800)^Параметры!$C$5-1)<(Параметры!$C$3-Параметры!$C$3*Параметры!$C$4)/Параметры!$C$5,(Параметры!$C$3-Параметры!$C$3*Параметры!$C$4)/Параметры!$C$5, Кэшфло!$B$1*(Параметры!$C$6/800*(1+Параметры!$C$6/800)^Параметры!$C$5)/((1+Параметры!$C$6/800)^Параметры!$C$5-1)),\"\")","v":""}]
[{"$f":"IF(A418>=Параметры!$C$5,\"\",A418+1)","v":""},{"$f":"IF(A419<>\"\",IF(Кэшфло!$B$1*(Параметры!$C$6/800*(1+Параметры!$C$6/800)^Параметры!$C$5)/((1+Параметры!$C$6/800)^Параметры!$C$5-1)<(Параметры!$C$3-Параметры!$C$3*Параметры!$C$4)/Параметры!$C$5,(Параметры!$C$3-Параметры!$C$3*Параметры!$C$4)/Параметры!$C$5, Кэшфло!$B$1*(Параметры!$C$6/800*(1+Параметры!$C$6/800)^Параметры!$C$5)/((1+Параметры!$C$6/800)^Параметры!$C$5-1)),\"\")","v":""}]
[{"$f":"IF(A419>=Параметры!$C$5,\"\",A419+1)","v":""},{"$f":"IF(A420<>\"\",IF(Кэшфло!$B$1*(Параметры!$C$6/800*(1+Параметры!$C$6/800)^Параметры!$C$5)/((1+Параметры!$C$6/800)^Параметры!$C$5-1)<(Параметры!$C$3-Параметры!$C$3*Параметры!$C$4)/Параметры!$C$5,(Параметры!$C$3-Параметры!$C$3*Параметры!$C$4)/Параметры!$C$5, Кэшфло!$B$1*(Параметры!$C$6/800*(1+Параметры!$C$6/800)^Параметры!$C$5)/((1+Параметры!$C$6/800)^Параметры!$C$5-1)),\"\")","v":""}]
[{"$f":"IF(A420>=Параметры!$C$5,\"\",A420+1)","v":""},{"$f":"IF(A421<>\"\",IF(Кэшфло!$B$1*(Параметры!$C$6/800*(1+Параметры!$C$6/800)^Параметры!$C$5)/((1+Параметры!$C$6/800)^Параметры!$C$5-1)<(Параметры!$C$3-Параметры!$C$3*Параметры!$C$4)/Параметры!$C$5,(Параметры!$C$3-Параметры!$C$3*Параметры!$C$4)/Параметры!$C$5, Кэшфло!$B$1*(Параметры!$C$6/800*(1+Параметры!$C$6/800)^Параметры!$C$5)/((1+Параметры!$C$6/800)^Параметры!$C$5-1)),\"\")","v":""}]
[{"$f":"IF(A421>=Параметры!$C$5,\"\",A421+1)","v":""},{"$f":"IF(A422<>\"\",IF(Кэшфло!$B$1*(Параметры!$C$6/800*(1+Параметры!$C$6/800)^Параметры!$C$5)/((1+Параметры!$C$6/800)^Параметры!$C$5-1)<(Параметры!$C$3-Параметры!$C$3*Параметры!$C$4)/Параметры!$C$5,(Параметры!$C$3-Параметры!$C$3*Параметры!$C$4)/Параметры!$C$5, Кэшфло!$B$1*(Параметры!$C$6/800*(1+Параметры!$C$6/800)^Параметры!$C$5)/((1+Параметры!$C$6/800)^Параметры!$C$5-1)),\"\")","v":""}]
[{"$f":"IF(A422>=Параметры!$C$5,\"\",A422+1)","v":""},{"$f":"IF(A423<>\"\",IF(Кэшфло!$B$1*(Параметры!$C$6/800*(1+Параметры!$C$6/800)^Параметры!$C$5)/((1+Параметры!$C$6/800)^Параметры!$C$5-1)<(Параметры!$C$3-Параметры!$C$3*Параметры!$C$4)/Параметры!$C$5,(Параметры!$C$3-Параметры!$C$3*Параметры!$C$4)/Параметры!$C$5, Кэшфло!$B$1*(Параметры!$C$6/800*(1+Параметры!$C$6/800)^Параметры!$C$5)/((1+Параметры!$C$6/800)^Параметры!$C$5-1)),\"\")","v":""}]
[{"$f":"IF(A423>=Параметры!$C$5,\"\",A423+1)","v":""},{"$f":"IF(A424<>\"\",IF(Кэшфло!$B$1*(Параметры!$C$6/800*(1+Параметры!$C$6/800)^Параметры!$C$5)/((1+Параметры!$C$6/800)^Параметры!$C$5-1)<(Параметры!$C$3-Параметры!$C$3*Параметры!$C$4)/Параметры!$C$5,(Параметры!$C$3-Параметры!$C$3*Параметры!$C$4)/Параметры!$C$5, Кэшфло!$B$1*(Параметры!$C$6/800*(1+Параметры!$C$6/800)^Параметры!$C$5)/((1+Параметры!$C$6/800)^Параметры!$C$5-1)),\"\")","v":""}]
[{"$f":"IF(A424>=Параметры!$C$5,\"\",A424+1)","v":""},{"$f":"IF(A425<>\"\",IF(Кэшфло!$B$1*(Параметры!$C$6/800*(1+Параметры!$C$6/800)^Параметры!$C$5)/((1+Параметры!$C$6/800)^Параметры!$C$5-1)<(Параметры!$C$3-Параметры!$C$3*Параметры!$C$4)/Параметры!$C$5,(Параметры!$C$3-Параметры!$C$3*Параметры!$C$4)/Параметры!$C$5, Кэшфло!$B$1*(Параметры!$C$6/800*(1+Параметры!$C$6/800)^Параметры!$C$5)/((1+Параметры!$C$6/800)^Параметры!$C$5-1)),\"\")","v":""}]
[{"$f":"IF(A425>=Параметры!$C$5,\"\",A425+1)","v":""},{"$f":"IF(A426<>\"\",IF(Кэшфло!$B$1*(Параметры!$C$6/800*(1+Параметры!$C$6/800)^Параметры!$C$5)/((1+Параметры!$C$6/800)^Параметры!$C$5-1)<(Параметры!$C$3-Параметры!$C$3*Параметры!$C$4)/Параметры!$C$5,(Параметры!$C$3-Параметры!$C$3*Параметры!$C$4)/Параметры!$C$5, Кэшфло!$B$1*(Параметры!$C$6/800*(1+Параметры!$C$6/800)^Параметры!$C$5)/((1+Параметры!$C$6/800)^Параметры!$C$5-1)),\"\")","v":""}]
[{"$f":"IF(A426>=Параметры!$C$5,\"\",A426+1)","v":""},{"$f":"IF(A427<>\"\",IF(Кэшфло!$B$1*(Параметры!$C$6/800*(1+Параметры!$C$6/800)^Параметры!$C$5)/((1+Параметры!$C$6/800)^Параметры!$C$5-1)<(Параметры!$C$3-Параметры!$C$3*Параметры!$C$4)/Параметры!$C$5,(Параметры!$C$3-Параметры!$C$3*Параметры!$C$4)/Параметры!$C$5, Кэшфло!$B$1*(Параметры!$C$6/800*(1+Параметры!$C$6/800)^Параметры!$C$5)/((1+Параметры!$C$6/800)^Параметры!$C$5-1)),\"\")","v":""}]
[{"$f":"IF(A427>=Параметры!$C$5,\"\",A427+1)","v":""},{"$f":"IF(A428<>\"\",IF(Кэшфло!$B$1*(Параметры!$C$6/800*(1+Параметры!$C$6/800)^Параметры!$C$5)/((1+Параметры!$C$6/800)^Параметры!$C$5-1)<(Параметры!$C$3-Параметры!$C$3*Параметры!$C$4)/Параметры!$C$5,(Параметры!$C$3-Параметры!$C$3*Параметры!$C$4)/Параметры!$C$5, Кэшфло!$B$1*(Параметры!$C$6/800*(1+Параметры!$C$6/800)^Параметры!$C$5)/((1+Параметры!$C$6/800)^Параметры!$C$5-1)),\"\")","v":""}]
[{"$f":"IF(A428>=Параметры!$C$5,\"\",A428+1)","v":""},{"$f":"IF(A429<>\"\",IF(Кэшфло!$B$1*(Параметры!$C$6/800*(1+Параметры!$C$6/800)^Параметры!$C$5)/((1+Параметры!$C$6/800)^Параметры!$C$5-1)<(Параметры!$C$3-Параметры!$C$3*Параметры!$C$4)/Параметры!$C$5,(Параметры!$C$3-Параметры!$C$3*Параметры!$C$4)/Параметры!$C$5, Кэшфло!$B$1*(Параметры!$C$6/800*(1+Параметры!$C$6/800)^Параметры!$C$5)/((1+Параметры!$C$6/800)^Параметры!$C$5-1)),\"\")","v":""}]
[{"$f":"IF(A429>=Параметры!$C$5,\"\",A429+1)","v":""},{"$f":"IF(A430<>\"\",IF(Кэшфло!$B$1*(Параметры!$C$6/800*(1+Параметры!$C$6/800)^Параметры!$C$5)/((1+Параметры!$C$6/800)^Параметры!$C$5-1)<(Параметры!$C$3-Параметры!$C$3*Параметры!$C$4)/Параметры!$C$5,(Параметры!$C$3-Параметры!$C$3*Параметры!$C$4)/Параметры!$C$5, Кэшфло!$B$1*(Параметры!$C$6/800*(1+Параметры!$C$6/800)^Параметры!$C$5)/((1+Параметры!$C$6/800)^Параметры!$C$5-1)),\"\")","v":""}]
[{"$f":"IF(A430>=Параметры!$C$5,\"\",A430+1)","v":""},{"$f":"IF(A431<>\"\",IF(Кэшфло!$B$1*(Параметры!$C$6/800*(1+Параметры!$C$6/800)^Параметры!$C$5)/((1+Параметры!$C$6/800)^Параметры!$C$5-1)<(Параметры!$C$3-Параметры!$C$3*Параметры!$C$4)/Параметры!$C$5,(Параметры!$C$3-Параметры!$C$3*Параметры!$C$4)/Параметры!$C$5, Кэшфло!$B$1*(Параметры!$C$6/800*(1+Параметры!$C$6/800)^Параметры!$C$5)/((1+Параметры!$C$6/800)^Параметры!$C$5-1)),\"\")","v":""}]
[{"$f":"IF(A431>=Параметры!$C$5,\"\",A431+1)","v":""},{"$f":"IF(A432<>\"\",IF(Кэшфло!$B$1*(Параметры!$C$6/800*(1+Параметры!$C$6/800)^Параметры!$C$5)/((1+Параметры!$C$6/800)^Параметры!$C$5-1)<(Параметры!$C$3-Параметры!$C$3*Параметры!$C$4)/Параметры!$C$5,(Параметры!$C$3-Параметры!$C$3*Параметры!$C$4)/Параметры!$C$5, Кэшфло!$B$1*(Параметры!$C$6/800*(1+Параметры!$C$6/800)^Параметры!$C$5)/((1+Параметры!$C$6/800)^Параметры!$C$5-1)),\"\")","v":""}]
[{"$f":"IF(A432>=Параметры!$C$5,\"\",A432+1)","v":""},{"$f":"IF(A433<>\"\",IF(Кэшфло!$B$1*(Параметры!$C$6/800*(1+Параметры!$C$6/800)^Параметры!$C$5)/((1+Параметры!$C$6/800)^Параметры!$C$5-1)<(Параметры!$C$3-Параметры!$C$3*Параметры!$C$4)/Параметры!$C$5,(Параметры!$C$3-Параметры!$C$3*Параметры!$C$4)/Параметры!$C$5, Кэшфло!$B$1*(Параметры!$C$6/800*(1+Параметры!$C$6/800)^Параметры!$C$5)/((1+Параметры!$C$6/800)^Параметры!$C$5-1)),\"\")","v":""}]
[{"$f":"IF(A433>=Параметры!$C$5,\"\",A433+1)","v":""},{"$f":"IF(A434<>\"\",IF(Кэшфло!$B$1*(Параметры!$C$6/800*(1+Параметры!$C$6/800)^Параметры!$C$5)/((1+Параметры!$C$6/800)^Параметры!$C$5-1)<(Параметры!$C$3-Параметры!$C$3*Параметры!$C$4)/Параметры!$C$5,(Параметры!$C$3-Параметры!$C$3*Параметры!$C$4)/Параметры!$C$5, Кэшфло!$B$1*(Параметры!$C$6/800*(1+Параметры!$C$6/800)^Параметры!$C$5)/((1+Параметры!$C$6/800)^Параметры!$C$5-1)),\"\")","v":""}]
[{"$f":"IF(A434>=Параметры!$C$5,\"\",A434+1)","v":""},{"$f":"IF(A435<>\"\",IF(Кэшфло!$B$1*(Параметры!$C$6/800*(1+Параметры!$C$6/800)^Параметры!$C$5)/((1+Параметры!$C$6/800)^Параметры!$C$5-1)<(Параметры!$C$3-Параметры!$C$3*Параметры!$C$4)/Параметры!$C$5,(Параметры!$C$3-Параметры!$C$3*Параметры!$C$4)/Параметры!$C$5, Кэшфло!$B$1*(Параметры!$C$6/800*(1+Параметры!$C$6/800)^Параметры!$C$5)/((1+Параметры!$C$6/800)^Параметры!$C$5-1)),\"\")","v":""}]
[{"$f":"IF(A435>=Параметры!$C$5,\"\",A435+1)","v":""},{"$f":"IF(A436<>\"\",IF(Кэшфло!$B$1*(Параметры!$C$6/800*(1+Параметры!$C$6/800)^Параметры!$C$5)/((1+Параметры!$C$6/800)^Параметры!$C$5-1)<(Параметры!$C$3-Параметры!$C$3*Параметры!$C$4)/Параметры!$C$5,(Параметры!$C$3-Параметры!$C$3*Параметры!$C$4)/Параметры!$C$5, Кэшфло!$B$1*(Параметры!$C$6/800*(1+Параметры!$C$6/800)^Параметры!$C$5)/((1+Параметры!$C$6/800)^Параметры!$C$5-1)),\"\")","v":""}]
[{"$f":"IF(A436>=Параметры!$C$5,\"\",A436+1)","v":""},{"$f":"IF(A437<>\"\",IF(Кэшфло!$B$1*(Параметры!$C$6/800*(1+Параметры!$C$6/800)^Параметры!$C$5)/((1+Параметры!$C$6/800)^Параметры!$C$5-1)<(Параметры!$C$3-Параметры!$C$3*Параметры!$C$4)/Параметры!$C$5,(Параметры!$C$3-Параметры!$C$3*Параметры!$C$4)/Параметры!$C$5, Кэшфло!$B$1*(Параметры!$C$6/800*(1+Параметры!$C$6/800)^Параметры!$C$5)/((1+Параметры!$C$6/800)^Параметры!$C$5-1)),\"\")","v":""}]
[{"$f":"IF(A437>=Параметры!$C$5,\"\",A437+1)","v":""},{"$f":"IF(A438<>\"\",IF(Кэшфло!$B$1*(Параметры!$C$6/800*(1+Параметры!$C$6/800)^Параметры!$C$5)/((1+Параметры!$C$6/800)^Параметры!$C$5-1)<(Параметры!$C$3-Параметры!$C$3*Параметры!$C$4)/Параметры!$C$5,(Параметры!$C$3-Параметры!$C$3*Параметры!$C$4)/Параметры!$C$5, Кэшфло!$B$1*(Параметры!$C$6/800*(1+Параметры!$C$6/800)^Параметры!$C$5)/((1+Параметры!$C$6/800)^Параметры!$C$5-1)),\"\")","v":""}]
[{"$f":"IF(A438>=Параметры!$C$5,\"\",A438+1)","v":""},{"$f":"IF(A439<>\"\",IF(Кэшфло!$B$1*(Параметры!$C$6/800*(1+Параметры!$C$6/800)^Параметры!$C$5)/((1+Параметры!$C$6/800)^Параметры!$C$5-1)<(Параметры!$C$3-Параметры!$C$3*Параметры!$C$4)/Параметры!$C$5,(Параметры!$C$3-Параметры!$C$3*Параметры!$C$4)/Параметры!$C$5, Кэшфло!$B$1*(Параметры!$C$6/800*(1+Параметры!$C$6/800)^Параметры!$C$5)/((1+Параметры!$C$6/800)^Параметры!$C$5-1)),\"\")","v":""}]
[{"$f":"IF(A439>=Параметры!$C$5,\"\",A439+1)","v":""},{"$f":"IF(A440<>\"\",IF(Кэшфло!$B$1*(Параметры!$C$6/800*(1+Параметры!$C$6/800)^Параметры!$C$5)/((1+Параметры!$C$6/800)^Параметры!$C$5-1)<(Параметры!$C$3-Параметры!$C$3*Параметры!$C$4)/Параметры!$C$5,(Параметры!$C$3-Параметры!$C$3*Параметры!$C$4)/Параметры!$C$5, Кэшфло!$B$1*(Параметры!$C$6/800*(1+Параметры!$C$6/800)^Параметры!$C$5)/((1+Параметры!$C$6/800)^Параметры!$C$5-1)),\"\")","v":""}]
[{"$f":"IF(A440>=Параметры!$C$5,\"\",A440+1)","v":""},{"$f":"IF(A441<>\"\",IF(Кэшфло!$B$1*(Параметры!$C$6/800*(1+Параметры!$C$6/800)^Параметры!$C$5)/((1+Параметры!$C$6/800)^Параметры!$C$5-1)<(Параметры!$C$3-Параметры!$C$3*Параметры!$C$4)/Параметры!$C$5,(Параметры!$C$3-Параметры!$C$3*Параметры!$C$4)/Параметры!$C$5, Кэшфло!$B$1*(Параметры!$C$6/800*(1+Параметры!$C$6/800)^Параметры!$C$5)/((1+Параметры!$C$6/800)^Параметры!$C$5-1)),\"\")","v":""}]
[{"$f":"IF(A441>=Параметры!$C$5,\"\",A441+1)","v":""},{"$f":"IF(A442<>\"\",IF(Кэшфло!$B$1*(Параметры!$C$6/800*(1+Параметры!$C$6/800)^Параметры!$C$5)/((1+Параметры!$C$6/800)^Параметры!$C$5-1)<(Параметры!$C$3-Параметры!$C$3*Параметры!$C$4)/Параметры!$C$5,(Параметры!$C$3-Параметры!$C$3*Параметры!$C$4)/Параметры!$C$5, Кэшфло!$B$1*(Параметры!$C$6/800*(1+Параметры!$C$6/800)^Параметры!$C$5)/((1+Параметры!$C$6/800)^Параметры!$C$5-1)),\"\")","v":""}]
[{"$f":"IF(A442>=Параметры!$C$5,\"\",A442+1)","v":""},{"$f":"IF(A443<>\"\",IF(Кэшфло!$B$1*(Параметры!$C$6/800*(1+Параметры!$C$6/800)^Параметры!$C$5)/((1+Параметры!$C$6/800)^Параметры!$C$5-1)<(Параметры!$C$3-Параметры!$C$3*Параметры!$C$4)/Параметры!$C$5,(Параметры!$C$3-Параметры!$C$3*Параметры!$C$4)/Параметры!$C$5, Кэшфло!$B$1*(Параметры!$C$6/800*(1+Параметры!$C$6/800)^Параметры!$C$5)/((1+Параметры!$C$6/800)^Параметры!$C$5-1)),\"\")","v":""}]
[{"$f":"IF(A443>=Параметры!$C$5,\"\",A443+1)","v":""},{"$f":"IF(A444<>\"\",IF(Кэшфло!$B$1*(Параметры!$C$6/800*(1+Параметры!$C$6/800)^Параметры!$C$5)/((1+Параметры!$C$6/800)^Параметры!$C$5-1)<(Параметры!$C$3-Параметры!$C$3*Параметры!$C$4)/Параметры!$C$5,(Параметры!$C$3-Параметры!$C$3*Параметры!$C$4)/Параметры!$C$5, Кэшфло!$B$1*(Параметры!$C$6/800*(1+Параметры!$C$6/800)^Параметры!$C$5)/((1+Параметры!$C$6/800)^Параметры!$C$5-1)),\"\")","v":""}]
[{"$f":"IF(A444>=Параметры!$C$5,\"\",A444+1)","v":""},{"$f":"IF(A445<>\"\",IF(Кэшфло!$B$1*(Параметры!$C$6/800*(1+Параметры!$C$6/800)^Параметры!$C$5)/((1+Параметры!$C$6/800)^Параметры!$C$5-1)<(Параметры!$C$3-Параметры!$C$3*Параметры!$C$4)/Параметры!$C$5,(Параметры!$C$3-Параметры!$C$3*Параметры!$C$4)/Параметры!$C$5, Кэшфло!$B$1*(Параметры!$C$6/800*(1+Параметры!$C$6/800)^Параметры!$C$5)/((1+Параметры!$C$6/800)^Параметры!$C$5-1)),\"\")","v":""}]
[{"$f":"IF(A445>=Параметры!$C$5,\"\",A445+1)","v":""},{"$f":"IF(A446<>\"\",IF(Кэшфло!$B$1*(Параметры!$C$6/800*(1+Параметры!$C$6/800)^Параметры!$C$5)/((1+Параметры!$C$6/800)^Параметры!$C$5-1)<(Параметры!$C$3-Параметры!$C$3*Параметры!$C$4)/Параметры!$C$5,(Параметры!$C$3-Параметры!$C$3*Параметры!$C$4)/Параметры!$C$5, Кэшфло!$B$1*(Параметры!$C$6/800*(1+Параметры!$C$6/800)^Параметры!$C$5)/((1+Параметры!$C$6/800)^Параметры!$C$5-1)),\"\")","v":""}]
[{"$f":"IF(A446>=Параметры!$C$5,\"\",A446+1)","v":""},{"$f":"IF(A447<>\"\",IF(Кэшфло!$B$1*(Параметры!$C$6/800*(1+Параметры!$C$6/800)^Параметры!$C$5)/((1+Параметры!$C$6/800)^Параметры!$C$5-1)<(Параметры!$C$3-Параметры!$C$3*Параметры!$C$4)/Параметры!$C$5,(Параметры!$C$3-Параметры!$C$3*Параметры!$C$4)/Параметры!$C$5, Кэшфло!$B$1*(Параметры!$C$6/800*(1+Параметры!$C$6/800)^Параметры!$C$5)/((1+Параметры!$C$6/800)^Параметры!$C$5-1)),\"\")","v":""}]
[{"$f":"IF(A447>=Параметры!$C$5,\"\",A447+1)","v":""},{"$f":"IF(A448<>\"\",IF(Кэшфло!$B$1*(Параметры!$C$6/800*(1+Параметры!$C$6/800)^Параметры!$C$5)/((1+Параметры!$C$6/800)^Параметры!$C$5-1)<(Параметры!$C$3-Параметры!$C$3*Параметры!$C$4)/Параметры!$C$5,(Параметры!$C$3-Параметры!$C$3*Параметры!$C$4)/Параметры!$C$5, Кэшфло!$B$1*(Параметры!$C$6/800*(1+Параметры!$C$6/800)^Параметры!$C$5)/((1+Параметры!$C$6/800)^Параметры!$C$5-1)),\"\")","v":""}]
[{"$f":"IF(A448>=Параметры!$C$5,\"\",A448+1)","v":""},{"$f":"IF(A449<>\"\",IF(Кэшфло!$B$1*(Параметры!$C$6/800*(1+Параметры!$C$6/800)^Параметры!$C$5)/((1+Параметры!$C$6/800)^Параметры!$C$5-1)<(Параметры!$C$3-Параметры!$C$3*Параметры!$C$4)/Параметры!$C$5,(Параметры!$C$3-Параметры!$C$3*Параметры!$C$4)/Параметры!$C$5, Кэшфло!$B$1*(Параметры!$C$6/800*(1+Параметры!$C$6/800)^Параметры!$C$5)/((1+Параметры!$C$6/800)^Параметры!$C$5-1)),\"\")","v":""}]
[{"$f":"IF(A449>=Параметры!$C$5,\"\",A449+1)","v":""},{"$f":"IF(A450<>\"\",IF(Кэшфло!$B$1*(Параметры!$C$6/800*(1+Параметры!$C$6/800)^Параметры!$C$5)/((1+Параметры!$C$6/800)^Параметры!$C$5-1)<(Параметры!$C$3-Параметры!$C$3*Параметры!$C$4)/Параметры!$C$5,(Параметры!$C$3-Параметры!$C$3*Параметры!$C$4)/Параметры!$C$5, Кэшфло!$B$1*(Параметры!$C$6/800*(1+Параметры!$C$6/800)^Параметры!$C$5)/((1+Параметры!$C$6/800)^Параметры!$C$5-1)),\"\")","v":""}]
[{"$f":"IF(A450>=Параметры!$C$5,\"\",A450+1)","v":""},{"$f":"IF(A451<>\"\",IF(Кэшфло!$B$1*(Параметры!$C$6/800*(1+Параметры!$C$6/800)^Параметры!$C$5)/((1+Параметры!$C$6/800)^Параметры!$C$5-1)<(Параметры!$C$3-Параметры!$C$3*Параметры!$C$4)/Параметры!$C$5,(Параметры!$C$3-Параметры!$C$3*Параметры!$C$4)/Параметры!$C$5, Кэшфло!$B$1*(Параметры!$C$6/800*(1+Параметры!$C$6/800)^Параметры!$C$5)/((1+Параметры!$C$6/800)^Параметры!$C$5-1)),\"\")","v":""}]
[{"$f":"IF(A451>=Параметры!$C$5,\"\",A451+1)","v":""},{"$f":"IF(A452<>\"\",IF(Кэшфло!$B$1*(Параметры!$C$6/800*(1+Параметры!$C$6/800)^Параметры!$C$5)/((1+Параметры!$C$6/800)^Параметры!$C$5-1)<(Параметры!$C$3-Параметры!$C$3*Параметры!$C$4)/Параметры!$C$5,(Параметры!$C$3-Параметры!$C$3*Параметры!$C$4)/Параметры!$C$5, Кэшфло!$B$1*(Параметры!$C$6/800*(1+Параметры!$C$6/800)^Параметры!$C$5)/((1+Параметры!$C$6/800)^Параметры!$C$5-1)),\"\")","v":""}]
[{"$f":"IF(A452>=Параметры!$C$5,\"\",A452+1)","v":""},{"$f":"IF(A453<>\"\",IF(Кэшфло!$B$1*(Параметры!$C$6/800*(1+Параметры!$C$6/800)^Параметры!$C$5)/((1+Параметры!$C$6/800)^Параметры!$C$5-1)<(Параметры!$C$3-Параметры!$C$3*Параметры!$C$4)/Параметры!$C$5,(Параметры!$C$3-Параметры!$C$3*Параметры!$C$4)/Параметры!$C$5, Кэшфло!$B$1*(Параметры!$C$6/800*(1+Параметры!$C$6/800)^Параметры!$C$5)/((1+Параметры!$C$6/800)^Параметры!$C$5-1)),\"\")","v":""}]
[{"$f":"IF(A453>=Параметры!$C$5,\"\",A453+1)","v":""},{"$f":"IF(A454<>\"\",IF(Кэшфло!$B$1*(Параметры!$C$6/800*(1+Параметры!$C$6/800)^Параметры!$C$5)/((1+Параметры!$C$6/800)^Параметры!$C$5-1)<(Параметры!$C$3-Параметры!$C$3*Параметры!$C$4)/Параметры!$C$5,(Параметры!$C$3-Параметры!$C$3*Параметры!$C$4)/Параметры!$C$5, Кэшфло!$B$1*(Параметры!$C$6/800*(1+Параметры!$C$6/800)^Параметры!$C$5)/((1+Параметры!$C$6/800)^Параметры!$C$5-1)),\"\")","v":""}]
[{"$f":"IF(A454>=Параметры!$C$5,\"\",A454+1)","v":""},{"$f":"IF(A455<>\"\",IF(Кэшфло!$B$1*(Параметры!$C$6/800*(1+Параметры!$C$6/800)^Параметры!$C$5)/((1+Параметры!$C$6/800)^Параметры!$C$5-1)<(Параметры!$C$3-Параметры!$C$3*Параметры!$C$4)/Параметры!$C$5,(Параметры!$C$3-Параметры!$C$3*Параметры!$C$4)/Параметры!$C$5, Кэшфло!$B$1*(Параметры!$C$6/800*(1+Параметры!$C$6/800)^Параметры!$C$5)/((1+Параметры!$C$6/800)^Параметры!$C$5-1)),\"\")","v":""}]
[{"$f":"IF(A455>=Параметры!$C$5,\"\",A455+1)","v":""},{"$f":"IF(A456<>\"\",IF(Кэшфло!$B$1*(Параметры!$C$6/800*(1+Параметры!$C$6/800)^Параметры!$C$5)/((1+Параметры!$C$6/800)^Параметры!$C$5-1)<(Параметры!$C$3-Параметры!$C$3*Параметры!$C$4)/Параметры!$C$5,(Параметры!$C$3-Параметры!$C$3*Параметры!$C$4)/Параметры!$C$5, Кэшфло!$B$1*(Параметры!$C$6/800*(1+Параметры!$C$6/800)^Параметры!$C$5)/((1+Параметры!$C$6/800)^Параметры!$C$5-1)),\"\")","v":""}]
[{"$f":"IF(A456>=Параметры!$C$5,\"\",A456+1)","v":""},{"$f":"IF(A457<>\"\",IF(Кэшфло!$B$1*(Параметры!$C$6/800*(1+Параметры!$C$6/800)^Параметры!$C$5)/((1+Параметры!$C$6/800)^Параметры!$C$5-1)<(Параметры!$C$3-Параметры!$C$3*Параметры!$C$4)/Параметры!$C$5,(Параметры!$C$3-Параметры!$C$3*Параметры!$C$4)/Параметры!$C$5, Кэшфло!$B$1*(Параметры!$C$6/800*(1+Параметры!$C$6/800)^Параметры!$C$5)/((1+Параметры!$C$6/800)^Параметры!$C$5-1)),\"\")","v":""}]
[{"$f":"IF(A457>=Параметры!$C$5,\"\",A457+1)","v":""},{"$f":"IF(A458<>\"\",IF(Кэшфло!$B$1*(Параметры!$C$6/800*(1+Параметры!$C$6/800)^Параметры!$C$5)/((1+Параметры!$C$6/800)^Параметры!$C$5-1)<(Параметры!$C$3-Параметры!$C$3*Параметры!$C$4)/Параметры!$C$5,(Параметры!$C$3-Параметры!$C$3*Параметры!$C$4)/Параметры!$C$5, Кэшфло!$B$1*(Параметры!$C$6/800*(1+Параметры!$C$6/800)^Параметры!$C$5)/((1+Параметры!$C$6/800)^Параметры!$C$5-1)),\"\")","v":""}]
[{"$f":"IF(A458>=Параметры!$C$5,\"\",A458+1)","v":""},{"$f":"IF(A459<>\"\",IF(Кэшфло!$B$1*(Параметры!$C$6/800*(1+Параметры!$C$6/800)^Параметры!$C$5)/((1+Параметры!$C$6/800)^Параметры!$C$5-1)<(Параметры!$C$3-Параметры!$C$3*Параметры!$C$4)/Параметры!$C$5,(Параметры!$C$3-Параметры!$C$3*Параметры!$C$4)/Параметры!$C$5, Кэшфло!$B$1*(Параметры!$C$6/800*(1+Параметры!$C$6/800)^Параметры!$C$5)/((1+Параметры!$C$6/800)^Параметры!$C$5-1)),\"\")","v":""}]
[{"$f":"IF(A459>=Параметры!$C$5,\"\",A459+1)","v":""},{"$f":"IF(A460<>\"\",IF(Кэшфло!$B$1*(Параметры!$C$6/800*(1+Параметры!$C$6/800)^Параметры!$C$5)/((1+Параметры!$C$6/800)^Параметры!$C$5-1)<(Параметры!$C$3-Параметры!$C$3*Параметры!$C$4)/Параметры!$C$5,(Параметры!$C$3-Параметры!$C$3*Параметры!$C$4)/Параметры!$C$5, Кэшфло!$B$1*(Параметры!$C$6/800*(1+Параметры!$C$6/800)^Параметры!$C$5)/((1+Параметры!$C$6/800)^Параметры!$C$5-1)),\"\")","v":""}]
[{"$f":"IF(A460>=Параметры!$C$5,\"\",A460+1)","v":""},{"$f":"IF(A461<>\"\",IF(Кэшфло!$B$1*(Параметры!$C$6/800*(1+Параметры!$C$6/800)^Параметры!$C$5)/((1+Параметры!$C$6/800)^Параметры!$C$5-1)<(Параметры!$C$3-Параметры!$C$3*Параметры!$C$4)/Параметры!$C$5,(Параметры!$C$3-Параметры!$C$3*Параметры!$C$4)/Параметры!$C$5, Кэшфло!$B$1*(Параметры!$C$6/800*(1+Параметры!$C$6/800)^Параметры!$C$5)/((1+Параметры!$C$6/800)^Параметры!$C$5-1)),\"\")","v":""}]
[{"$f":"IF(A461>=Параметры!$C$5,\"\",A461+1)","v":""},{"$f":"IF(A462<>\"\",IF(Кэшфло!$B$1*(Параметры!$C$6/800*(1+Параметры!$C$6/800)^Параметры!$C$5)/((1+Параметры!$C$6/800)^Параметры!$C$5-1)<(Параметры!$C$3-Параметры!$C$3*Параметры!$C$4)/Параметры!$C$5,(Параметры!$C$3-Параметры!$C$3*Параметры!$C$4)/Параметры!$C$5, Кэшфло!$B$1*(Параметры!$C$6/800*(1+Параметры!$C$6/800)^Параметры!$C$5)/((1+Параметры!$C$6/800)^Параметры!$C$5-1)),\"\")","v":""}]
[{"$f":"IF(A462>=Параметры!$C$5,\"\",A462+1)","v":""},{"$f":"IF(A463<>\"\",IF(Кэшфло!$B$1*(Параметры!$C$6/800*(1+Параметры!$C$6/800)^Параметры!$C$5)/((1+Параметры!$C$6/800)^Параметры!$C$5-1)<(Параметры!$C$3-Параметры!$C$3*Параметры!$C$4)/Параметры!$C$5,(Параметры!$C$3-Параметры!$C$3*Параметры!$C$4)/Параметры!$C$5, Кэшфло!$B$1*(Параметры!$C$6/800*(1+Параметры!$C$6/800)^Параметры!$C$5)/((1+Параметры!$C$6/800)^Параметры!$C$5-1)),\"\")","v":""}]
[{"$f":"IF(A463>=Параметры!$C$5,\"\",A463+1)","v":""},{"$f":"IF(A464<>\"\",IF(Кэшфло!$B$1*(Параметры!$C$6/800*(1+Параметры!$C$6/800)^Параметры!$C$5)/((1+Параметры!$C$6/800)^Параметры!$C$5-1)<(Параметры!$C$3-Параметры!$C$3*Параметры!$C$4)/Параметры!$C$5,(Параметры!$C$3-Параметры!$C$3*Параметры!$C$4)/Параметры!$C$5, Кэшфло!$B$1*(Параметры!$C$6/800*(1+Параметры!$C$6/800)^Параметры!$C$5)/((1+Параметры!$C$6/800)^Параметры!$C$5-1)),\"\")","v":""}]
[{"$f":"IF(A464>=Параметры!$C$5,\"\",A464+1)","v":""},{"$f":"IF(A465<>\"\",IF(Кэшфло!$B$1*(Параметры!$C$6/800*(1+Параметры!$C$6/800)^Параметры!$C$5)/((1+Параметры!$C$6/800)^Параметры!$C$5-1)<(Параметры!$C$3-Параметры!$C$3*Параметры!$C$4)/Параметры!$C$5,(Параметры!$C$3-Параметры!$C$3*Параметры!$C$4)/Параметры!$C$5, Кэшфло!$B$1*(Параметры!$C$6/800*(1+Параметры!$C$6/800)^Параметры!$C$5)/((1+Параметры!$C$6/800)^Параметры!$C$5-1)),\"\")","v":""}]
[{"$f":"IF(A465>=Параметры!$C$5,\"\",A465+1)","v":""},{"$f":"IF(A466<>\"\",IF(Кэшфло!$B$1*(Параметры!$C$6/800*(1+Параметры!$C$6/800)^Параметры!$C$5)/((1+Параметры!$C$6/800)^Параметры!$C$5-1)<(Параметры!$C$3-Параметры!$C$3*Параметры!$C$4)/Параметры!$C$5,(Параметры!$C$3-Параметры!$C$3*Параметры!$C$4)/Параметры!$C$5, Кэшфло!$B$1*(Параметры!$C$6/800*(1+Параметры!$C$6/800)^Параметры!$C$5)/((1+Параметры!$C$6/800)^Параметры!$C$5-1)),\"\")","v":""}]
[{"$f":"IF(A466>=Параметры!$C$5,\"\",A466+1)","v":""},{"$f":"IF(A467<>\"\",IF(Кэшфло!$B$1*(Параметры!$C$6/800*(1+Параметры!$C$6/800)^Параметры!$C$5)/((1+Параметры!$C$6/800)^Параметры!$C$5-1)<(Параметры!$C$3-Параметры!$C$3*Параметры!$C$4)/Параметры!$C$5,(Параметры!$C$3-Параметры!$C$3*Параметры!$C$4)/Параметры!$C$5, Кэшфло!$B$1*(Параметры!$C$6/800*(1+Параметры!$C$6/800)^Параметры!$C$5)/((1+Параметры!$C$6/800)^Параметры!$C$5-1)),\"\")","v":""}]
[{"$f":"IF(A467>=Параметры!$C$5,\"\",A467+1)","v":""},{"$f":"IF(A468<>\"\",IF(Кэшфло!$B$1*(Параметры!$C$6/800*(1+Параметры!$C$6/800)^Параметры!$C$5)/((1+Параметры!$C$6/800)^Параметры!$C$5-1)<(Параметры!$C$3-Параметры!$C$3*Параметры!$C$4)/Параметры!$C$5,(Параметры!$C$3-Параметры!$C$3*Параметры!$C$4)/Параметры!$C$5, Кэшфло!$B$1*(Параметры!$C$6/800*(1+Параметры!$C$6/800)^Параметры!$C$5)/((1+Параметры!$C$6/800)^Параметры!$C$5-1)),\"\")","v":""}]
[{"$f":"IF(A468>=Параметры!$C$5,\"\",A468+1)","v":""},{"$f":"IF(A469<>\"\",IF(Кэшфло!$B$1*(Параметры!$C$6/800*(1+Параметры!$C$6/800)^Параметры!$C$5)/((1+Параметры!$C$6/800)^Параметры!$C$5-1)<(Параметры!$C$3-Параметры!$C$3*Параметры!$C$4)/Параметры!$C$5,(Параметры!$C$3-Параметры!$C$3*Параметры!$C$4)/Параметры!$C$5, Кэшфло!$B$1*(Параметры!$C$6/800*(1+Параметры!$C$6/800)^Параметры!$C$5)/((1+Параметры!$C$6/800)^Параметры!$C$5-1)),\"\")","v":""}]
[{"$f":"IF(A469>=Параметры!$C$5,\"\",A469+1)","v":""},{"$f":"IF(A470<>\"\",IF(Кэшфло!$B$1*(Параметры!$C$6/800*(1+Параметры!$C$6/800)^Параметры!$C$5)/((1+Параметры!$C$6/800)^Параметры!$C$5-1)<(Параметры!$C$3-Параметры!$C$3*Параметры!$C$4)/Параметры!$C$5,(Параметры!$C$3-Параметры!$C$3*Параметры!$C$4)/Параметры!$C$5, Кэшфло!$B$1*(Параметры!$C$6/800*(1+Параметры!$C$6/800)^Параметры!$C$5)/((1+Параметры!$C$6/800)^Параметры!$C$5-1)),\"\")","v":""}]
[{"$f":"IF(A470>=Параметры!$C$5,\"\",A470+1)","v":""},{"$f":"IF(A471<>\"\",IF(Кэшфло!$B$1*(Параметры!$C$6/800*(1+Параметры!$C$6/800)^Параметры!$C$5)/((1+Параметры!$C$6/800)^Параметры!$C$5-1)<(Параметры!$C$3-Параметры!$C$3*Параметры!$C$4)/Параметры!$C$5,(Параметры!$C$3-Параметры!$C$3*Параметры!$C$4)/Параметры!$C$5, Кэшфло!$B$1*(Параметры!$C$6/800*(1+Параметры!$C$6/800)^Параметры!$C$5)/((1+Параметры!$C$6/800)^Параметры!$C$5-1)),\"\")","v":""}]
[{"$f":"IF(A471>=Параметры!$C$5,\"\",A471+1)","v":""},{"$f":"IF(A472<>\"\",IF(Кэшфло!$B$1*(Параметры!$C$6/800*(1+Параметры!$C$6/800)^Параметры!$C$5)/((1+Параметры!$C$6/800)^Параметры!$C$5-1)<(Параметры!$C$3-Параметры!$C$3*Параметры!$C$4)/Параметры!$C$5,(Параметры!$C$3-Параметры!$C$3*Параметры!$C$4)/Параметры!$C$5, Кэшфло!$B$1*(Параметры!$C$6/800*(1+Параметры!$C$6/800)^Параметры!$C$5)/((1+Параметры!$C$6/800)^Параметры!$C$5-1)),\"\")","v":""}]
[{"$f":"IF(A472>=Параметры!$C$5,\"\",A472+1)","v":""},{"$f":"IF(A473<>\"\",IF(Кэшфло!$B$1*(Параметры!$C$6/800*(1+Параметры!$C$6/800)^Параметры!$C$5)/((1+Параметры!$C$6/800)^Параметры!$C$5-1)<(Параметры!$C$3-Параметры!$C$3*Параметры!$C$4)/Параметры!$C$5,(Параметры!$C$3-Параметры!$C$3*Параметры!$C$4)/Параметры!$C$5, Кэшфло!$B$1*(Параметры!$C$6/800*(1+Параметры!$C$6/800)^Параметры!$C$5)/((1+Параметры!$C$6/800)^Параметры!$C$5-1)),\"\")","v":""}]
[{"$f":"IF(A473>=Параметры!$C$5,\"\",A473+1)","v":""},{"$f":"IF(A474<>\"\",IF(Кэшфло!$B$1*(Параметры!$C$6/800*(1+Параметры!$C$6/800)^Параметры!$C$5)/((1+Параметры!$C$6/800)^Параметры!$C$5-1)<(Параметры!$C$3-Параметры!$C$3*Параметры!$C$4)/Параметры!$C$5,(Параметры!$C$3-Параметры!$C$3*Параметры!$C$4)/Параметры!$C$5, Кэшфло!$B$1*(Параметры!$C$6/800*(1+Параметры!$C$6/800)^Параметры!$C$5)/((1+Параметры!$C$6/800)^Параметры!$C$5-1)),\"\")","v":""}]
[{"$f":"IF(A474>=Параметры!$C$5,\"\",A474+1)","v":""},{"$f":"IF(A475<>\"\",IF(Кэшфло!$B$1*(Параметры!$C$6/800*(1+Параметры!$C$6/800)^Параметры!$C$5)/((1+Параметры!$C$6/800)^Параметры!$C$5-1)<(Параметры!$C$3-Параметры!$C$3*Параметры!$C$4)/Параметры!$C$5,(Параметры!$C$3-Параметры!$C$3*Параметры!$C$4)/Параметры!$C$5, Кэшфло!$B$1*(Параметры!$C$6/800*(1+Параметры!$C$6/800)^Параметры!$C$5)/((1+Параметры!$C$6/800)^Параметры!$C$5-1)),\"\")","v":""}]
[{"$f":"IF(A475>=Параметры!$C$5,\"\",A475+1)","v":""},{"$f":"IF(A476<>\"\",IF(Кэшфло!$B$1*(Параметры!$C$6/800*(1+Параметры!$C$6/800)^Параметры!$C$5)/((1+Параметры!$C$6/800)^Параметры!$C$5-1)<(Параметры!$C$3-Параметры!$C$3*Параметры!$C$4)/Параметры!$C$5,(Параметры!$C$3-Параметры!$C$3*Параметры!$C$4)/Параметры!$C$5, Кэшфло!$B$1*(Параметры!$C$6/800*(1+Параметры!$C$6/800)^Параметры!$C$5)/((1+Параметры!$C$6/800)^Параметры!$C$5-1)),\"\")","v":""}]
[{"$f":"IF(A476>=Параметры!$C$5,\"\",A476+1)","v":""},{"$f":"IF(A477<>\"\",IF(Кэшфло!$B$1*(Параметры!$C$6/800*(1+Параметры!$C$6/800)^Параметры!$C$5)/((1+Параметры!$C$6/800)^Параметры!$C$5-1)<(Параметры!$C$3-Параметры!$C$3*Параметры!$C$4)/Параметры!$C$5,(Параметры!$C$3-Параметры!$C$3*Параметры!$C$4)/Параметры!$C$5, Кэшфло!$B$1*(Параметры!$C$6/800*(1+Параметры!$C$6/800)^Параметры!$C$5)/((1+Параметры!$C$6/800)^Параметры!$C$5-1)),\"\")","v":""}]
[{"$f":"IF(A477>=Параметры!$C$5,\"\",A477+1)","v":""},{"$f":"IF(A478<>\"\",IF(Кэшфло!$B$1*(Параметры!$C$6/800*(1+Параметры!$C$6/800)^Параметры!$C$5)/((1+Параметры!$C$6/800)^Параметры!$C$5-1)<(Параметры!$C$3-Параметры!$C$3*Параметры!$C$4)/Параметры!$C$5,(Параметры!$C$3-Параметры!$C$3*Параметры!$C$4)/Параметры!$C$5, Кэшфло!$B$1*(Параметры!$C$6/800*(1+Параметры!$C$6/800)^Параметры!$C$5)/((1+Параметры!$C$6/800)^Параметры!$C$5-1)),\"\")","v":""}]
[{"$f":"IF(A478>=Параметры!$C$5,\"\",A478+1)","v":""},{"$f":"IF(A479<>\"\",IF(Кэшфло!$B$1*(Параметры!$C$6/800*(1+Параметры!$C$6/800)^Параметры!$C$5)/((1+Параметры!$C$6/800)^Параметры!$C$5-1)<(Параметры!$C$3-Параметры!$C$3*Параметры!$C$4)/Параметры!$C$5,(Параметры!$C$3-Параметры!$C$3*Параметры!$C$4)/Параметры!$C$5, Кэшфло!$B$1*(Параметры!$C$6/800*(1+Параметры!$C$6/800)^Параметры!$C$5)/((1+Параметры!$C$6/800)^Параметры!$C$5-1)),\"\")","v":""}]
[{"$f":"IF(A479>=Параметры!$C$5,\"\",A479+1)","v":""},{"$f":"IF(A480<>\"\",IF(Кэшфло!$B$1*(Параметры!$C$6/800*(1+Параметры!$C$6/800)^Параметры!$C$5)/((1+Параметры!$C$6/800)^Параметры!$C$5-1)<(Параметры!$C$3-Параметры!$C$3*Параметры!$C$4)/Параметры!$C$5,(Параметры!$C$3-Параметры!$C$3*Параметры!$C$4)/Параметры!$C$5, Кэшфло!$B$1*(Параметры!$C$6/800*(1+Параметры!$C$6/800)^Параметры!$C$5)/((1+Параметры!$C$6/800)^Параметры!$C$5-1)),\"\")","v":""}]
[{"$f":"IF(A480>=Параметры!$C$5,\"\",A480+1)","v":""},{"$f":"IF(A481<>\"\",IF(Кэшфло!$B$1*(Параметры!$C$6/800*(1+Параметры!$C$6/800)^Параметры!$C$5)/((1+Параметры!$C$6/800)^Параметры!$C$5-1)<(Параметры!$C$3-Параметры!$C$3*Параметры!$C$4)/Параметры!$C$5,(Параметры!$C$3-Параметры!$C$3*Параметры!$C$4)/Параметры!$C$5, Кэшфло!$B$1*(Параметры!$C$6/800*(1+Параметры!$C$6/800)^Параметры!$C$5)/((1+Параметры!$C$6/800)^Параметры!$C$5-1)),\"\")","v":""}]
[{"$f":"IF(A481>=Параметры!$C$5,\"\",A481+1)","v":""},{"$f":"IF(A482<>\"\",IF(Кэшфло!$B$1*(Параметры!$C$6/800*(1+Параметры!$C$6/800)^Параметры!$C$5)/((1+Параметры!$C$6/800)^Параметры!$C$5-1)<(Параметры!$C$3-Параметры!$C$3*Параметры!$C$4)/Параметры!$C$5,(Параметры!$C$3-Параметры!$C$3*Параметры!$C$4)/Параметры!$C$5, Кэшфло!$B$1*(Параметры!$C$6/800*(1+Параметры!$C$6/800)^Параметры!$C$5)/((1+Параметры!$C$6/800)^Параметры!$C$5-1)),\"\")","v":""}]
[{"$f":"IF(A482>=Параметры!$C$5,\"\",A482+1)","v":""},{"$f":"IF(A483<>\"\",IF(Кэшфло!$B$1*(Параметры!$C$6/800*(1+Параметры!$C$6/800)^Параметры!$C$5)/((1+Параметры!$C$6/800)^Параметры!$C$5-1)<(Параметры!$C$3-Параметры!$C$3*Параметры!$C$4)/Параметры!$C$5,(Параметры!$C$3-Параметры!$C$3*Параметры!$C$4)/Параметры!$C$5, Кэшфло!$B$1*(Параметры!$C$6/800*(1+Параметры!$C$6/800)^Параметры!$C$5)/((1+Параметры!$C$6/800)^Параметры!$C$5-1)),\"\")","v":""}]
[{"$f":"IF(A483>=Параметры!$C$5,\"\",A483+1)","v":""},{"$f":"IF(A484<>\"\",IF(Кэшфло!$B$1*(Параметры!$C$6/800*(1+Параметры!$C$6/800)^Параметры!$C$5)/((1+Параметры!$C$6/800)^Параметры!$C$5-1)<(Параметры!$C$3-Параметры!$C$3*Параметры!$C$4)/Параметры!$C$5,(Параметры!$C$3-Параметры!$C$3*Параметры!$C$4)/Параметры!$C$5, Кэшфло!$B$1*(Параметры!$C$6/800*(1+Параметры!$C$6/800)^Параметры!$C$5)/((1+Параметры!$C$6/800)^Параметры!$C$5-1)),\"\")","v":""}]
[{"$f":"IF(A484>=Параметры!$C$5,\"\",A484+1)","v":""},{"$f":"IF(A485<>\"\",IF(Кэшфло!$B$1*(Параметры!$C$6/800*(1+Параметры!$C$6/800)^Параметры!$C$5)/((1+Параметры!$C$6/800)^Параметры!$C$5-1)<(Параметры!$C$3-Параметры!$C$3*Параметры!$C$4)/Параметры!$C$5,(Параметры!$C$3-Параметры!$C$3*Параметры!$C$4)/Параметры!$C$5, Кэшфло!$B$1*(Параметры!$C$6/800*(1+Параметры!$C$6/800)^Параметры!$C$5)/((1+Параметры!$C$6/800)^Параметры!$C$5-1)),\"\")","v":""}]
[{"$f":"IF(A485>=Параметры!$C$5,\"\",A485+1)","v":""},{"$f":"IF(A486<>\"\",IF(Кэшфло!$B$1*(Параметры!$C$6/800*(1+Параметры!$C$6/800)^Параметры!$C$5)/((1+Параметры!$C$6/800)^Параметры!$C$5-1)<(Параметры!$C$3-Параметры!$C$3*Параметры!$C$4)/Параметры!$C$5,(Параметры!$C$3-Параметры!$C$3*Параметры!$C$4)/Параметры!$C$5, Кэшфло!$B$1*(Параметры!$C$6/800*(1+Параметры!$C$6/800)^Параметры!$C$5)/((1+Параметры!$C$6/800)^Параметры!$C$5-1)),\"\")","v":""}]
[{"$f":"IF(A486>=Параметры!$C$5,\"\",A486+1)","v":""},{"$f":"IF(A487<>\"\",IF(Кэшфло!$B$1*(Параметры!$C$6/800*(1+Параметры!$C$6/800)^Параметры!$C$5)/((1+Параметры!$C$6/800)^Параметры!$C$5-1)<(Параметры!$C$3-Параметры!$C$3*Параметры!$C$4)/Параметры!$C$5,(Параметры!$C$3-Параметры!$C$3*Параметры!$C$4)/Параметры!$C$5, Кэшфло!$B$1*(Параметры!$C$6/800*(1+Параметры!$C$6/800)^Параметры!$C$5)/((1+Параметры!$C$6/800)^Параметры!$C$5-1)),\"\")","v":""}]
[{"$f":"IF(A487>=Параметры!$C$5,\"\",A487+1)","v":""},{"$f":"IF(A488<>\"\",IF(Кэшфло!$B$1*(Параметры!$C$6/800*(1+Параметры!$C$6/800)^Параметры!$C$5)/((1+Параметры!$C$6/800)^Параметры!$C$5-1)<(Параметры!$C$3-Параметры!$C$3*Параметры!$C$4)/Параметры!$C$5,(Параметры!$C$3-Параметры!$C$3*Параметры!$C$4)/Параметры!$C$5, Кэшфло!$B$1*(Параметры!$C$6/800*(1+Параметры!$C$6/800)^Параметры!$C$5)/((1+Параметры!$C$6/800)^Параметры!$C$5-1)),\"\")","v":""}]
[{"$f":"IF(A488>=Параметры!$C$5,\"\",A488+1)","v":""},{"$f":"IF(A489<>\"\",IF(Кэшфло!$B$1*(Параметры!$C$6/800*(1+Параметры!$C$6/800)^Параметры!$C$5)/((1+Параметры!$C$6/800)^Параметры!$C$5-1)<(Параметры!$C$3-Параметры!$C$3*Параметры!$C$4)/Параметры!$C$5,(Параметры!$C$3-Параметры!$C$3*Параметры!$C$4)/Параметры!$C$5, Кэшфло!$B$1*(Параметры!$C$6/800*(1+Параметры!$C$6/800)^Параметры!$C$5)/((1+Параметры!$C$6/800)^Параметры!$C$5-1)),\"\")","v":""}]
[{"$f":"IF(A489>=Параметры!$C$5,\"\",A489+1)","v":""},{"$f":"IF(A490<>\"\",IF(Кэшфло!$B$1*(Параметры!$C$6/800*(1+Параметры!$C$6/800)^Параметры!$C$5)/((1+Параметры!$C$6/800)^Параметры!$C$5-1)<(Параметры!$C$3-Параметры!$C$3*Параметры!$C$4)/Параметры!$C$5,(Параметры!$C$3-Параметры!$C$3*Параметры!$C$4)/Параметры!$C$5, Кэшфло!$B$1*(Параметры!$C$6/800*(1+Параметры!$C$6/800)^Параметры!$C$5)/((1+Параметры!$C$6/800)^Параметры!$C$5-1)),\"\")","v":""}]
[{"$f":"IF(A490>=Параметры!$C$5,\"\",A490+1)","v":""},{"$f":"IF(A491<>\"\",IF(Кэшфло!$B$1*(Параметры!$C$6/800*(1+Параметры!$C$6/800)^Параметры!$C$5)/((1+Параметры!$C$6/800)^Параметры!$C$5-1)<(Параметры!$C$3-Параметры!$C$3*Параметры!$C$4)/Параметры!$C$5,(Параметры!$C$3-Параметры!$C$3*Параметры!$C$4)/Параметры!$C$5, Кэшфло!$B$1*(Параметры!$C$6/800*(1+Параметры!$C$6/800)^Параметры!$C$5)/((1+Параметры!$C$6/800)^Параметры!$C$5-1)),\"\")","v":""}]
[{"$f":"IF(A491>=Параметры!$C$5,\"\",A491+1)","v":""},{"$f":"IF(A492<>\"\",IF(Кэшфло!$B$1*(Параметры!$C$6/800*(1+Параметры!$C$6/800)^Параметры!$C$5)/((1+Параметры!$C$6/800)^Параметры!$C$5-1)<(Параметры!$C$3-Параметры!$C$3*Параметры!$C$4)/Параметры!$C$5,(Параметры!$C$3-Параметры!$C$3*Параметры!$C$4)/Параметры!$C$5, Кэшфло!$B$1*(Параметры!$C$6/800*(1+Параметры!$C$6/800)^Параметры!$C$5)/((1+Параметры!$C$6/800)^Параметры!$C$5-1)),\"\")","v":""}]
[{"$f":"IF(A492>=Параметры!$C$5,\"\",A492+1)","v":""},{"$f":"IF(A493<>\"\",IF(Кэшфло!$B$1*(Параметры!$C$6/800*(1+Параметры!$C$6/800)^Параметры!$C$5)/((1+Параметры!$C$6/800)^Параметры!$C$5-1)<(Параметры!$C$3-Параметры!$C$3*Параметры!$C$4)/Параметры!$C$5,(Параметры!$C$3-Параметры!$C$3*Параметры!$C$4)/Параметры!$C$5, Кэшфло!$B$1*(Параметры!$C$6/800*(1+Параметры!$C$6/800)^Параметры!$C$5)/((1+Параметры!$C$6/800)^Параметры!$C$5-1)),\"\")","v":""}]
[{"$f":"IF(A493>=Параметры!$C$5,\"\",A493+1)","v":""},{"$f":"IF(A494<>\"\",IF(Кэшфло!$B$1*(Параметры!$C$6/800*(1+Параметры!$C$6/800)^Параметры!$C$5)/((1+Параметры!$C$6/800)^Параметры!$C$5-1)<(Параметры!$C$3-Параметры!$C$3*Параметры!$C$4)/Параметры!$C$5,(Параметры!$C$3-Параметры!$C$3*Параметры!$C$4)/Параметры!$C$5, Кэшфло!$B$1*(Параметры!$C$6/800*(1+Параметры!$C$6/800)^Параметры!$C$5)/((1+Параметры!$C$6/800)^Параметры!$C$5-1)),\"\")","v":""}]
[{"$f":"IF(A494>=Параметры!$C$5,\"\",A494+1)","v":""},{"$f":"IF(A495<>\"\",IF(Кэшфло!$B$1*(Параметры!$C$6/800*(1+Параметры!$C$6/800)^Параметры!$C$5)/((1+Параметры!$C$6/800)^Параметры!$C$5-1)<(Параметры!$C$3-Параметры!$C$3*Параметры!$C$4)/Параметры!$C$5,(Параметры!$C$3-Параметры!$C$3*Параметры!$C$4)/Параметры!$C$5, Кэшфло!$B$1*(Параметры!$C$6/800*(1+Параметры!$C$6/800)^Параметры!$C$5)/((1+Параметры!$C$6/800)^Параметры!$C$5-1)),\"\")","v":""}]
[{"$f":"IF(A495>=Параметры!$C$5,\"\",A495+1)","v":""},{"$f":"IF(A496<>\"\",IF(Кэшфло!$B$1*(Параметры!$C$6/800*(1+Параметры!$C$6/800)^Параметры!$C$5)/((1+Параметры!$C$6/800)^Параметры!$C$5-1)<(Параметры!$C$3-Параметры!$C$3*Параметры!$C$4)/Параметры!$C$5,(Параметры!$C$3-Параметры!$C$3*Параметры!$C$4)/Параметры!$C$5, Кэшфло!$B$1*(Параметры!$C$6/800*(1+Параметры!$C$6/800)^Параметры!$C$5)/((1+Параметры!$C$6/800)^Параметры!$C$5-1)),\"\")","v":""}]
[{"$f":"IF(A496>=Параметры!$C$5,\"\",A496+1)","v":""},{"$f":"IF(A497<>\"\",IF(Кэшфло!$B$1*(Параметры!$C$6/800*(1+Параметры!$C$6/800)^Параметры!$C$5)/((1+Параметры!$C$6/800)^Параметры!$C$5-1)<(Параметры!$C$3-Параметры!$C$3*Параметры!$C$4)/Параметры!$C$5,(Параметры!$C$3-Параметры!$C$3*Параметры!$C$4)/Параметры!$C$5, Кэшфло!$B$1*(Параметры!$C$6/800*(1+Параметры!$C$6/800)^Параметры!$C$5)/((1+Параметры!$C$6/800)^Параметры!$C$5-1)),\"\")","v":""}]
[{"$f":"IF(A497>=Параметры!$C$5,\"\",A497+1)","v":""},{"$f":"IF(A498<>\"\",IF(Кэшфло!$B$1*(Параметры!$C$6/800*(1+Параметры!$C$6/800)^Параметры!$C$5)/((1+Параметры!$C$6/800)^Параметры!$C$5-1)<(Параметры!$C$3-Параметры!$C$3*Параметры!$C$4)/Параметры!$C$5,(Параметры!$C$3-Параметры!$C$3*Параметры!$C$4)/Параметры!$C$5, Кэшфло!$B$1*(Параметры!$C$6/800*(1+Параметры!$C$6/800)^Параметры!$C$5)/((1+Параметры!$C$6/800)^Параметры!$C$5-1)),\"\")","v":""}]
[{"$f":"IF(A498>=Параметры!$C$5,\"\",A498+1)","v":""},{"$f":"IF(A499<>\"\",IF(Кэшфло!$B$1*(Параметры!$C$6/800*(1+Параметры!$C$6/800)^Параметры!$C$5)/((1+Параметры!$C$6/800)^Параметры!$C$5-1)<(Параметры!$C$3-Параметры!$C$3*Параметры!$C$4)/Параметры!$C$5,(Параметры!$C$3-Параметры!$C$3*Параметры!$C$4)/Параметры!$C$5, Кэшфло!$B$1*(Параметры!$C$6/800*(1+Параметры!$C$6/800)^Параметры!$C$5)/((1+Параметры!$C$6/800)^Параметры!$C$5-1)),\"\")","v":""}]
[{"$f":"IF(A499>=Параметры!$C$5,\"\",A499+1)","v":""},{"$f":"IF(A500<>\"\",IF(Кэшфло!$B$1*(Параметры!$C$6/800*(1+Параметры!$C$6/800)^Параметры!$C$5)/((1+Параметры!$C$6/800)^Параметры!$C$5-1)<(Параметры!$C$3-Параметры!$C$3*Параметры!$C$4)/Параметры!$C$5,(Параметры!$C$3-Параметры!$C$3*Параметры!$C$4)/Параметры!$C$5, Кэшфло!$B$1*(Параметры!$C$6/800*(1+Параметры!$C$6/800)^Параметры!$C$5)/((1+Параметры!$C$6/800)^Параметры!$C$5-1)),\"\")","v":""}]
[{"$f":"IF(A500>=Параметры!$C$5,\"\",A500+1)","v":""},{"$f":"IF(A501<>\"\",IF(Кэшфло!$B$1*(Параметры!$C$6/800*(1+Параметры!$C$6/800)^Параметры!$C$5)/((1+Параметры!$C$6/800)^Параметры!$C$5-1)<(Параметры!$C$3-Параметры!$C$3*Параметры!$C$4)/Параметры!$C$5,(Параметры!$C$3-Параметры!$C$3*Параметры!$C$4)/Параметры!$C$5, Кэшфло!$B$1*(Параметры!$C$6/800*(1+Параметры!$C$6/800)^Параметры!$C$5)/((1+Параметры!$C$6/800)^Параметры!$C$5-1)),\"\")","v":""}]
[{"$f":"IF(A501>=Параметры!$C$5,\"\",A501+1)","v":""},{"$f":"IF(A502<>\"\",IF(Кэшфло!$B$1*(Параметры!$C$6/800*(1+Параметры!$C$6/800)^Параметры!$C$5)/((1+Параметры!$C$6/800)^Параметры!$C$5-1)<(Параметры!$C$3-Параметры!$C$3*Параметры!$C$4)/Параметры!$C$5,(Параметры!$C$3-Параметры!$C$3*Параметры!$C$4)/Параметры!$C$5, Кэшфло!$B$1*(Параметры!$C$6/800*(1+Параметры!$C$6/800)^Параметры!$C$5)/((1+Параметры!$C$6/800)^Параметры!$C$5-1)),\"\")","v":""}]
[{"$f":"IF(A502>=Параметры!$C$5,\"\",A502+1)","v":""},{"$f":"IF(A503<>\"\",IF(Кэшфло!$B$1*(Параметры!$C$6/800*(1+Параметры!$C$6/800)^Параметры!$C$5)/((1+Параметры!$C$6/800)^Параметры!$C$5-1)<(Параметры!$C$3-Параметры!$C$3*Параметры!$C$4)/Параметры!$C$5,(Параметры!$C$3-Параметры!$C$3*Параметры!$C$4)/Параметры!$C$5, Кэшфло!$B$1*(Параметры!$C$6/800*(1+Параметры!$C$6/800)^Параметры!$C$5)/((1+Параметры!$C$6/800)^Параметры!$C$5-1)),\"\")","v":""}]
[{"$f":"IF(A503>=Параметры!$C$5,\"\",A503+1)","v":""},{"$f":"IF(A504<>\"\",IF(Кэшфло!$B$1*(Параметры!$C$6/800*(1+Параметры!$C$6/800)^Параметры!$C$5)/((1+Параметры!$C$6/800)^Параметры!$C$5-1)<(Параметры!$C$3-Параметры!$C$3*Параметры!$C$4)/Параметры!$C$5,(Параметры!$C$3-Параметры!$C$3*Параметры!$C$4)/Параметры!$C$5, Кэшфло!$B$1*(Параметры!$C$6/800*(1+Параметры!$C$6/800)^Параметры!$C$5)/((1+Параметры!$C$6/800)^Параметры!$C$5-1)),\"\")","v":""}]
[{"$f":"IF(A504>=Параметры!$C$5,\"\",A504+1)","v":""},{"$f":"IF(A505<>\"\",IF(Кэшфло!$B$1*(Параметры!$C$6/800*(1+Параметры!$C$6/800)^Параметры!$C$5)/((1+Параметры!$C$6/800)^Параметры!$C$5-1)<(Параметры!$C$3-Параметры!$C$3*Параметры!$C$4)/Параметры!$C$5,(Параметры!$C$3-Параметры!$C$3*Параметры!$C$4)/Параметры!$C$5, Кэшфло!$B$1*(Параметры!$C$6/800*(1+Параметры!$C$6/800)^Параметры!$C$5)/((1+Параметры!$C$6/800)^Параметры!$C$5-1)),\"\")","v":""}]
[{"$f":"IF(A505>=Параметры!$C$5,\"\",A505+1)","v":""},{"$f":"IF(A506<>\"\",IF(Кэшфло!$B$1*(Параметры!$C$6/800*(1+Параметры!$C$6/800)^Параметры!$C$5)/((1+Параметры!$C$6/800)^Параметры!$C$5-1)<(Параметры!$C$3-Параметры!$C$3*Параметры!$C$4)/Параметры!$C$5,(Параметры!$C$3-Параметры!$C$3*Параметры!$C$4)/Параметры!$C$5, Кэшфло!$B$1*(Параметры!$C$6/800*(1+Параметры!$C$6/800)^Параметры!$C$5)/((1+Параметры!$C$6/800)^Параметры!$C$5-1)),\"\")","v":""}]
[{"$f":"IF(A506>=Параметры!$C$5,\"\",A506+1)","v":""},{"$f":"IF(A507<>\"\",IF(Кэшфло!$B$1*(Параметры!$C$6/800*(1+Параметры!$C$6/800)^Параметры!$C$5)/((1+Параметры!$C$6/800)^Параметры!$C$5-1)<(Параметры!$C$3-Параметры!$C$3*Параметры!$C$4)/Параметры!$C$5,(Параметры!$C$3-Параметры!$C$3*Параметры!$C$4)/Параметры!$C$5, Кэшфло!$B$1*(Параметры!$C$6/800*(1+Параметры!$C$6/800)^Параметры!$C$5)/((1+Параметры!$C$6/800)^Параметры!$C$5-1)),\"\")","v":""}]
[{"$f":"IF(A507>=Параметры!$C$5,\"\",A507+1)","v":""},{"$f":"IF(A508<>\"\",IF(Кэшфло!$B$1*(Параметры!$C$6/800*(1+Параметры!$C$6/800)^Параметры!$C$5)/((1+Параметры!$C$6/800)^Параметры!$C$5-1)<(Параметры!$C$3-Параметры!$C$3*Параметры!$C$4)/Параметры!$C$5,(Параметры!$C$3-Параметры!$C$3*Параметры!$C$4)/Параметры!$C$5, Кэшфло!$B$1*(Параметры!$C$6/800*(1+Параметры!$C$6/800)^Параметры!$C$5)/((1+Параметры!$C$6/800)^Параметры!$C$5-1)),\"\")","v":""}]
[{"$f":"IF(A508>=Параметры!$C$5,\"\",A508+1)","v":""},{"$f":"IF(A509<>\"\",IF(Кэшфло!$B$1*(Параметры!$C$6/800*(1+Параметры!$C$6/800)^Параметры!$C$5)/((1+Параметры!$C$6/800)^Параметры!$C$5-1)<(Параметры!$C$3-Параметры!$C$3*Параметры!$C$4)/Параметры!$C$5,(Параметры!$C$3-Параметры!$C$3*Параметры!$C$4)/Параметры!$C$5, Кэшфло!$B$1*(Параметры!$C$6/800*(1+Параметры!$C$6/800)^Параметры!$C$5)/((1+Параметры!$C$6/800)^Параметры!$C$5-1)),\"\")","v":""}]
[{"$f":"IF(A509>=Параметры!$C$5,\"\",A509+1)","v":""},{"$f":"IF(A510<>\"\",IF(Кэшфло!$B$1*(Параметры!$C$6/800*(1+Параметры!$C$6/800)^Параметры!$C$5)/((1+Параметры!$C$6/800)^Параметры!$C$5-1)<(Параметры!$C$3-Параметры!$C$3*Параметры!$C$4)/Параметры!$C$5,(Параметры!$C$3-Параметры!$C$3*Параметры!$C$4)/Параметры!$C$5, Кэшфло!$B$1*(Параметры!$C$6/800*(1+Параметры!$C$6/800)^Параметры!$C$5)/((1+Параметры!$C$6/800)^Параметры!$C$5-1)),\"\")","v":""}]
[{"$f":"IF(A510>=Параметры!$C$5,\"\",A510+1)","v":""},{"$f":"IF(A511<>\"\",IF(Кэшфло!$B$1*(Параметры!$C$6/800*(1+Параметры!$C$6/800)^Параметры!$C$5)/((1+Параметры!$C$6/800)^Параметры!$C$5-1)<(Параметры!$C$3-Параметры!$C$3*Параметры!$C$4)/Параметры!$C$5,(Параметры!$C$3-Параметры!$C$3*Параметры!$C$4)/Параметры!$C$5, Кэшфло!$B$1*(Параметры!$C$6/800*(1+Параметры!$C$6/800)^Параметры!$C$5)/((1+Параметры!$C$6/800)^Параметры!$C$5-1)),\"\")","v":""}]
[{"$f":"IF(A511>=Параметры!$C$5,\"\",A511+1)","v":""},{"$f":"IF(A512<>\"\",IF(Кэшфло!$B$1*(Параметры!$C$6/800*(1+Параметры!$C$6/800)^Параметры!$C$5)/((1+Параметры!$C$6/800)^Параметры!$C$5-1)<(Параметры!$C$3-Параметры!$C$3*Параметры!$C$4)/Параметры!$C$5,(Параметры!$C$3-Параметры!$C$3*Параметры!$C$4)/Параметры!$C$5, Кэшфло!$B$1*(Параметры!$C$6/800*(1+Параметры!$C$6/800)^Параметры!$C$5)/((1+Параметры!$C$6/800)^Параметры!$C$5-1)),\"\")","v":""}]
[{"$f":"IF(A512>=Параметры!$C$5,\"\",A512+1)","v":""},{"$f":"IF(A513<>\"\",IF(Кэшфло!$B$1*(Параметры!$C$6/800*(1+Параметры!$C$6/800)^Параметры!$C$5)/((1+Параметры!$C$6/800)^Параметры!$C$5-1)<(Параметры!$C$3-Параметры!$C$3*Параметры!$C$4)/Параметры!$C$5,(Параметры!$C$3-Параметры!$C$3*Параметры!$C$4)/Параметры!$C$5, Кэшфло!$B$1*(Параметры!$C$6/800*(1+Параметры!$C$6/800)^Параметры!$C$5)/((1+Параметры!$C$6/800)^Параметры!$C$5-1)),\"\")","v":""}]
[{"$f":"IF(A513>=Параметры!$C$5,\"\",A513+1)","v":""},{"$f":"IF(A514<>\"\",IF(Кэшфло!$B$1*(Параметры!$C$6/800*(1+Параметры!$C$6/800)^Параметры!$C$5)/((1+Параметры!$C$6/800)^Параметры!$C$5-1)<(Параметры!$C$3-Параметры!$C$3*Параметры!$C$4)/Параметры!$C$5,(Параметры!$C$3-Параметры!$C$3*Параметры!$C$4)/Параметры!$C$5, Кэшфло!$B$1*(Параметры!$C$6/800*(1+Параметры!$C$6/800)^Параметры!$C$5)/((1+Параметры!$C$6/800)^Параметры!$C$5-1)),\"\")","v":""}]
[{"$f":"IF(A514>=Параметры!$C$5,\"\",A514+1)","v":""},{"$f":"IF(A515<>\"\",IF(Кэшфло!$B$1*(Параметры!$C$6/800*(1+Параметры!$C$6/800)^Параметры!$C$5)/((1+Параметры!$C$6/800)^Параметры!$C$5-1)<(Параметры!$C$3-Параметры!$C$3*Параметры!$C$4)/Параметры!$C$5,(Параметры!$C$3-Параметры!$C$3*Параметры!$C$4)/Параметры!$C$5, Кэшфло!$B$1*(Параметры!$C$6/800*(1+Параметры!$C$6/800)^Параметры!$C$5)/((1+Параметры!$C$6/800)^Параметры!$C$5-1)),\"\")","v":""}]
[{"$f":"IF(A515>=Параметры!$C$5,\"\",A515+1)","v":""},{"$f":"IF(A516<>\"\",IF(Кэшфло!$B$1*(Параметры!$C$6/800*(1+Параметры!$C$6/800)^Параметры!$C$5)/((1+Параметры!$C$6/800)^Параметры!$C$5-1)<(Параметры!$C$3-Параметры!$C$3*Параметры!$C$4)/Параметры!$C$5,(Параметры!$C$3-Параметры!$C$3*Параметры!$C$4)/Параметры!$C$5, Кэшфло!$B$1*(Параметры!$C$6/800*(1+Параметры!$C$6/800)^Параметры!$C$5)/((1+Параметры!$C$6/800)^Параметры!$C$5-1)),\"\")","v":""}]
[{"$f":"IF(A516>=Параметры!$C$5,\"\",A516+1)","v":""},{"$f":"IF(A517<>\"\",IF(Кэшфло!$B$1*(Параметры!$C$6/800*(1+Параметры!$C$6/800)^Параметры!$C$5)/((1+Параметры!$C$6/800)^Параметры!$C$5-1)<(Параметры!$C$3-Параметры!$C$3*Параметры!$C$4)/Параметры!$C$5,(Параметры!$C$3-Параметры!$C$3*Параметры!$C$4)/Параметры!$C$5, Кэшфло!$B$1*(Параметры!$C$6/800*(1+Параметры!$C$6/800)^Параметры!$C$5)/((1+Параметры!$C$6/800)^Параметры!$C$5-1)),\"\")","v":""}]
[{"$f":"IF(A517>=Параметры!$C$5,\"\",A517+1)","v":""},{"$f":"IF(A518<>\"\",IF(Кэшфло!$B$1*(Параметры!$C$6/800*(1+Параметры!$C$6/800)^Параметры!$C$5)/((1+Параметры!$C$6/800)^Параметры!$C$5-1)<(Параметры!$C$3-Параметры!$C$3*Параметры!$C$4)/Параметры!$C$5,(Параметры!$C$3-Параметры!$C$3*Параметры!$C$4)/Параметры!$C$5, Кэшфло!$B$1*(Параметры!$C$6/800*(1+Параметры!$C$6/800)^Параметры!$C$5)/((1+Параметры!$C$6/800)^Параметры!$C$5-1)),\"\")","v":""}]
[{"$f":"IF(A518>=Параметры!$C$5,\"\",A518+1)","v":""},{"$f":"IF(A519<>\"\",IF(Кэшфло!$B$1*(Параметры!$C$6/800*(1+Параметры!$C$6/800)^Параметры!$C$5)/((1+Параметры!$C$6/800)^Параметры!$C$5-1)<(Параметры!$C$3-Параметры!$C$3*Параметры!$C$4)/Параметры!$C$5,(Параметры!$C$3-Параметры!$C$3*Параметры!$C$4)/Параметры!$C$5, Кэшфло!$B$1*(Параметры!$C$6/800*(1+Параметры!$C$6/800)^Параметры!$C$5)/((1+Параметры!$C$6/800)^Параметры!$C$5-1)),\"\")","v":""}]
[{"$f":"IF(A519>=Параметры!$C$5,\"\",A519+1)","v":""},{"$f":"IF(A520<>\"\",IF(Кэшфло!$B$1*(Параметры!$C$6/800*(1+Параметры!$C$6/800)^Параметры!$C$5)/((1+Параметры!$C$6/800)^Параметры!$C$5-1)<(Параметры!$C$3-Параметры!$C$3*Параметры!$C$4)/Параметры!$C$5,(Параметры!$C$3-Параметры!$C$3*Параметры!$C$4)/Параметры!$C$5, Кэшфло!$B$1*(Параметры!$C$6/800*(1+Параметры!$C$6/800)^Параметры!$C$5)/((1+Параметры!$C$6/800)^Параметры!$C$5-1)),\"\")","v":""}]
[{"$f":"IF(A520>=Параметры!$C$5,\"\",A520+1)","v":""},{"$f":"IF(A521<>\"\",IF(Кэшфло!$B$1*(Параметры!$C$6/800*(1+Параметры!$C$6/800)^Параметры!$C$5)/((1+Параметры!$C$6/800)^Параметры!$C$5-1)<(Параметры!$C$3-Параметры!$C$3*Параметры!$C$4)/Параметры!$C$5,(Параметры!$C$3-Параметры!$C$3*Параметры!$C$4)/Параметры!$C$5, Кэшфло!$B$1*(Параметры!$C$6/800*(1+Параметры!$C$6/800)^Параметры!$C$5)/((1+Параметры!$C$6/800)^Параметры!$C$5-1)),\"\")","v":""}]
[{"$f":"IF(A521>=Параметры!$C$5,\"\",A521+1)","v":""},{"$f":"IF(A522<>\"\",IF(Кэшфло!$B$1*(Параметры!$C$6/800*(1+Параметры!$C$6/800)^Параметры!$C$5)/((1+Параметры!$C$6/800)^Параметры!$C$5-1)<(Параметры!$C$3-Параметры!$C$3*Параметры!$C$4)/Параметры!$C$5,(Параметры!$C$3-Параметры!$C$3*Параметры!$C$4)/Параметры!$C$5, Кэшфло!$B$1*(Параметры!$C$6/800*(1+Параметры!$C$6/800)^Параметры!$C$5)/((1+Параметры!$C$6/800)^Параметры!$C$5-1)),\"\")","v":""}]
[{"$f":"IF(A522>=Параметры!$C$5,\"\",A522+1)","v":""},{"$f":"IF(A523<>\"\",IF(Кэшфло!$B$1*(Параметры!$C$6/800*(1+Параметры!$C$6/800)^Параметры!$C$5)/((1+Параметры!$C$6/800)^Параметры!$C$5-1)<(Параметры!$C$3-Параметры!$C$3*Параметры!$C$4)/Параметры!$C$5,(Параметры!$C$3-Параметры!$C$3*Параметры!$C$4)/Параметры!$C$5, Кэшфло!$B$1*(Параметры!$C$6/800*(1+Параметры!$C$6/800)^Параметры!$C$5)/((1+Параметры!$C$6/800)^Параметры!$C$5-1)),\"\")","v":""}]
[{"$f":"IF(A523>=Параметры!$C$5,\"\",A523+1)","v":""},{"$f":"IF(A524<>\"\",IF(Кэшфло!$B$1*(Параметры!$C$6/800*(1+Параметры!$C$6/800)^Параметры!$C$5)/((1+Параметры!$C$6/800)^Параметры!$C$5-1)<(Параметры!$C$3-Параметры!$C$3*Параметры!$C$4)/Параметры!$C$5,(Параметры!$C$3-Параметры!$C$3*Параметры!$C$4)/Параметры!$C$5, Кэшфло!$B$1*(Параметры!$C$6/800*(1+Параметры!$C$6/800)^Параметры!$C$5)/((1+Параметры!$C$6/800)^Параметры!$C$5-1)),\"\")","v":""}]
[{"$f":"IF(A524>=Параметры!$C$5,\"\",A524+1)","v":""},{"$f":"IF(A525<>\"\",IF(Кэшфло!$B$1*(Параметры!$C$6/800*(1+Параметры!$C$6/800)^Параметры!$C$5)/((1+Параметры!$C$6/800)^Параметры!$C$5-1)<(Параметры!$C$3-Параметры!$C$3*Параметры!$C$4)/Параметры!$C$5,(Параметры!$C$3-Параметры!$C$3*Параметры!$C$4)/Параметры!$C$5, Кэшфло!$B$1*(Параметры!$C$6/800*(1+Параметры!$C$6/800)^Параметры!$C$5)/((1+Параметры!$C$6/800)^Параметры!$C$5-1)),\"\")","v":""}]
[{"$f":"IF(A525>=Параметры!$C$5,\"\",A525+1)","v":""},{"$f":"IF(A526<>\"\",IF(Кэшфло!$B$1*(Параметры!$C$6/800*(1+Параметры!$C$6/800)^Параметры!$C$5)/((1+Параметры!$C$6/800)^Параметры!$C$5-1)<(Параметры!$C$3-Параметры!$C$3*Параметры!$C$4)/Параметры!$C$5,(Параметры!$C$3-Параметры!$C$3*Параметры!$C$4)/Параметры!$C$5, Кэшфло!$B$1*(Параметры!$C$6/800*(1+Параметры!$C$6/800)^Параметры!$C$5)/((1+Параметры!$C$6/800)^Параметры!$C$5-1)),\"\")","v":""}]
[{"$f":"IF(A526>=Параметры!$C$5,\"\",A526+1)","v":""},{"$f":"IF(A527<>\"\",IF(Кэшфло!$B$1*(Параметры!$C$6/800*(1+Параметры!$C$6/800)^Параметры!$C$5)/((1+Параметры!$C$6/800)^Параметры!$C$5-1)<(Параметры!$C$3-Параметры!$C$3*Параметры!$C$4)/Параметры!$C$5,(Параметры!$C$3-Параметры!$C$3*Параметры!$C$4)/Параметры!$C$5, Кэшфло!$B$1*(Параметры!$C$6/800*(1+Параметры!$C$6/800)^Параметры!$C$5)/((1+Параметры!$C$6/800)^Параметры!$C$5-1)),\"\")","v":""}]
[{"$f":"IF(A527>=Параметры!$C$5,\"\",A527+1)","v":""},{"$f":"IF(A528<>\"\",IF(Кэшфло!$B$1*(Параметры!$C$6/800*(1+Параметры!$C$6/800)^Параметры!$C$5)/((1+Параметры!$C$6/800)^Параметры!$C$5-1)<(Параметры!$C$3-Параметры!$C$3*Параметры!$C$4)/Параметры!$C$5,(Параметры!$C$3-Параметры!$C$3*Параметры!$C$4)/Параметры!$C$5, Кэшфло!$B$1*(Параметры!$C$6/800*(1+Параметры!$C$6/800)^Параметры!$C$5)/((1+Параметры!$C$6/800)^Параметры!$C$5-1)),\"\")","v":""}]
[{"$f":"IF(A528>=Параметры!$C$5,\"\",A528+1)","v":""},{"$f":"IF(A529<>\"\",IF(Кэшфло!$B$1*(Параметры!$C$6/800*(1+Параметры!$C$6/800)^Параметры!$C$5)/((1+Параметры!$C$6/800)^Параметры!$C$5-1)<(Параметры!$C$3-Параметры!$C$3*Параметры!$C$4)/Параметры!$C$5,(Параметры!$C$3-Параметры!$C$3*Параметры!$C$4)/Параметры!$C$5, Кэшфло!$B$1*(Параметры!$C$6/800*(1+Параметры!$C$6/800)^Параметры!$C$5)/((1+Параметры!$C$6/800)^Параметры!$C$5-1)),\"\")","v":""}]
[{"$f":"IF(A529>=Параметры!$C$5,\"\",A529+1)","v":""},{"$f":"IF(A530<>\"\",IF(Кэшфло!$B$1*(Параметры!$C$6/800*(1+Параметры!$C$6/800)^Параметры!$C$5)/((1+Параметры!$C$6/800)^Параметры!$C$5-1)<(Параметры!$C$3-Параметры!$C$3*Параметры!$C$4)/Параметры!$C$5,(Параметры!$C$3-Параметры!$C$3*Параметры!$C$4)/Параметры!$C$5, Кэшфло!$B$1*(Параметры!$C$6/800*(1+Параметры!$C$6/800)^Параметры!$C$5)/((1+Параметры!$C$6/800)^Параметры!$C$5-1)),\"\")","v":""}]
[{"$f":"IF(A530>=Параметры!$C$5,\"\",A530+1)","v":""},{"$f":"IF(A531<>\"\",IF(Кэшфло!$B$1*(Параметры!$C$6/800*(1+Параметры!$C$6/800)^Параметры!$C$5)/((1+Параметры!$C$6/800)^Параметры!$C$5-1)<(Параметры!$C$3-Параметры!$C$3*Параметры!$C$4)/Параметры!$C$5,(Параметры!$C$3-Параметры!$C$3*Параметры!$C$4)/Параметры!$C$5, Кэшфло!$B$1*(Параметры!$C$6/800*(1+Параметры!$C$6/800)^Параметры!$C$5)/((1+Параметры!$C$6/800)^Параметры!$C$5-1)),\"\")","v":""}]
[{"$f":"IF(A531>=Параметры!$C$5,\"\",A531+1)","v":""},{"$f":"IF(A532<>\"\",IF(Кэшфло!$B$1*(Параметры!$C$6/800*(1+Параметры!$C$6/800)^Параметры!$C$5)/((1+Параметры!$C$6/800)^Параметры!$C$5-1)<(Параметры!$C$3-Параметры!$C$3*Параметры!$C$4)/Параметры!$C$5,(Параметры!$C$3-Параметры!$C$3*Параметры!$C$4)/Параметры!$C$5, Кэшфло!$B$1*(Параметры!$C$6/800*(1+Параметры!$C$6/800)^Параметры!$C$5)/((1+Параметры!$C$6/800)^Параметры!$C$5-1)),\"\")","v":""}]
[{"$f":"IF(A532>=Параметры!$C$5,\"\",A532+1)","v":""},{"$f":"IF(A533<>\"\",IF(Кэшфло!$B$1*(Параметры!$C$6/800*(1+Параметры!$C$6/800)^Параметры!$C$5)/((1+Параметры!$C$6/800)^Параметры!$C$5-1)<(Параметры!$C$3-Параметры!$C$3*Параметры!$C$4)/Параметры!$C$5,(Параметры!$C$3-Параметры!$C$3*Параметры!$C$4)/Параметры!$C$5, Кэшфло!$B$1*(Параметры!$C$6/800*(1+Параметры!$C$6/800)^Параметры!$C$5)/((1+Параметры!$C$6/800)^Параметры!$C$5-1)),\"\")","v":""}]
[{"$f":"IF(A533>=Параметры!$C$5,\"\",A533+1)","v":""},{"$f":"IF(A534<>\"\",IF(Кэшфло!$B$1*(Параметры!$C$6/800*(1+Параметры!$C$6/800)^Параметры!$C$5)/((1+Параметры!$C$6/800)^Параметры!$C$5-1)<(Параметры!$C$3-Параметры!$C$3*Параметры!$C$4)/Параметры!$C$5,(Параметры!$C$3-Параметры!$C$3*Параметры!$C$4)/Параметры!$C$5, Кэшфло!$B$1*(Параметры!$C$6/800*(1+Параметры!$C$6/800)^Параметры!$C$5)/((1+Параметры!$C$6/800)^Параметры!$C$5-1)),\"\")","v":""}]
[{"$f":"IF(A534>=Параметры!$C$5,\"\",A534+1)","v":""},{"$f":"IF(A535<>\"\",IF(Кэшфло!$B$1*(Параметры!$C$6/800*(1+Параметры!$C$6/800)^Параметры!$C$5)/((1+Параметры!$C$6/800)^Параметры!$C$5-1)<(Параметры!$C$3-Параметры!$C$3*Параметры!$C$4)/Параметры!$C$5,(Параметры!$C$3-Параметры!$C$3*Параметры!$C$4)/Параметры!$C$5, Кэшфло!$B$1*(Параметры!$C$6/800*(1+Параметры!$C$6/800)^Параметры!$C$5)/((1+Параметры!$C$6/800)^Параметры!$C$5-1)),\"\")","v":""}]
[{"$f":"IF(A535>=Параметры!$C$5,\"\",A535+1)","v":""},{"$f":"IF(A536<>\"\",IF(Кэшфло!$B$1*(Параметры!$C$6/800*(1+Параметры!$C$6/800)^Параметры!$C$5)/((1+Параметры!$C$6/800)^Параметры!$C$5-1)<(Параметры!$C$3-Параметры!$C$3*Параметры!$C$4)/Параметры!$C$5,(Параметры!$C$3-Параметры!$C$3*Параметры!$C$4)/Параметры!$C$5, Кэшфло!$B$1*(Параметры!$C$6/800*(1+Параметры!$C$6/800)^Параметры!$C$5)/((1+Параметры!$C$6/800)^Параметры!$C$5-1)),\"\")","v":""}]
[{"$f":"IF(A536>=Параметры!$C$5,\"\",A536+1)","v":""},{"$f":"IF(A537<>\"\",IF(Кэшфло!$B$1*(Параметры!$C$6/800*(1+Параметры!$C$6/800)^Параметры!$C$5)/((1+Параметры!$C$6/800)^Параметры!$C$5-1)<(Параметры!$C$3-Параметры!$C$3*Параметры!$C$4)/Параметры!$C$5,(Параметры!$C$3-Параметры!$C$3*Параметры!$C$4)/Параметры!$C$5, Кэшфло!$B$1*(Параметры!$C$6/800*(1+Параметры!$C$6/800)^Параметры!$C$5)/((1+Параметры!$C$6/800)^Параметры!$C$5-1)),\"\")","v":""}]
[{"$f":"IF(A537>=Параметры!$C$5,\"\",A537+1)","v":""},{"$f":"IF(A538<>\"\",IF(Кэшфло!$B$1*(Параметры!$C$6/800*(1+Параметры!$C$6/800)^Параметры!$C$5)/((1+Параметры!$C$6/800)^Параметры!$C$5-1)<(Параметры!$C$3-Параметры!$C$3*Параметры!$C$4)/Параметры!$C$5,(Параметры!$C$3-Параметры!$C$3*Параметры!$C$4)/Параметры!$C$5, Кэшфло!$B$1*(Параметры!$C$6/800*(1+Параметры!$C$6/800)^Параметры!$C$5)/((1+Параметры!$C$6/800)^Параметры!$C$5-1)),\"\")","v":""}]
[{"$f":"IF(A538>=Параметры!$C$5,\"\",A538+1)","v":""},{"$f":"IF(A539<>\"\",IF(Кэшфло!$B$1*(Параметры!$C$6/800*(1+Параметры!$C$6/800)^Параметры!$C$5)/((1+Параметры!$C$6/800)^Параметры!$C$5-1)<(Параметры!$C$3-Параметры!$C$3*Параметры!$C$4)/Параметры!$C$5,(Параметры!$C$3-Параметры!$C$3*Параметры!$C$4)/Параметры!$C$5, Кэшфло!$B$1*(Параметры!$C$6/800*(1+Параметры!$C$6/800)^Параметры!$C$5)/((1+Параметры!$C$6/800)^Параметры!$C$5-1)),\"\")","v":""}]
[{"$f":"IF(A539>=Параметры!$C$5,\"\",A539+1)","v":""},{"$f":"IF(A540<>\"\",IF(Кэшфло!$B$1*(Параметры!$C$6/800*(1+Параметры!$C$6/800)^Параметры!$C$5)/((1+Параметры!$C$6/800)^Параметры!$C$5-1)<(Параметры!$C$3-Параметры!$C$3*Параметры!$C$4)/Параметры!$C$5,(Параметры!$C$3-Параметры!$C$3*Параметры!$C$4)/Параметры!$C$5, Кэшфло!$B$1*(Параметры!$C$6/800*(1+Параметры!$C$6/800)^Параметры!$C$5)/((1+Параметры!$C$6/800)^Параметры!$C$5-1)),\"\")","v":""}]
[{"$f":"IF(A540>=Параметры!$C$5,\"\",A540+1)","v":""},{"$f":"IF(A541<>\"\",IF(Кэшфло!$B$1*(Параметры!$C$6/800*(1+Параметры!$C$6/800)^Параметры!$C$5)/((1+Параметры!$C$6/800)^Параметры!$C$5-1)<(Параметры!$C$3-Параметры!$C$3*Параметры!$C$4)/Параметры!$C$5,(Параметры!$C$3-Параметры!$C$3*Параметры!$C$4)/Параметры!$C$5, Кэшфло!$B$1*(Параметры!$C$6/800*(1+Параметры!$C$6/800)^Параметры!$C$5)/((1+Параметры!$C$6/800)^Параметры!$C$5-1)),\"\")","v":""}]
[{"$f":"IF(A541>=Параметры!$C$5,\"\",A541+1)","v":""},{"$f":"IF(A542<>\"\",IF(Кэшфло!$B$1*(Параметры!$C$6/800*(1+Параметры!$C$6/800)^Параметры!$C$5)/((1+Параметры!$C$6/800)^Параметры!$C$5-1)<(Параметры!$C$3-Параметры!$C$3*Параметры!$C$4)/Параметры!$C$5,(Параметры!$C$3-Параметры!$C$3*Параметры!$C$4)/Параметры!$C$5, Кэшфло!$B$1*(Параметры!$C$6/800*(1+Параметры!$C$6/800)^Параметры!$C$5)/((1+Параметры!$C$6/800)^Параметры!$C$5-1)),\"\")","v":""}]
[{"$f":"IF(A542>=Параметры!$C$5,\"\",A542+1)","v":""},{"$f":"IF(A543<>\"\",IF(Кэшфло!$B$1*(Параметры!$C$6/800*(1+Параметры!$C$6/800)^Параметры!$C$5)/((1+Параметры!$C$6/800)^Параметры!$C$5-1)<(Параметры!$C$3-Параметры!$C$3*Параметры!$C$4)/Параметры!$C$5,(Параметры!$C$3-Параметры!$C$3*Параметры!$C$4)/Параметры!$C$5, Кэшфло!$B$1*(Параметры!$C$6/800*(1+Параметры!$C$6/800)^Параметры!$C$5)/((1+Параметры!$C$6/800)^Параметры!$C$5-1)),\"\")","v":""}]
[{"$f":"IF(A543>=Параметры!$C$5,\"\",A543+1)","v":""},{"$f":"IF(A544<>\"\",IF(Кэшфло!$B$1*(Параметры!$C$6/800*(1+Параметры!$C$6/800)^Параметры!$C$5)/((1+Параметры!$C$6/800)^Параметры!$C$5-1)<(Параметры!$C$3-Параметры!$C$3*Параметры!$C$4)/Параметры!$C$5,(Параметры!$C$3-Параметры!$C$3*Параметры!$C$4)/Параметры!$C$5, Кэшфло!$B$1*(Параметры!$C$6/800*(1+Параметры!$C$6/800)^Параметры!$C$5)/((1+Параметры!$C$6/800)^Параметры!$C$5-1)),\"\")","v":""}]
[{"$f":"IF(A544>=Параметры!$C$5,\"\",A544+1)","v":""},{"$f":"IF(A545<>\"\",IF(Кэшфло!$B$1*(Параметры!$C$6/800*(1+Параметры!$C$6/800)^Параметры!$C$5)/((1+Параметры!$C$6/800)^Параметры!$C$5-1)<(Параметры!$C$3-Параметры!$C$3*Параметры!$C$4)/Параметры!$C$5,(Параметры!$C$3-Параметры!$C$3*Параметры!$C$4)/Параметры!$C$5, Кэшфло!$B$1*(Параметры!$C$6/800*(1+Параметры!$C$6/800)^Параметры!$C$5)/((1+Параметры!$C$6/800)^Параметры!$C$5-1)),\"\")","v":""}]
[{"$f":"IF(A545>=Параметры!$C$5,\"\",A545+1)","v":""},{"$f":"IF(A546<>\"\",IF(Кэшфло!$B$1*(Параметры!$C$6/800*(1+Параметры!$C$6/800)^Параметры!$C$5)/((1+Параметры!$C$6/800)^Параметры!$C$5-1)<(Параметры!$C$3-Параметры!$C$3*Параметры!$C$4)/Параметры!$C$5,(Параметры!$C$3-Параметры!$C$3*Параметры!$C$4)/Параметры!$C$5, Кэшфло!$B$1*(Параметры!$C$6/800*(1+Параметры!$C$6/800)^Параметры!$C$5)/((1+Параметры!$C$6/800)^Параметры!$C$5-1)),\"\")","v":""}]
[{"$f":"IF(A546>=Параметры!$C$5,\"\",A546+1)","v":""},{"$f":"IF(A547<>\"\",IF(Кэшфло!$B$1*(Параметры!$C$6/800*(1+Параметры!$C$6/800)^Параметры!$C$5)/((1+Параметры!$C$6/800)^Параметры!$C$5-1)<(Параметры!$C$3-Параметры!$C$3*Параметры!$C$4)/Параметры!$C$5,(Параметры!$C$3-Параметры!$C$3*Параметры!$C$4)/Параметры!$C$5, Кэшфло!$B$1*(Параметры!$C$6/800*(1+Параметры!$C$6/800)^Параметры!$C$5)/((1+Параметры!$C$6/800)^Параметры!$C$5-1)),\"\")","v":""}]
[{"$f":"IF(A547>=Параметры!$C$5,\"\",A547+1)","v":""},{"$f":"IF(A548<>\"\",IF(Кэшфло!$B$1*(Параметры!$C$6/800*(1+Параметры!$C$6/800)^Параметры!$C$5)/((1+Параметры!$C$6/800)^Параметры!$C$5-1)<(Параметры!$C$3-Параметры!$C$3*Параметры!$C$4)/Параметры!$C$5,(Параметры!$C$3-Параметры!$C$3*Параметры!$C$4)/Параметры!$C$5, Кэшфло!$B$1*(Параметры!$C$6/800*(1+Параметры!$C$6/800)^Параметры!$C$5)/((1+Параметры!$C$6/800)^Параметры!$C$5-1)),\"\")","v":""}]
[{"$f":"IF(A548>=Параметры!$C$5,\"\",A548+1)","v":""},{"$f":"IF(A549<>\"\",IF(Кэшфло!$B$1*(Параметры!$C$6/800*(1+Параметры!$C$6/800)^Параметры!$C$5)/((1+Параметры!$C$6/800)^Параметры!$C$5-1)<(Параметры!$C$3-Параметры!$C$3*Параметры!$C$4)/Параметры!$C$5,(Параметры!$C$3-Параметры!$C$3*Параметры!$C$4)/Параметры!$C$5, Кэшфло!$B$1*(Параметры!$C$6/800*(1+Параметры!$C$6/800)^Параметры!$C$5)/((1+Параметры!$C$6/800)^Параметры!$C$5-1)),\"\")","v":""}]
[{"$f":"IF(A549>=Параметры!$C$5,\"\",A549+1)","v":""},{"$f":"IF(A550<>\"\",IF(Кэшфло!$B$1*(Параметры!$C$6/800*(1+Параметры!$C$6/800)^Параметры!$C$5)/((1+Параметры!$C$6/800)^Параметры!$C$5-1)<(Параметры!$C$3-Параметры!$C$3*Параметры!$C$4)/Параметры!$C$5,(Параметры!$C$3-Параметры!$C$3*Параметры!$C$4)/Параметры!$C$5, Кэшфло!$B$1*(Параметры!$C$6/800*(1+Параметры!$C$6/800)^Параметры!$C$5)/((1+Параметры!$C$6/800)^Параметры!$C$5-1)),\"\")","v":""}]
[{"$f":"IF(A550>=Параметры!$C$5,\"\",A550+1)","v":""},{"$f":"IF(A551<>\"\",IF(Кэшфло!$B$1*(Параметры!$C$6/800*(1+Параметры!$C$6/800)^Параметры!$C$5)/((1+Параметры!$C$6/800)^Параметры!$C$5-1)<(Параметры!$C$3-Параметры!$C$3*Параметры!$C$4)/Параметры!$C$5,(Параметры!$C$3-Параметры!$C$3*Параметры!$C$4)/Параметры!$C$5, Кэшфло!$B$1*(Параметры!$C$6/800*(1+Параметры!$C$6/800)^Параметры!$C$5)/((1+Параметры!$C$6/800)^Параметры!$C$5-1)),\"\")","v":""}]
[{"$f":"IF(A551>=Параметры!$C$5,\"\",A551+1)","v":""},{"$f":"IF(A552<>\"\",IF(Кэшфло!$B$1*(Параметры!$C$6/800*(1+Параметры!$C$6/800)^Параметры!$C$5)/((1+Параметры!$C$6/800)^Параметры!$C$5-1)<(Параметры!$C$3-Параметры!$C$3*Параметры!$C$4)/Параметры!$C$5,(Параметры!$C$3-Параметры!$C$3*Параметры!$C$4)/Параметры!$C$5, Кэшфло!$B$1*(Параметры!$C$6/800*(1+Параметры!$C$6/800)^Параметры!$C$5)/((1+Параметры!$C$6/800)^Параметры!$C$5-1)),\"\")","v":""}]
[{"$f":"IF(A552>=Параметры!$C$5,\"\",A552+1)","v":""},{"$f":"IF(A553<>\"\",IF(Кэшфло!$B$1*(Параметры!$C$6/800*(1+Параметры!$C$6/800)^Параметры!$C$5)/((1+Параметры!$C$6/800)^Параметры!$C$5-1)<(Параметры!$C$3-Параметры!$C$3*Параметры!$C$4)/Параметры!$C$5,(Параметры!$C$3-Параметры!$C$3*Параметры!$C$4)/Параметры!$C$5, Кэшфло!$B$1*(Параметры!$C$6/800*(1+Параметры!$C$6/800)^Параметры!$C$5)/((1+Параметры!$C$6/800)^Параметры!$C$5-1)),\"\")","v":""}]
[{"$f":"IF(A553>=Параметры!$C$5,\"\",A553+1)","v":""},{"$f":"IF(A554<>\"\",IF(Кэшфло!$B$1*(Параметры!$C$6/800*(1+Параметры!$C$6/800)^Параметры!$C$5)/((1+Параметры!$C$6/800)^Параметры!$C$5-1)<(Параметры!$C$3-Параметры!$C$3*Параметры!$C$4)/Параметры!$C$5,(Параметры!$C$3-Параметры!$C$3*Параметры!$C$4)/Параметры!$C$5, Кэшфло!$B$1*(Параметры!$C$6/800*(1+Параметры!$C$6/800)^Параметры!$C$5)/((1+Параметры!$C$6/800)^Параметры!$C$5-1)),\"\")","v":""}]
[{"$f":"IF(A554>=Параметры!$C$5,\"\",A554+1)","v":""},{"$f":"IF(A555<>\"\",IF(Кэшфло!$B$1*(Параметры!$C$6/800*(1+Параметры!$C$6/800)^Параметры!$C$5)/((1+Параметры!$C$6/800)^Параметры!$C$5-1)<(Параметры!$C$3-Параметры!$C$3*Параметры!$C$4)/Параметры!$C$5,(Параметры!$C$3-Параметры!$C$3*Параметры!$C$4)/Параметры!$C$5, Кэшфло!$B$1*(Параметры!$C$6/800*(1+Параметры!$C$6/800)^Параметры!$C$5)/((1+Параметры!$C$6/800)^Параметры!$C$5-1)),\"\")","v":""}]
[{"$f":"IF(A555>=Параметры!$C$5,\"\",A555+1)","v":""},{"$f":"IF(A556<>\"\",IF(Кэшфло!$B$1*(Параметры!$C$6/800*(1+Параметры!$C$6/800)^Параметры!$C$5)/((1+Параметры!$C$6/800)^Параметры!$C$5-1)<(Параметры!$C$3-Параметры!$C$3*Параметры!$C$4)/Параметры!$C$5,(Параметры!$C$3-Параметры!$C$3*Параметры!$C$4)/Параметры!$C$5, Кэшфло!$B$1*(Параметры!$C$6/800*(1+Параметры!$C$6/800)^Параметры!$C$5)/((1+Параметры!$C$6/800)^Параметры!$C$5-1)),\"\")","v":""}]
[{"$f":"IF(A556>=Параметры!$C$5,\"\",A556+1)","v":""},{"$f":"IF(A557<>\"\",IF(Кэшфло!$B$1*(Параметры!$C$6/800*(1+Параметры!$C$6/800)^Параметры!$C$5)/((1+Параметры!$C$6/800)^Параметры!$C$5-1)<(Параметры!$C$3-Параметры!$C$3*Параметры!$C$4)/Параметры!$C$5,(Параметры!$C$3-Параметры!$C$3*Параметры!$C$4)/Параметры!$C$5, Кэшфло!$B$1*(Параметры!$C$6/800*(1+Параметры!$C$6/800)^Параметры!$C$5)/((1+Параметры!$C$6/800)^Параметры!$C$5-1)),\"\")","v":""}]
[{"$f":"IF(A557>=Параметры!$C$5,\"\",A557+1)","v":""},{"$f":"IF(A558<>\"\",IF(Кэшфло!$B$1*(Параметры!$C$6/800*(1+Параметры!$C$6/800)^Параметры!$C$5)/((1+Параметры!$C$6/800)^Параметры!$C$5-1)<(Параметры!$C$3-Параметры!$C$3*Параметры!$C$4)/Параметры!$C$5,(Параметры!$C$3-Параметры!$C$3*Параметры!$C$4)/Параметры!$C$5, Кэшфло!$B$1*(Параметры!$C$6/800*(1+Параметры!$C$6/800)^Параметры!$C$5)/((1+Параметры!$C$6/800)^Параметры!$C$5-1)),\"\")","v":""}]
[{"$f":"IF(A558>=Параметры!$C$5,\"\",A558+1)","v":""},{"$f":"IF(A559<>\"\",IF(Кэшфло!$B$1*(Параметры!$C$6/800*(1+Параметры!$C$6/800)^Параметры!$C$5)/((1+Параметры!$C$6/800)^Параметры!$C$5-1)<(Параметры!$C$3-Параметры!$C$3*Параметры!$C$4)/Параметры!$C$5,(Параметры!$C$3-Параметры!$C$3*Параметры!$C$4)/Параметры!$C$5, Кэшфло!$B$1*(Параметры!$C$6/800*(1+Параметры!$C$6/800)^Параметры!$C$5)/((1+Параметры!$C$6/800)^Параметры!$C$5-1)),\"\")","v":""}]
[{"$f":"IF(A559>=Параметры!$C$5,\"\",A559+1)","v":""},{"$f":"IF(A560<>\"\",IF(Кэшфло!$B$1*(Параметры!$C$6/800*(1+Параметры!$C$6/800)^Параметры!$C$5)/((1+Параметры!$C$6/800)^Параметры!$C$5-1)<(Параметры!$C$3-Параметры!$C$3*Параметры!$C$4)/Параметры!$C$5,(Параметры!$C$3-Параметры!$C$3*Параметры!$C$4)/Параметры!$C$5, Кэшфло!$B$1*(Параметры!$C$6/800*(1+Параметры!$C$6/800)^Параметры!$C$5)/((1+Параметры!$C$6/800)^Параметры!$C$5-1)),\"\")","v":""}]
[{"$f":"IF(A560>=Параметры!$C$5,\"\",A560+1)","v":""},{"$f":"IF(A561<>\"\",IF(Кэшфло!$B$1*(Параметры!$C$6/800*(1+Параметры!$C$6/800)^Параметры!$C$5)/((1+Параметры!$C$6/800)^Параметры!$C$5-1)<(Параметры!$C$3-Параметры!$C$3*Параметры!$C$4)/Параметры!$C$5,(Параметры!$C$3-Параметры!$C$3*Параметры!$C$4)/Параметры!$C$5, Кэшфло!$B$1*(Параметры!$C$6/800*(1+Параметры!$C$6/800)^Параметры!$C$5)/((1+Параметры!$C$6/800)^Параметры!$C$5-1)),\"\")","v":""}]
[{"$f":"IF(A561>=Параметры!$C$5,\"\",A561+1)","v":""},{"$f":"IF(A562<>\"\",IF(Кэшфло!$B$1*(Параметры!$C$6/800*(1+Параметры!$C$6/800)^Параметры!$C$5)/((1+Параметры!$C$6/800)^Параметры!$C$5-1)<(Параметры!$C$3-Параметры!$C$3*Параметры!$C$4)/Параметры!$C$5,(Параметры!$C$3-Параметры!$C$3*Параметры!$C$4)/Параметры!$C$5, Кэшфло!$B$1*(Параметры!$C$6/800*(1+Параметры!$C$6/800)^Параметры!$C$5)/((1+Параметры!$C$6/800)^Параметры!$C$5-1)),\"\")","v":""}]
[{"$f":"IF(A562>=Параметры!$C$5,\"\",A562+1)","v":""},{"$f":"IF(A563<>\"\",IF(Кэшфло!$B$1*(Параметры!$C$6/800*(1+Параметры!$C$6/800)^Параметры!$C$5)/((1+Параметры!$C$6/800)^Параметры!$C$5-1)<(Параметры!$C$3-Параметры!$C$3*Параметры!$C$4)/Параметры!$C$5,(Параметры!$C$3-Параметры!$C$3*Параметры!$C$4)/Параметры!$C$5, Кэшфло!$B$1*(Параметры!$C$6/800*(1+Параметры!$C$6/800)^Параметры!$C$5)/((1+Параметры!$C$6/800)^Параметры!$C$5-1)),\"\")","v":""}]
[{"$f":"IF(A563>=Параметры!$C$5,\"\",A563+1)","v":""},{"$f":"IF(A564<>\"\",IF(Кэшфло!$B$1*(Параметры!$C$6/800*(1+Параметры!$C$6/800)^Параметры!$C$5)/((1+Параметры!$C$6/800)^Параметры!$C$5-1)<(Параметры!$C$3-Параметры!$C$3*Параметры!$C$4)/Параметры!$C$5,(Параметры!$C$3-Параметры!$C$3*Параметры!$C$4)/Параметры!$C$5, Кэшфло!$B$1*(Параметры!$C$6/800*(1+Параметры!$C$6/800)^Параметры!$C$5)/((1+Параметры!$C$6/800)^Параметры!$C$5-1)),\"\")","v":""}]
[{"$f":"IF(A564>=Параметры!$C$5,\"\",A564+1)","v":""},{"$f":"IF(A565<>\"\",IF(Кэшфло!$B$1*(Параметры!$C$6/800*(1+Параметры!$C$6/800)^Параметры!$C$5)/((1+Параметры!$C$6/800)^Параметры!$C$5-1)<(Параметры!$C$3-Параметры!$C$3*Параметры!$C$4)/Параметры!$C$5,(Параметры!$C$3-Параметры!$C$3*Параметры!$C$4)/Параметры!$C$5, Кэшфло!$B$1*(Параметры!$C$6/800*(1+Параметры!$C$6/800)^Параметры!$C$5)/((1+Параметры!$C$6/800)^Параметры!$C$5-1)),\"\")","v":""}]
[{"$f":"IF(A565>=Параметры!$C$5,\"\",A565+1)","v":""},{"$f":"IF(A566<>\"\",IF(Кэшфло!$B$1*(Параметры!$C$6/800*(1+Параметры!$C$6/800)^Параметры!$C$5)/((1+Параметры!$C$6/800)^Параметры!$C$5-1)<(Параметры!$C$3-Параметры!$C$3*Параметры!$C$4)/Параметры!$C$5,(Параметры!$C$3-Параметры!$C$3*Параметры!$C$4)/Параметры!$C$5, Кэшфло!$B$1*(Параметры!$C$6/800*(1+Параметры!$C$6/800)^Параметры!$C$5)/((1+Параметры!$C$6/800)^Параметры!$C$5-1)),\"\")","v":""}]
[{"$f":"IF(A566>=Параметры!$C$5,\"\",A566+1)","v":""},{"$f":"IF(A567<>\"\",IF(Кэшфло!$B$1*(Параметры!$C$6/800*(1+Параметры!$C$6/800)^Параметры!$C$5)/((1+Параметры!$C$6/800)^Параметры!$C$5-1)<(Параметры!$C$3-Параметры!$C$3*Параметры!$C$4)/Параметры!$C$5,(Параметры!$C$3-Параметры!$C$3*Параметры!$C$4)/Параметры!$C$5, Кэшфло!$B$1*(Параметры!$C$6/800*(1+Параметры!$C$6/800)^Параметры!$C$5)/((1+Параметры!$C$6/800)^Параметры!$C$5-1)),\"\")","v":""}]
[{"$f":"IF(A567>=Параметры!$C$5,\"\",A567+1)","v":""},{"$f":"IF(A568<>\"\",IF(Кэшфло!$B$1*(Параметры!$C$6/800*(1+Параметры!$C$6/800)^Параметры!$C$5)/((1+Параметры!$C$6/800)^Параметры!$C$5-1)<(Параметры!$C$3-Параметры!$C$3*Параметры!$C$4)/Параметры!$C$5,(Параметры!$C$3-Параметры!$C$3*Параметры!$C$4)/Параметры!$C$5, Кэшфло!$B$1*(Параметры!$C$6/800*(1+Параметры!$C$6/800)^Параметры!$C$5)/((1+Параметры!$C$6/800)^Параметры!$C$5-1)),\"\")","v":""}]
[{"$f":"IF(A568>=Параметры!$C$5,\"\",A568+1)","v":""},{"$f":"IF(A569<>\"\",IF(Кэшфло!$B$1*(Параметры!$C$6/800*(1+Параметры!$C$6/800)^Параметры!$C$5)/((1+Параметры!$C$6/800)^Параметры!$C$5-1)<(Параметры!$C$3-Параметры!$C$3*Параметры!$C$4)/Параметры!$C$5,(Параметры!$C$3-Параметры!$C$3*Параметры!$C$4)/Параметры!$C$5, Кэшфло!$B$1*(Параметры!$C$6/800*(1+Параметры!$C$6/800)^Параметры!$C$5)/((1+Параметры!$C$6/800)^Параметры!$C$5-1)),\"\")","v":""}]
[{"$f":"IF(A569>=Параметры!$C$5,\"\",A569+1)","v":""},{"$f":"IF(A570<>\"\",IF(Кэшфло!$B$1*(Параметры!$C$6/800*(1+Параметры!$C$6/800)^Параметры!$C$5)/((1+Параметры!$C$6/800)^Параметры!$C$5-1)<(Параметры!$C$3-Параметры!$C$3*Параметры!$C$4)/Параметры!$C$5,(Параметры!$C$3-Параметры!$C$3*Параметры!$C$4)/Параметры!$C$5, Кэшфло!$B$1*(Параметры!$C$6/800*(1+Параметры!$C$6/800)^Параметры!$C$5)/((1+Параметры!$C$6/800)^Параметры!$C$5-1)),\"\")","v":""}]
[{"$f":"IF(A570>=Параметры!$C$5,\"\",A570+1)","v":""},{"$f":"IF(A571<>\"\",IF(Кэшфло!$B$1*(Параметры!$C$6/800*(1+Параметры!$C$6/800)^Параметры!$C$5)/((1+Параметры!$C$6/800)^Параметры!$C$5-1)<(Параметры!$C$3-Параметры!$C$3*Параметры!$C$4)/Параметры!$C$5,(Параметры!$C$3-Параметры!$C$3*Параметры!$C$4)/Параметры!$C$5, Кэшфло!$B$1*(Параметры!$C$6/800*(1+Параметры!$C$6/800)^Параметры!$C$5)/((1+Параметры!$C$6/800)^Параметры!$C$5-1)),\"\")","v":""}]
[{"$f":"IF(A571>=Параметры!$C$5,\"\",A571+1)","v":""},{"$f":"IF(A572<>\"\",IF(Кэшфло!$B$1*(Параметры!$C$6/800*(1+Параметры!$C$6/800)^Параметры!$C$5)/((1+Параметры!$C$6/800)^Параметры!$C$5-1)<(Параметры!$C$3-Параметры!$C$3*Параметры!$C$4)/Параметры!$C$5,(Параметры!$C$3-Параметры!$C$3*Параметры!$C$4)/Параметры!$C$5, Кэшфло!$B$1*(Параметры!$C$6/800*(1+Параметры!$C$6/800)^Параметры!$C$5)/((1+Параметры!$C$6/800)^Параметры!$C$5-1)),\"\")","v":""}]
[{"$f":"IF(A572>=Параметры!$C$5,\"\",A572+1)","v":""},{"$f":"IF(A573<>\"\",IF(Кэшфло!$B$1*(Параметры!$C$6/800*(1+Параметры!$C$6/800)^Параметры!$C$5)/((1+Параметры!$C$6/800)^Параметры!$C$5-1)<(Параметры!$C$3-Параметры!$C$3*Параметры!$C$4)/Параметры!$C$5,(Параметры!$C$3-Параметры!$C$3*Параметры!$C$4)/Параметры!$C$5, Кэшфло!$B$1*(Параметры!$C$6/800*(1+Параметры!$C$6/800)^Параметры!$C$5)/((1+Параметры!$C$6/800)^Параметры!$C$5-1)),\"\")","v":""}]
[{"$f":"IF(A573>=Параметры!$C$5,\"\",A573+1)","v":""},{"$f":"IF(A574<>\"\",IF(Кэшфло!$B$1*(Параметры!$C$6/800*(1+Параметры!$C$6/800)^Параметры!$C$5)/((1+Параметры!$C$6/800)^Параметры!$C$5-1)<(Параметры!$C$3-Параметры!$C$3*Параметры!$C$4)/Параметры!$C$5,(Параметры!$C$3-Параметры!$C$3*Параметры!$C$4)/Параметры!$C$5, Кэшфло!$B$1*(Параметры!$C$6/800*(1+Параметры!$C$6/800)^Параметры!$C$5)/((1+Параметры!$C$6/800)^Параметры!$C$5-1)),\"\")","v":""}]
[{"$f":"IF(A574>=Параметры!$C$5,\"\",A574+1)","v":""},{"$f":"IF(A575<>\"\",IF(Кэшфло!$B$1*(Параметры!$C$6/800*(1+Параметры!$C$6/800)^Параметры!$C$5)/((1+Параметры!$C$6/800)^Параметры!$C$5-1)<(Параметры!$C$3-Параметры!$C$3*Параметры!$C$4)/Параметры!$C$5,(Параметры!$C$3-Параметры!$C$3*Параметры!$C$4)/Параметры!$C$5, Кэшфло!$B$1*(Параметры!$C$6/800*(1+Параметры!$C$6/800)^Параметры!$C$5)/((1+Параметры!$C$6/800)^Параметры!$C$5-1)),\"\")","v":""}]
[{"$f":"IF(A575>=Параметры!$C$5,\"\",A575+1)","v":""},{"$f":"IF(A576<>\"\",IF(Кэшфло!$B$1*(Параметры!$C$6/800*(1+Параметры!$C$6/800)^Параметры!$C$5)/((1+Параметры!$C$6/800)^Параметры!$C$5-1)<(Параметры!$C$3-Параметры!$C$3*Параметры!$C$4)/Параметры!$C$5,(Параметры!$C$3-Параметры!$C$3*Параметры!$C$4)/Параметры!$C$5, Кэшфло!$B$1*(Параметры!$C$6/800*(1+Параметры!$C$6/800)^Параметры!$C$5)/((1+Параметры!$C$6/800)^Параметры!$C$5-1)),\"\")","v":""}]
[{"$f":"IF(A576>=Параметры!$C$5,\"\",A576+1)","v":""},{"$f":"IF(A577<>\"\",IF(Кэшфло!$B$1*(Параметры!$C$6/800*(1+Параметры!$C$6/800)^Параметры!$C$5)/((1+Параметры!$C$6/800)^Параметры!$C$5-1)<(Параметры!$C$3-Параметры!$C$3*Параметры!$C$4)/Параметры!$C$5,(Параметры!$C$3-Параметры!$C$3*Параметры!$C$4)/Параметры!$C$5, Кэшфло!$B$1*(Параметры!$C$6/800*(1+Параметры!$C$6/800)^Параметры!$C$5)/((1+Параметры!$C$6/800)^Параметры!$C$5-1)),\"\")","v":""}]
[{"$f":"IF(A577>=Параметры!$C$5,\"\",A577+1)","v":""},{"$f":"IF(A578<>\"\",IF(Кэшфло!$B$1*(Параметры!$C$6/800*(1+Параметры!$C$6/800)^Параметры!$C$5)/((1+Параметры!$C$6/800)^Параметры!$C$5-1)<(Параметры!$C$3-Параметры!$C$3*Параметры!$C$4)/Параметры!$C$5,(Параметры!$C$3-Параметры!$C$3*Параметры!$C$4)/Параметры!$C$5, Кэшфло!$B$1*(Параметры!$C$6/800*(1+Параметры!$C$6/800)^Параметры!$C$5)/((1+Параметры!$C$6/800)^Параметры!$C$5-1)),\"\")","v":""}]
[{"$f":"IF(A578>=Параметры!$C$5,\"\",A578+1)","v":""},{"$f":"IF(A579<>\"\",IF(Кэшфло!$B$1*(Параметры!$C$6/800*(1+Параметры!$C$6/800)^Параметры!$C$5)/((1+Параметры!$C$6/800)^Параметры!$C$5-1)<(Параметры!$C$3-Параметры!$C$3*Параметры!$C$4)/Параметры!$C$5,(Параметры!$C$3-Параметры!$C$3*Параметры!$C$4)/Параметры!$C$5, Кэшфло!$B$1*(Параметры!$C$6/800*(1+Параметры!$C$6/800)^Параметры!$C$5)/((1+Параметры!$C$6/800)^Параметры!$C$5-1)),\"\")","v":""}]
[{"$f":"IF(A579>=Параметры!$C$5,\"\",A579+1)","v":""},{"$f":"IF(A580<>\"\",IF(Кэшфло!$B$1*(Параметры!$C$6/800*(1+Параметры!$C$6/800)^Параметры!$C$5)/((1+Параметры!$C$6/800)^Параметры!$C$5-1)<(Параметры!$C$3-Параметры!$C$3*Параметры!$C$4)/Параметры!$C$5,(Параметры!$C$3-Параметры!$C$3*Параметры!$C$4)/Параметры!$C$5, Кэшфло!$B$1*(Параметры!$C$6/800*(1+Параметры!$C$6/800)^Параметры!$C$5)/((1+Параметры!$C$6/800)^Параметры!$C$5-1)),\"\")","v":""}]
[{"$f":"IF(A580>=Параметры!$C$5,\"\",A580+1)","v":""},{"$f":"IF(A581<>\"\",IF(Кэшфло!$B$1*(Параметры!$C$6/800*(1+Параметры!$C$6/800)^Параметры!$C$5)/((1+Параметры!$C$6/800)^Параметры!$C$5-1)<(Параметры!$C$3-Параметры!$C$3*Параметры!$C$4)/Параметры!$C$5,(Параметры!$C$3-Параметры!$C$3*Параметры!$C$4)/Параметры!$C$5, Кэшфло!$B$1*(Параметры!$C$6/800*(1+Параметры!$C$6/800)^Параметры!$C$5)/((1+Параметры!$C$6/800)^Параметры!$C$5-1)),\"\")","v":""}]
[{"$f":"IF(A581>=Параметры!$C$5,\"\",A581+1)","v":""},{"$f":"IF(A582<>\"\",IF(Кэшфло!$B$1*(Параметры!$C$6/800*(1+Параметры!$C$6/800)^Параметры!$C$5)/((1+Параметры!$C$6/800)^Параметры!$C$5-1)<(Параметры!$C$3-Параметры!$C$3*Параметры!$C$4)/Параметры!$C$5,(Параметры!$C$3-Параметры!$C$3*Параметры!$C$4)/Параметры!$C$5, Кэшфло!$B$1*(Параметры!$C$6/800*(1+Параметры!$C$6/800)^Параметры!$C$5)/((1+Параметры!$C$6/800)^Параметры!$C$5-1)),\"\")","v":""}]
[{"$f":"IF(A582>=Параметры!$C$5,\"\",A582+1)","v":""},{"$f":"IF(A583<>\"\",IF(Кэшфло!$B$1*(Параметры!$C$6/800*(1+Параметры!$C$6/800)^Параметры!$C$5)/((1+Параметры!$C$6/800)^Параметры!$C$5-1)<(Параметры!$C$3-Параметры!$C$3*Параметры!$C$4)/Параметры!$C$5,(Параметры!$C$3-Параметры!$C$3*Параметры!$C$4)/Параметры!$C$5, Кэшфло!$B$1*(Параметры!$C$6/800*(1+Параметры!$C$6/800)^Параметры!$C$5)/((1+Параметры!$C$6/800)^Параметры!$C$5-1)),\"\")","v":""}]
[{"$f":"IF(A583>=Параметры!$C$5,\"\",A583+1)","v":""},{"$f":"IF(A584<>\"\",IF(Кэшфло!$B$1*(Параметры!$C$6/800*(1+Параметры!$C$6/800)^Параметры!$C$5)/((1+Параметры!$C$6/800)^Параметры!$C$5-1)<(Параметры!$C$3-Параметры!$C$3*Параметры!$C$4)/Параметры!$C$5,(Параметры!$C$3-Параметры!$C$3*Параметры!$C$4)/Параметры!$C$5, Кэшфло!$B$1*(Параметры!$C$6/800*(1+Параметры!$C$6/800)^Параметры!$C$5)/((1+Параметры!$C$6/800)^Параметры!$C$5-1)),\"\")","v":""}]
[{"$f":"IF(A584>=Параметры!$C$5,\"\",A584+1)","v":""},{"$f":"IF(A585<>\"\",IF(Кэшфло!$B$1*(Параметры!$C$6/800*(1+Параметры!$C$6/800)^Параметры!$C$5)/((1+Параметры!$C$6/800)^Параметры!$C$5-1)<(Параметры!$C$3-Параметры!$C$3*Параметры!$C$4)/Параметры!$C$5,(Параметры!$C$3-Параметры!$C$3*Параметры!$C$4)/Параметры!$C$5, Кэшфло!$B$1*(Параметры!$C$6/800*(1+Параметры!$C$6/800)^Параметры!$C$5)/((1+Параметры!$C$6/800)^Параметры!$C$5-1)),\"\")","v":""}]
[{"$f":"IF(A585>=Параметры!$C$5,\"\",A585+1)","v":""},{"$f":"IF(A586<>\"\",IF(Кэшфло!$B$1*(Параметры!$C$6/800*(1+Параметры!$C$6/800)^Параметры!$C$5)/((1+Параметры!$C$6/800)^Параметры!$C$5-1)<(Параметры!$C$3-Параметры!$C$3*Параметры!$C$4)/Параметры!$C$5,(Параметры!$C$3-Параметры!$C$3*Параметры!$C$4)/Параметры!$C$5, Кэшфло!$B$1*(Параметры!$C$6/800*(1+Параметры!$C$6/800)^Параметры!$C$5)/((1+Параметры!$C$6/800)^Параметры!$C$5-1)),\"\")","v":""}]
[{"$f":"IF(A586>=Параметры!$C$5,\"\",A586+1)","v":""},{"$f":"IF(A587<>\"\",IF(Кэшфло!$B$1*(Параметры!$C$6/800*(1+Параметры!$C$6/800)^Параметры!$C$5)/((1+Параметры!$C$6/800)^Параметры!$C$5-1)<(Параметры!$C$3-Параметры!$C$3*Параметры!$C$4)/Параметры!$C$5,(Параметры!$C$3-Параметры!$C$3*Параметры!$C$4)/Параметры!$C$5, Кэшфло!$B$1*(Параметры!$C$6/800*(1+Параметры!$C$6/800)^Параметры!$C$5)/((1+Параметры!$C$6/800)^Параметры!$C$5-1)),\"\")","v":""}]
[{"$f":"IF(A587>=Параметры!$C$5,\"\",A587+1)","v":""},{"$f":"IF(A588<>\"\",IF(Кэшфло!$B$1*(Параметры!$C$6/800*(1+Параметры!$C$6/800)^Параметры!$C$5)/((1+Параметры!$C$6/800)^Параметры!$C$5-1)<(Параметры!$C$3-Параметры!$C$3*Параметры!$C$4)/Параметры!$C$5,(Параметры!$C$3-Параметры!$C$3*Параметры!$C$4)/Параметры!$C$5, Кэшфло!$B$1*(Параметры!$C$6/800*(1+Параметры!$C$6/800)^Параметры!$C$5)/((1+Параметры!$C$6/800)^Параметры!$C$5-1)),\"\")","v":""}]
[{"$f":"IF(A588>=Параметры!$C$5,\"\",A588+1)","v":""},{"$f":"IF(A589<>\"\",IF(Кэшфло!$B$1*(Параметры!$C$6/800*(1+Параметры!$C$6/800)^Параметры!$C$5)/((1+Параметры!$C$6/800)^Параметры!$C$5-1)<(Параметры!$C$3-Параметры!$C$3*Параметры!$C$4)/Параметры!$C$5,(Параметры!$C$3-Параметры!$C$3*Параметры!$C$4)/Параметры!$C$5, Кэшфло!$B$1*(Параметры!$C$6/800*(1+Параметры!$C$6/800)^Параметры!$C$5)/((1+Параметры!$C$6/800)^Параметры!$C$5-1)),\"\")","v":""}]
[{"$f":"IF(A589>=Параметры!$C$5,\"\",A589+1)","v":""},{"$f":"IF(A590<>\"\",IF(Кэшфло!$B$1*(Параметры!$C$6/800*(1+Параметры!$C$6/800)^Параметры!$C$5)/((1+Параметры!$C$6/800)^Параметры!$C$5-1)<(Параметры!$C$3-Параметры!$C$3*Параметры!$C$4)/Параметры!$C$5,(Параметры!$C$3-Параметры!$C$3*Параметры!$C$4)/Параметры!$C$5, Кэшфло!$B$1*(Параметры!$C$6/800*(1+Параметры!$C$6/800)^Параметры!$C$5)/((1+Параметры!$C$6/800)^Параметры!$C$5-1)),\"\")","v":""}]
[{"$f":"IF(A590>=Параметры!$C$5,\"\",A590+1)","v":""},{"$f":"IF(A591<>\"\",IF(Кэшфло!$B$1*(Параметры!$C$6/800*(1+Параметры!$C$6/800)^Параметры!$C$5)/((1+Параметры!$C$6/800)^Параметры!$C$5-1)<(Параметры!$C$3-Параметры!$C$3*Параметры!$C$4)/Параметры!$C$5,(Параметры!$C$3-Параметры!$C$3*Параметры!$C$4)/Параметры!$C$5, Кэшфло!$B$1*(Параметры!$C$6/800*(1+Параметры!$C$6/800)^Параметры!$C$5)/((1+Параметры!$C$6/800)^Параметры!$C$5-1)),\"\")","v":""}]
[{"$f":"IF(A591>=Параметры!$C$5,\"\",A591+1)","v":""},{"$f":"IF(A592<>\"\",IF(Кэшфло!$B$1*(Параметры!$C$6/800*(1+Параметры!$C$6/800)^Параметры!$C$5)/((1+Параметры!$C$6/800)^Параметры!$C$5-1)<(Параметры!$C$3-Параметры!$C$3*Параметры!$C$4)/Параметры!$C$5,(Параметры!$C$3-Параметры!$C$3*Параметры!$C$4)/Параметры!$C$5, Кэшфло!$B$1*(Параметры!$C$6/800*(1+Параметры!$C$6/800)^Параметры!$C$5)/((1+Параметры!$C$6/800)^Параметры!$C$5-1)),\"\")","v":""}]
[null,{"$f":"IF(A593<>\"\",IF(Кэшфло!$B$1*(Параметры!$C$6/800*(1+Параметры!$C$6/800)^Параметры!$C$5)/((1+Параметры!$C$6/800)^Параметры!$C$5-1)<(Параметры!$C$3-Параметры!$C$3*Параметры!$C$4)/Параметры!$C$5,(Параметры!$C$3-Параметры!$C$3*Параметры!$C$4)/Параметры!$C$5, Кэшфло!$B$1*(Параметры!$C$6/800*(1+Параметры!$C$6/800)^Параметры!$C$5)/((1+Параметры!$C$6/800)^Параметры!$C$5-1)),\"\")","v":""}]
[null,{"$f":"IF(A594<>\"\",IF(Кэшфло!$B$1*(Параметры!$C$6/800*(1+Параметры!$C$6/800)^Параметры!$C$5)/((1+Параметры!$C$6/800)^Параметры!$C$5-1)<(Параметры!$C$3-Параметры!$C$3*Параметры!$C$4)/Параметры!$C$5,(Параметры!$C$3-Параметры!$C$3*Параметры!$C$4)/Параметры!$C$5, Кэшфло!$B$1*(Параметры!$C$6/800*(1+Параметры!$C$6/800)^Параметры!$C$5)/((1+Параметры!$C$6/800)^Параметры!$C$5-1)),\"\")","v":""}]

{"sheet":"Параметры","index":1,"n_rows":7,"n_cols":7,"rows_kept":7,"cut":false,"hidden":false,"merged":[[0,1,0,2],[0,3,0,4],[0,0,6,0]]}
[null,"Условия вход (введите данные)",null,"Условия выход",null,null,{"$f":"IRR(Кэшфло!B3:B180)*12","v":0.27671194085566375}]
[null,"Наименование предмета лизинга","OneGroupCompany","Сумма договора лизинга",{"$f":"SUM(Кэшфло!B4:B548)+График!B12","v":897857.72327565146}]
[null,"Стоимость предмета лизинга, руб.",771066.6,"Размер ежемесячного платежа",{"$f":"Кэшфло!B4","v":61970.366939637628}]
[null,"Размер аванса, %",0.2,"Согласование расчета",{"$f":"IF($G$1>0.27, \"Расчет одобрен\", \"Расчет отклонен\")","v":"Расчет одобрен"}]
[null,"Срок лизинга, мес.",12,"Удорожание",{"$f":"(E2/C3-1)/Кэшфло!C1","v":0.16443602054044559}]
[null,"Коэффициент доходности",24]
[null,"Размер скидки, %",0]

{"sheet":"График","index":2,"n_rows":32,"n_cols":6,"rows_kept":32,"cut":false,"hidden":false,"merged":[[4,2,4,5],[5,2,5,5],[6,2,6,5],[7,2,7,5],[9,0,9,5],[4,0,4,1],[8,2,8,5],[7,0,7,1],[8,0,8,1],[5,0,5,1],[6,0,6,1],[0,0,0,5],[1,0,1,1],[1,2,1,5],[2,0,2,5],[3,0,3,1],[3,2,3,5]]}
["Предмет лизинга"]
["Марка/модель",null,{"$f":"Параметры!C2","v":"OneGroupCompany"}]
["Условия финансовой аренды (лизинга)"]
["Стоимость предмета лизинга, руб.",null,{"$f":"Параметры!C3","v":771066.6}]
["Срок лизинга, мес.",null,{"$f":"Параметры!C5","v":12}]
["Сумма договора лизинга, руб.",null,{"$f":"Параметры!E2","v":897857.72327565146}]
["Аванс, %",null,{"$f":"Параметры!C4","v":0.2}]
["Удорожание, %",null,{"$f":"Параметры!E5","v":0.16443602054044559}]
["Выкупная стоимость, руб.",null,1500]
["График лизинговых платежей"]
["Наименование платежа","Сумма платежа","Наименование платежа","Сумма платежа","Наименование платежа","Сумма платежа"]
["Аванс",{"$f":"Параметры!C3*Параметры!C4","v":154213.32},{"$f":"IF(Кэшфло!A24<>\"\",\"21-й платеж\",\"-\")","v":"-"},{"$f":"IF(Кэшфло!A24<>\"\",Кэшфло!B24,\"-\")","v":"-"},{"$f":"IF(Кэшфло!A45<>\"\",\"42-й платеж\",\"-\")","v":"-"},{"$f":"IF(Кэшфло!A45<>\"\",Кэшфло!B45,\"-\")","v":"-"}]
[{"$f":"IF(Кэшфло!A4<>\"\",\"1-й платеж\",\"-\")","v":"1-й платеж"},{"$f":"IF(Кэшфло!A4<>\"\",Кэшфло!B4,\"-\")","v":61970.366939637628},{"$f":"IF(Кэшфло!A25<>\"\",\"22-й платеж\",\"-\")","v":"-"},{"$f":"IF(Кэшфло!A25<>\"\",Кэшфло!B25,\"-\")","v":"-"},{"$f":"IF(Кэшфло!A46<>\"\",\"43-й платеж\",\"-\")","v":"-"},{"$f":"IF(Кэшфло!A46<>\"\",Кэшфло!B46,\"-\")","v":"-"}]
[{"$f":"IF(Кэшфло!A5<>\"\",\"2-й платеж\",\"-\")","v":"2-й платеж"},{"$f":"IF(Кэшфло!A5<>\"\",Кэшфло!B5,\"-\")","v":61970.366939637628},{"$f":"IF(Кэшфло!A26<>\"\",\"23-й платеж\",\"-\")","v":"-"},{"$f":"IF(Кэшфло!A26<>\"\",Кэшфло!B26,\"-\")","v":"-"},{"$f":"IF(Кэшфло!A47<>\"\",\"44-й платеж\",\"-\")","v":"-"},{"$f":"IF(Кэшфло!A47<>\"\",Кэшфло!B47,\"-\")","v":"-"}]
[{"$f":"IF(Кэшфло!A6<>\"\",\"3-й платеж\",\"-\")","v":"3-й платеж"},{"$f":"IF(Кэшфло!A6<>\"\",Кэшфло!B6,\"-\")","v":61970.366939637628},{"$f":"IF(Кэшфло!A27<>\"\",\"24-й платеж\",\"-\")","v":"-"},{"$f":"IF(Кэшфло!A27<>\"\",Кэшфло!B27,\"-\")","v":"-"},{"$f":"IF(Кэшфло!A48<>\"\",\"45-й платеж\",\"-\")","v":"-"},{"$f":"IF(Кэшфло!A48<>\"\",Кэшфло!B48,\"-\")","v":"-"}]
[{"$f":"IF(Кэшфло!A7<>\"\",\"4-й платеж\",\"-\")","v":"4-й платеж"},{"$f":"IF(Кэшфло!A7<>\"\",Кэшфло!B7,\"-\")","v":61970.366939637628},{"$f":"IF(Кэшфло!A28<>\"\",\"25-й платеж\",\"-\")","v":"-"},{"$f":"IF(Кэшфло!A28<>\"\",Кэшфло!B28,\"-\")","v":"-"},{"$f":"IF(Кэшфло!A49<>\"\",\"46-й платеж\",\"-\")","v":"-"},{"$f":"IF(Кэшфло!A49<>\"\",Кэшфло!B49,\"-\")","v":"-"}]
[{"$f":"IF(Кэшфло!A8<>\"\",\"5-й платеж\",\"-\")","v":"5-й платеж"},{"$f":"IF(Кэшфло!A8<>\"\",Кэшфло!B8,\"-\")","v":61970.366939637628},{"$f":"IF(Кэшфло!A29<>\"\",\"26-й платеж\",\"-\")","v":"-"},{"$f":"IF(Кэшфло!A29<>\"\",Кэшфло!B29,\"-\")","v":"-"},{"$f":"IF(Кэшфло!A50<>\"\",\"47-й платеж\",\"-\")","v":"-"},{"$f":"IF(Кэшфло!A50<>\"\",Кэшфло!B50,\"-\")","v":"-"}]
[{"$f":"IF(Кэшфло!A9<>\"\",\"6-й платеж\",\"-\")","v":"6-й платеж"},{"$f":"IF(Кэшфло!A9<>\"\",Кэшфло!B9,\"-\")","v":61970.366939637628},{"$f":"IF(Кэшфло!A30<>\"\",\"27-й платеж\",\"-\")","v":"-"},{"$f":"IF(Кэшфло!A30<>\"\",Кэшфло!B30,\"-\")","v":"-"},{"$f":"IF(Кэшфло!A51<>\"\",\"48-й платеж\",\"-\")","v":"-"},{"$f":"IF(Кэшфло!A51<>\"\",Кэшфло!B51,\"-\")","v":"-"}]
[{"$f":"IF(Кэшфло!A10<>\"\",\"7-й платеж\",\"-\")","v":"7-й платеж"},{"$f":"IF(Кэшфло!A10<>\"\",Кэшфло!B10,\"-\")","v":61970.366939637628},{"$f":"IF(Кэшфло!A31<>\"\",\"28-й платеж\",\"-\")","v":"-"},{"$f":"IF(Кэшфло!A31<>\"\",Кэшфло!B31,\"-\")","v":"-"},{"$f":"IF(Кэшфло!A52<>\"\",\"49-й платеж\",\"-\")","v":"-"},{"$f":"IF(Кэшфло!A52<>\"\",Кэшфло!B52,\"-\")","v":"-"}]
[{"$f":"IF(Кэшфло!A11<>\"\",\"8-й платеж\",\"-\")","v":"8-й платеж"},{"$f":"IF(Кэшфло!A11<>\"\",Кэшфло!B11,\"-\")","v":61970.366939637628},{"$f":"IF(Кэшфло!A32<>\"\",\"29-й платеж\",\"-\")","v":"-"},{"$f":"IF(Кэшфло!A32<>\"\",Кэшфло!B32,\"-\")","v":"-"},{"$f":"IF(Кэшфло!A53<>\"\",\"50-й платеж\",\"-\")","v":"-"},{"$f":"IF(Кэшфло!A53<>\"\",Кэшфло!B53,\"-\")","v":"-"}]
[{"$f":"IF(Кэшфло!A12<>\"\",\"9-й платеж\",\"-\")","v":"9-й платеж"},{"$f":"IF(Кэшфло!A12<>\"\",Кэшфло!B12,\"-\")","v":61970.366939637628},{"$f":"IF(Кэшфло!A33<>\"\",\"30-й платеж\",\"-\")","v":"-"},{"$f":"IF(Кэшфло!A33<>\"\",Кэшфло!B33,\"-\")","v":"-"},{"$f":"IF(Кэшфло!A54<>\"\",\"51-й платеж\",\"-\")","v":"-"},{"$f":"IF(Кэшфло!A54<>\"\",Кэшфло!B54,\"-\")","v":"-"}]
[{"$f":"IF(Кэшфло!A13<>\"\",\"10-й платеж\",\"-\")","v":"10-й платеж"},{"$f":"IF(Кэшфло!A13<>\"\",Кэшфло!B13,\"-\")","v":61970.366939637628},{"$f":"IF(Кэшфло!A34<>\"\",\"31-й платеж\",\"-\")","v":"-"},{"$f":"IF(Кэшфло!A34<>\"\",Кэшфло!B34,\"-\")","v":"-"},{"$f":"IF(Кэшфло!A55<>\"\",\"52-й платеж\",\"-\")","v":"-"},{"$f":"IF(Кэшфло!A55<>\"\",Кэшфло!B55,\"-\")","v":"-"}]
[{"$f":"IF(Кэшфло!A14<>\"\",\"11-й платеж\",\"-\")","v":"11-й платеж"},{"$f":"IF(Кэшфло!A14<>\"\",Кэшфло!B14,\"-\")","v":61970.366939637628},{"$f":"IF(Кэшфло!A35<>\"\",\"32-й платеж\",\"-\")","v":"-"},{"$f":"IF(Кэшфло!A35<>\"\",Кэшфло!B35,\"-\")","v":"-"},{"$f":"IF(Кэшфло!A56<>\"\",\"53-й платеж\",\"-\")","v":"-"},{"$f":"IF(Кэшфло!A56<>\"\",Кэшфло!B56,\"-\")","v":"-"}]
[{"$f":"IF(Кэшфло!A15<>\"\",\"12-й платеж\",\"-\")","v":"12-й платеж"},{"$f":"IF(Кэшфло!A15<>\"\",Кэшфло!B15,\"-\")","v":61970.366939637628},{"$f":"IF(Кэшфло!A36<>\"\",\"33-й платеж\",\"-\")","v":"-"},{"$f":"IF(Кэшфло!A36<>\"\",Кэшфло!B36,\"-\")","v":"-"},{"$f":"IF(Кэшфло!A57<>\"\",\"54-й платеж\",\"-\")","v":"-"},{"$f":"IF(Кэшфло!A57<>\"\",Кэшфло!B57,\"-\")","v":"-"}]
[{"$f":"IF(Кэшфло!A16<>\"\",\"13-й платеж\",\"-\")","v":"-"},{"$f":"IF(Кэшфло!A16<>\"\",Кэшфло!B16,\"-\")","v":"-"},{"$f":"IF(Кэшфло!A37<>\"\",\"34-й платеж\",\"-\")","v":"-"},{"$f":"IF(Кэшфло!A37<>\"\",Кэшфло!B37,\"-\")","v":"-"},{"$f":"IF(Кэшфло!A58<>\"\",\"55-й платеж\",\"-\")","v":"-"},{"$f":"IF(Кэшфло!A58<>\"\",Кэшфло!B58,\"-\")","v":"-"}]
[{"$f":"IF(Кэшфло!A17<>\"\",\"14-й платеж\",\"-\")","v":"-"},{"$f":"IF(Кэшфло!A17<>\"\",Кэшфло!B17,\"-\")","v":"-"},{"$f":"IF(Кэшфло!A38<>\"\",\"35-й платеж\",\"-\")","v":"-"},{"$f":"IF(Кэшфло!A38<>\"\",Кэшфло!B38,\"-\")","v":"-"},{"$f":"IF(Кэшфло!A59<>\"\",\"56-й платеж\",\"-\")","v":"-"},{"$f":"IF(Кэшфло!A59<>\"\",Кэшфло!B59,\"-\")","v":"-"}]
[{"$f":"IF(Кэшфло!A18<>\"\",\"15-й платеж\",\"-\")","v":"-"},{"$f":"IF(Кэшфло!A18<>\"\",Кэшфло!B18,\"-\")","v":"-"},{"$f":"IF(Кэшфло!A39<>\"\",\"36-й платеж\",\"-\")","v":"-"},{"$f":"IF(Кэшфло!A39<>\"\",Кэшфло!B39,\"-\")","v":"-"},{"$f":"IF(Кэшфло!A60<>\"\",\"57-й платеж\",\"-\")","v":"-"},{"$f":"IF(Кэшфло!A60<>\"\",Кэшфло!B60,\"-\")","v":"-"}]
[{"$f":"IF(Кэшфло!A19<>\"\",\"16-й платеж\",\"-\")","v":"-"},{"$f":"IF(Кэшфло!A19<>\"\",Кэшфло!B19,\"-\")","v":"-"},{"$f":"IF(Кэшфло!A40<>\"\",\"37-й платеж\",\"-\")","v":"-"},{"$f":"IF(Кэшфло!A40<>\"\",Кэшфло!B40,\"-\")","v":"-"},{"$f":"IF(Кэшфло!A61<>\"\",\"58-й платеж\",\"-\")","v":"-"},{"$f":"IF(Кэшфло!A61<>\"\",Кэшфло!B61,\"-\")","v":"-"}]
[{"$f":"IF(Кэшфло!A20<>\"\",\"17-й платеж\",\"-\")","v":"-"},{"$f":"IF(Кэшфло!A20<>\"\",Кэшфло!B20,\"-\")","v":"-"},{"$f":"IF(Кэшфло!A41<>\"\",\"38-й платеж\",\"-\")","v":"-"},{"$f":"IF(Кэшфло!A41<>\"\",Кэшфло!B41,\"-\")","v":"-"},{"$f":"IF(Кэшфло!A62<>\"\",\"59-й платеж\",\"-\")","v":"-"},{"$f":"IF(Кэшфло!A62<>\"\",Кэшфло!B62,\"-\")","v":"-"}]
[{"$f":"IF(Кэшфло!A21<>\"\",\"18-й платеж\",\"-\")","v":"-"},{"$f":"IF(Кэшфло!A21<>\"\",Кэшфло!B21,\"-\")","v":"-"},{"$f":"IF(Кэшфло!A42<>\"\",\"39-й платеж\",\"-\")","v":"-"},{"$f":"IF(Кэшфло!A42<>\"\",Кэшфло!B42,\"-\")","v":"-"},{"$f":"IF(Кэшфло!A63<>\"\",\"60-й платеж\",\"-\")","v":"-"},{"$f":"IF(Кэшфло!A63<>\"\",Кэшфло!B63,\"-\")","v":"-"}]
[{"$f":"IF(Кэшфло!A22<>\"\",\"19-й платеж\",\"-\")","v":"-"},{"$f":"IF(Кэшфло!A22<>\"\",Кэшфло!B22,\"-\")","v":"-"},{"$f":"IF(Кэшфло!A43<>\"\",\"40-й платеж\",\"-\")","v":"-"},{"$f":"IF(Кэшфло!A43<>\"\",Кэшфло!B43,\"-\")","v":"-"},{"$f":"IF(Кэшфло!A64<>\"\",\"62-й платеж\",\"-\")","v":"-"},{"$f":"IF(Кэшфло!A64<>\"\",Кэшфло!B64,\"-\")","v":"-"}]
[{"$f":"IF(Кэшфло!A23<>\"\",\"20-й платеж\",\"-\")","v":"-"},{"$f":"IF(Кэшфло!A23<>\"\",Кэшфло!B23,\"-\")","v":"-"},{"$f":"IF(Кэшфло!A44<>\"\",\"41-й платеж\",\"-\")","v":"-"},{"$f":"IF(Кэшфло!A44<>\"\",Кэшфло!B44,\"-\")","v":"-"},{"$f":"IF(Кэшфло!A65<>\"\",\"63-й платеж\",\"-\")","v":"-"},{"$f":"IF(Кэшфло!A65<>\"\",Кэшфло!B65,\"-\")","v":"-"}]